Workbook

Sheet شيفت 
A1: چهار شنبه | B1: بهمن 1 | C1: سردبیران | D1: کمکی | E1: سردبیر دورکار | F1: تحریریه ها | H1: 1 | I1: 2 | J1: 3 | K1: 4 | L1: 5 | M1: 6 | N1: حضوری | O1: حضوری | P1: حضوری | Q1: حضوری | R1: حضوری | T1: انگلیسی صبح | X1: انگليسي عصر | AC1: عربی صبح | AG1: عربي عصر | AK1: فرانسه صبح | AO1: فرانسه عصر | AS1: زبانهاي دیگر | AV1: شب و نيمه شب
A2: سردبیر انگلیسی | B2: حاج محمدی | F2: انگليسي | G2: صبح | H2: پایش مکتوب | K2: پایش تصویری | N2: تصویر حضور1 /2 | S2: تصویری دور | AC2: خام انگلیسی | AD2: =RG41 -> *حا ج محمدی- **************************************************حیدری-**** | AS2: مشاهده کارويژه هاي شيفت روز | BB2: عربي //// عربي //// عربي صبح و عصر | DT2: عربي شب و نيمه شب
B3: پاشا | F3: عربي | G3: صبح | H3: پایش 1 / نشریات... | N3: تصویرحضور1/2/3/4 | S3: تصویری دور | AC3: خام عربی | AD3: =RG5 -> ******************************** | AS3: ککارویژه انگلیسی : تصویر انگلیسی1:BBC-FR24- FOX- PRESS تصویر انگليسي2: CNN-CCTV-NHK-الجزيره انگليسي تصویر انگليسي3: REUTERS-AP – راشا – بلومبرگ- يورو نيوز تصویر انگليسي4: شات شبکه هاي بدون لوگو پايش مکتوب 1: 1- انديشکده ها 2- خبرهاي ايران 3- سايت رسمي کشورها 4-توئیت شخصیتهای مهم جهان پایش مکتوب 2 :1- تصوير گوناگون از تويتر و يوتيوپ و .. 3- نشريات انگليسي و آمريکايي غير ايران پایش تصاویر : 1 میز آمریکا- 2میز اروپا –3 میز آسیا کارویژه های عربی : تصویر عربي1 : عالم-مسيره-اخباريه سوريه-لولو-منار-قدس تصویر عربي2: ميادين-عربيه-جزيره و جزيره مباشر- حدث تصویر عربي3: روسيااليوم- اخباريه سعودي- عراقيه- تصویر عربي4:اسکاي عربي-BBC-فلسطين اليوم کارويژه پايش یک عربي: 1- پایگاه ها 2-روزنامه ها 3- اندیشکده ها 4- خبرگزاریها کارویژه پایش دوعربی: منابع تصویری ( پایگاه شبکه ها و یوتیوپ ) فضای مجازی( توئیتر و فیس بوک و اینستا گرام و ... ) کارويژه هاي فرانسه الف - کارویژه یک -شبکه ها تصويري (فرانس 24 – تي وي پنج- ب اف ام تي وي ) -شبکه هاي راديويي ( راديو بين المللي فرانسه- يوروپ 1- ) انديشکده ها و تصويري توئيتر- ب- کارويژه دو: - خبرگزاريها - اينترنت - انديشکده ها - توئيت ها | BB3: اسامي | BD3: هاشمی | BF3: چراغی | BH3: ولد محمدي | BJ3: رضايي | BL3: پاشا | BN3: علوی | BP3: عبدالهی | BR3: حسین خانی | BT3: م اله بخش | BV3: کبريايي | BX3: ميرکريمي | BZ3: امیدی | CB3: مجلسي | CD3: گرجی نژاد | CF3: رضا حسيني | CH3: حاجعلیپور | CJ3: قوي دل | CL3: محمدي | CN3: داداشي | CP3: کاظميني | CR3: بازرگان | CT3: نويد | CV3: طالبي | CX3: بهشتي | DJ3: اسامي | DL3: سلوکي | DN3: برزنونی | DP3: برزنونی | DR3: سالمی | DT3: اسامي | DV3: سالمی | DX3: عبدالهي | DZ3: ميرکريمي | EB3: علوی | ED3: سلوکی | EF3: حسین خانی | ET3: اسامي | EV3: هاشمی | EX3: چراغی | EZ3: ولد محمدي | FB3: رضايي | FD3: پاشا | FF3: علوی | FH3: عبدالهی | FJ3: حسین خانی | FL3: م اله بخش | FN3: کبريايي | FP3: ميرکريمي | FR3: امیدی | FT3: مجلسي | FV3: گرجی نژاد | FX3: رضا حسيني | FZ3: حاجعلیپور | GB3: قوي دل | GD3: محمدي | GF3: داداشي | GH3: کاظميني | GJ3: بازرگان | GL3: نويد | GN3: طالبي | GP3: بهشتي | HB3: اسامي | HD3: سلوکي | HF3: برزنونی | HH3: برزنونی | HJ3: سالمی | HL3: اسامي | HN3: سالمی | HP3: عبدالهي | HR3: ميرکريمي | HT3: علوی | HV3: سلوکی | HX3: حسين خاني | HZ3: علوي | IB3: زارع زاده | ID3: هاشمي | IF3: سلوکي | IH3: زارع
A4: مترجم همزمان و سردبیر فرانسه | B4: حاج محمدی | F4: فرانسه و.. | G4: صبح | H4: شبکه های تصویری و نشریات فرانسه | N4: تصویری حضوری | P4: تصویری دور | V4: زبانهای دیگر | Y4: تدوین و دبیران | Z4: ابراهیمی | AC4: خام فرانسه | AD4: =RG77 -> ***************** | AM4: تدوین و دوبیران | AN4: =RG113 -> ******************* | BB4: تاريخ | BC4: روز | BD4: صبح | BE4: عصر | BF4: صبح | BG4: عصر | BH4: صبح | BI4: عصر | BJ4: صبح | BK4: عصر | BL4: صبح | BM4: عصر | BN4: صبح | BO4: عصر | BP4: صبح | BQ4: عصر | BR4: صبح | BS4: عصر | BT4: صبح | BU4: عصر | BV4: صبح | BW4: عصر | BX4: صبح | BY4: عصر | BZ4: صبح | CA4: عصر | CB4: صبح | CC4: عصر | CD4: صبح | CE4: عصر | CF4: صبح | CG4: عصر | CH4: صبح | CI4: عصر | CJ4: صبح | CK4: عصر | CL4: صبح | CM4: عصر | CN4: صبح | CO4: عصر | CP4: صبح | CQ4: عصر | CR4: صبح | CS4: عصر | CT4: صبح | CU4: عصر | CV4: صبح | CW4: عصر | CX4: صبح | CY4: عصر | CZ4: صبح | DA4: عصر | DB4: صبح | DC4: عصر | DD4: صبح | DE4: عصر | DF4: صبح | DG4: عصر | DH4: صبح | DI4: عصر | DJ4: تاريخ | DK4: روز | DL4: صبح | DM4: عصر | DN4: صبح | DO4: عصر | DP4: شب و | DQ4: بامداد | DR4: صبح | DS4: عصر | DT4: تاريخ | DU4: روز | DV4: شب | DW4: بامداد | DX4: شب | DY4: بامداد | DZ4: شب | EA4: بامداد | EB4: شب | EC4: بامداد | ED4: شب | EE4: بامداد | EF4: شب | EG4: بامداد | EH4: شب | EI4: بامداد | EJ4: شب | EK4: بامداد | EL4: شب | EM4: بامداد | EN4: شب | EO4: بامداد | ET4: تاريخ | EU4: روز | EV4: صبح | EW4: عصر | EX4: صبح | EY4: عصر | EZ4: صبح | FA4: عصر | FB4: صبح | FC4: عصر | FD4: صبح | FE4: عصر | FF4: صبح | FG4: عصر | FH4: صبح | FI4: عصر | FJ4: صبح | FK4: عصر | FL4: صبح | FM4: عصر | FN4: صبح | FO4: عصر | FP4: صبح | FQ4: عصر | FR4: صبح | FS4: عصر | FT4: صبح | FU4: عصر | FV4: صبح | FW4: عصر | FX4: صبح | FY4: عصر | FZ4: صبح | GA4: عصر | GB4: صبح | GC4: عصر | GD4: صبح | GE4: عصر | GF4: صبح | GG4: عصر | GH4: صبح | GI4: عصر | GJ4: صبح | GK4: عصر | GL4: صبح | GM4: عصر | GN4: صبح | GO4: عصر | GP4: صبح | GQ4: عصر | GR4: صبح | GS4: عصر | GT4: صبح | GU4: عصر | GV4: صبح | GW4: عصر | GX4: صبح | GY4: عصر | GZ4: صبح | HA4: عصر | HB4: تاريخ | HC4: روز | HD4: صبح | HE4: عصر | HF4: صبح | HG4: عصر | HH4: شب | HI4: بامداد | HJ4: صبح | HK4: عصر | HL4: تاريخ | HM4: روز | HN4: شب | HO4: بامداد | HP4: شب | HQ4: بامداد | HR4: شب | HS4: بامداد | HT4: شب | HU4: بامداد | HV4: شب | HW4: بامداد | HX4: شب | HY4: بامداد | HZ4: شب | IA4: بامداد | IB4: شب | IC4: بامداد | ID4: شب | IE4: بامداد | IF4: شب | IG4: بامداد | RD4: تاريخ | RE4: روز
A5: سردبیر انگلیسی | B5: علیمیرزایی | F5: انگليسي | G5: عصر | H5: پایش مکتوب | K5: پایش تصویری | N5: تصویر حضور1 /2 | S5: تصویری دور | AC5: خام انگلیسی | AD5: =RJ41 -> ********************************************************* | BB5: 1 | BC5: دوشنبه | BD5: * | BE5: * | BF5: * | BG5: * | BH5: * | BI5: * | BJ5: * | BK5: * | BL5: * | BM5: * | BN5: * | BO5: * | BP5: * | BQ5: * | BR5: * | BS5: * | BT5: * | BU5: * | BV5: * | BW5: * | BX5: * | BY5: * | BZ5: * | CA5: * | CB5: * | CC5: * | CD5: * | CE5: * | CF5: * | CG5: * | CH5: * | CI5: * | CJ5: * | CK5: * | CL5: * | CM5: * | CN5: * | CO5: * | CP5: * | CQ5: * | CR5: * | CS5: * | CT5: * | CU5: * | CV5: * | CW5: * | CX5: * | CY5: * | CZ5: * | DA5: * | DB5: * | DC5: * | DD5: * | DE5: * | DF5: * | DG5: * | DH5: * | DI5: * | DJ5: =BB5 -> 1 | DK5: =#REF! -> #REF! | DL5: * | DM5: * | DN5: * | DO5: * | DP5: * | DQ5: * | DR5: * | DS5: * | DT5: =BB5 -> 1 | DU5: =#REF! -> #REF! | DV5: * | DW5: * | DX5: * | DY5: * | DZ5: * | EA5: * | EB5: * | EC5: * | ED5: * | EE5: * | EF5: * | EG5: * | EH5: * | EI5: * | EJ5: * | EK5: * | EL5: * | EM5: * | EN5: * | EO5: * | ET5: =BB5 -> 1 | EU5: =#REF! -> #REF! | EV5: =TEXT(BD5,"هاشمی-") -> * | EW5: =TEXT(BE5,"هاشمی-") -> * | EX5: =TEXT(BF5,"چراغی-") -> * | EY5: =TEXT(BG5,"چراغي-") -> * | EZ5: =TEXT(BH5,"ولدمحمدي-") -> * | FA5: =TEXT(BI5,"ولدمحمدي-") -> * | FB5: =TEXT(BJ5,"رضايي-") -> * | FC5: =TEXT(BK5,"رضايي-") -> * | FD5: =TEXT(BL5,"پاشا-") -> * | FE5: =TEXT(BM5,"پاشا-") -> * | FF5: =TEXT(BN5,"علوی-") -> * | FG5: =TEXT(BO5,"علوی-") -> * | FH5: =TEXT(BP5,"عبدالهی-") -> * | FI5: =TEXT(BQ5,"عبدالهی-") -> * | FJ5: =TEXT(BR5,"حسینخانی-") -> * | FK5: =TEXT(BS5,"حسین خانی-") -> * | FL5: =TEXT(BT5,"م ا له بخش-") -> * | FM5: =TEXT(BU5,"م اله بخش-") -> * | FN5: =TEXT(BV5,"کبريايي-") -> * | FO5: =TEXT(BW5,"کبريايي-") -> * | FP5: =TEXT(BX5,"ميرکريمي-") -> * | FQ5: =TEXT(BY5,"ميرکريمي-") -> * | FR5: =TEXT(BZ5,"امیدی-") -> * | FS5: =TEXT(CA5,"امیدي - ") -> * | FT5: =TEXT(CB5,"مجلسي-") -> * | FU5: =TEXT(CC5,"مجلسي-") -> * | FV5: =TEXT(CD5,"گرجی - ") -> * | FW5: =TEXT(CE5,"گرجي-") -> * | FX5: =TEXT(CF5,"رضاحسيني-") -> * | FY5: =TEXT(CG5,"رضاحسيني-") -> * | FZ5: =TEXT(CH5,"حاجعلیپور-") -> * | GA5: =TEXT(CI5," حاجعلیپور-") -> * | GB5: =TEXT(CJ5,"قویدل-") -> * | GC5: =TEXT(CK5," قویدل-") -> * | GD5: =TEXT(CL5,"محمدي-") -> * | GE5: =TEXT(CM5,"محمدي-") -> * | GF5: =TEXT(CN5,"داداشي-") -> * | GG5: =TEXT(CO5,"داداشي-") -> * | GH5: =TEXT(CP5,"کاظميني - ") -> * | GI5: =TEXT(CQ5,"کاظميني -") -> * | GJ5: =TEXT(CR5,"بازرگان-") -> * | GK5: =TEXT(CS5,"بازرگان-") -> * | GL5: =TEXT(CT5,"نويد-") -> * | GM5: =TEXT(CU5,"نويد-") -> * | GN5: =TEXT(CV5,"طالبي-") -> * | GO5: =TEXT(CW5,"طالبي-") -> * | GP5: =TEXT(CX5,"بهشتي-") -> * | GQ5: =TEXT(CY5,"بهشتي-") -> * | GR5: =TEXT(CZ5,"علوی-") -> * | GS5: =TEXT(DA5,"علوی-") -> * | GT5: =TEXT(DB5,"اميدي-") -> * | GU5: =TEXT(DC5,"اميدي-") -> * | GV5: =TEXT(DD5,"م اله بخش-") -> * | GW5: =TEXT(DE5,"م اله بخش-") -> * | GX5: =TEXT(DF5,"عبدالهي-") -> * | GY5: =TEXT(DG5,"عبدالهي-") -> * | GZ5: =TEXT(DH5,"تاجبخش-") -> * | HA5: =TEXT(DI5,"تاجبخش-") -> * | HB5: =BB5 -> 1 | HC5: =#REF! -> #REF! | HD5: =TEXT(DL5,"سلوکي - ") -> * | HE5: =TEXT(DM5,"سلوکي-") -> * | HF5: =TEXT(DN5,"برزنوني-") -> * | HG5: =TEXT(DO5," برزنونی-") -> * | HH5: =TEXT(DP5,"برزنونی-") -> * | HI5: =TEXT(DQ5,"برزنونی-") -> * | HJ5: =TEXT(DR5,"سالمی-") -> * | HK5: =TEXT(DS5,"سالمي-") -> * | HL5: =BB5 -> 1 | HM5: =#REF! -> #REF! | HN5: =TEXT(DV5,"سالمی-") -> * | HO5: =TEXT(DW5,"سالمی-") -> * | HP5: =TEXT(DX5,"عبدالهی-") -> * | HQ5: =TEXT(DY5,"عبدالهی-") -> * | HR5: =TEXT(DZ5,"میرکریمی-") -> * | HS5: =TEXT(EA5,"میرکریمی-") -> * | HT5: =TEXT(EB5,"علوی-") -> * | HU5: =TEXT(EC5,"علوی-") -> * | HV5: =TEXT(ED5,"سلوکی-") -> * | HW5: =TEXT(EE5,"سلوکي-") -> * | HX5: =TEXT(EF5,"حسين خاني-") -> * | HY5: =TEXT(EG5,"حسين خاني-") -> * | HZ5: =TEXT(EH5,"علوي-") -> * | IA5: =TEXT(EI5,"علوي-") -> * | IB5: =TEXT(EJ5,"زارع زاده-") -> * | IC5: =TEXT(EK5,"زارع زاده-") -> * | ID5: =TEXT(EL5,"هاشمي-") -> * | IE5: =TEXT(EM5,"هاشمي-") -> * | IF5: =TEXT(EN5,"سلوکي- ") -> * | IG5: =TEXT(EO5,"سلوکي - ") -> * | RD5: =BB5 -> 1 | RE5: =#REF! -> #REF! | RF5: صبح | RG5: =CONCATENATE(EV5,EX5,EZ5,FB5,FD5,FF5,FH5,FJ5,FL5,FN5,FP5,FR5,FT5,FV5,FX5,FZ5,GB5,GD5,GF5,GH5,GJ5,GL5,GN5,GP5,GR5,GT5,GV5,GX5,GZ5,HD5,HF5,HJ5) -> ******************************** | RI5: 1 | RJ5: =CONCATENATE(EW5,EY5,FA5,FC5,FE5,FG5,FI5,FK5,FM5,FO5,FQ5,FS5,FU5,FW5,FY5,GA5,GC5,GE5,GG5,GI5,GK5,GM5,GO5,GQ5,GS5,GU5,GW5,GY5,HA5,HE5,HG5,HK5) -> ******************************** | RL5: =BB5 -> 1 | RM5: =#REF! -> #REF! | RN5: شب | RO5: =CONCATENATE(HN5,HP5,HR5,HT5,HV5,HX5,HZ5,IB5,ID5,IF5,HH5) -> *********** | RQ5: بامداد | RR5: =CONCATENATE(HO5,HQ5,HS5,HU5,HW5,HY5,IA5,IC5,IE5,IG5,HI5) -> ***********
A6: سردبیر عربی | B6: پاشا | F6: عربي | G6: عصر | H6: پایش 1 / نشریات... | N6: تصویرحضور1/2/3/4 | S6: تصویری دور | AC6: خام عربی | AD6: =RJ5 -> ******************************** | BB6: 2 | BC6: سه شنبه | BD6: * | BE6: * | BF6: * | BG6: * | BH6: * | BI6: * | BJ6: * | BK6: * | BL6: * | BM6: * | BN6: * | BO6: * | BP6: * | BQ6: * | BR6: * | BS6: * | BT6: * | BU6: * | BV6: * | BW6: * | BX6: * | BY6: * | BZ6: * | CA6: * | CB6: * | CC6: * | CD6: * | CE6: * | CF6: * | CG6: * | CH6: * | CI6: * | CJ6: * | CK6: * | CL6: * | CM6: * | CN6: * | CO6: * | CP6: * | CQ6: * | CR6: * | CS6: * | CT6: * | CU6: * | CV6: * | CW6: * | CX6: * | CY6: * | CZ6: * | DA6: * | DB6: * | DC6: * | DD6: * | DE6: * | DF6: * | DG6: * | DH6: * | DI6: * | DJ6: =BB6 -> 2 | DK6: =#REF! -> #REF! | DL6: * | DM6: * | DN6: * | DO6: * | DP6: * | DQ6: * | DR6: * | DS6: * | DT6: =BB6 -> 2 | DU6: =#REF! -> #REF! | DV6: * | DW6: * | DX6: * | DY6: * | DZ6: * | EA6: * | EB6: * | EC6: * | ED6: * | EE6: * | EF6: * | EG6: * | EH6: * | EI6: * | EJ6: * | EK6: * | EL6: * | EM6: * | EN6: * | EO6: * | ET6: =BB6 -> 2 | EU6: =#REF! -> #REF! | EV6: =TEXT(BD6,"هاشمی-") -> * | EW6: =TEXT(BE6,"هاشمی-") -> * | EX6: =TEXT(BF6,"چراغی-") -> * | EY6: =TEXT(BG6,"چراغي-") -> * | EZ6: =TEXT(BH6,"ولدمحمدي-") -> * | FA6: =TEXT(BI6,"ولدمحمدي-") -> * | FB6: =TEXT(BJ6,"رضايي-") -> * | FC6: =TEXT(BK6,"رضايي-") -> * | FD6: =TEXT(BL6,"پاشا-") -> * | FE6: =TEXT(BM6,"پاشا-") -> * | FF6: =TEXT(BN6,"علوی-") -> * | FG6: =TEXT(BO6,"علوی-") -> * | FH6: =TEXT(BP6,"عبدالهی-") -> * | FI6: =TEXT(BQ6,"عبدالهی-") -> * | FJ6: =TEXT(BR6,"حسینخانی-") -> * | FK6: =TEXT(BS6,"حسین خانی-") -> * | FL6: =TEXT(BT6,"م ا له بخش-") -> * | FM6: =TEXT(BU6,"م اله بخش-") -> * | FN6: =TEXT(BV6,"کبريايي-") -> * | FO6: =TEXT(BW6,"کبريايي-") -> * | FP6: =TEXT(BX6,"ميرکريمي-") -> * | FQ6: =TEXT(BY6,"ميرکريمي-") -> * | FR6: =TEXT(BZ6,"امیدی-") -> * | FS6: =TEXT(CA6,"امیدي - ") -> * | FT6: =TEXT(CB6,"مجلسي-") -> * | FU6: =TEXT(CC6,"مجلسي-") -> * | FV6: =TEXT(CD6,"گرجی - ") -> * | FW6: =TEXT(CE6,"گرجي-") -> * | FX6: =TEXT(CF6,"رضاحسيني-") -> * | FY6: =TEXT(CG6,"رضاحسيني-") -> * | FZ6: =TEXT(CH6,"حاجعلیپور-") -> * | GA6: =TEXT(CI6," حاجعلیپور-") -> * | GB6: =TEXT(CJ6,"قویدل-") -> * | GC6: =TEXT(CK6," قویدل-") -> * | GD6: =TEXT(CL6,"محمدي-") -> * | GE6: =TEXT(CM6,"محمدي-") -> * | GF6: =TEXT(CN6,"داداشي-") -> * | GG6: =TEXT(CO6,"داداشي-") -> * | GH6: =TEXT(CP6,"کاظميني - ") -> * | GI6: =TEXT(CQ6,"کاظميني -") -> * | GJ6: =TEXT(CR6,"بازرگان-") -> * | GK6: =TEXT(CS6,"بازرگان-") -> * | GL6: =TEXT(CT6,"نويد-") -> * | GM6: =TEXT(CU6,"نويد-") -> * | GN6: =TEXT(CV6,"طالبي-") -> * | GO6: =TEXT(CW6,"طالبي-") -> * | GP6: =TEXT(CX6,"بهشتي-") -> * | GQ6: =TEXT(CY6,"بهشتي-") -> * | GR6: =TEXT(CZ6,"علوی-") -> * | GS6: =TEXT(DA6,"علوی-") -> * | GT6: =TEXT(DB6,"اميدي-") -> * | GU6: =TEXT(DC6,"اميدي-") -> * | GV6: =TEXT(DD6,"م اله بخش-") -> * | GW6: =TEXT(DE6,"م اله بخش-") -> * | GX6: =TEXT(DF6,"عبدالهي-") -> * | GY6: =TEXT(DG6,"عبدالهي-") -> * | GZ6: =TEXT(DH6,"تاجبخش-") -> * | HA6: =TEXT(DI6,"تاجبخش-") -> * | HB6: =BB6 -> 2 | HC6: =#REF! -> #REF! | HD6: =TEXT(DL6,"سلوکي - ") -> * | HE6: =TEXT(DM6,"سلوکي-") -> * | HF6: =TEXT(DN6,"برزنوني-") -> * | HG6: =TEXT(DO6," برزنونی-") -> * | HH6: =TEXT(DP6,"برزنونی-") -> * | HI6: =TEXT(DQ6,"برزنونی-") -> * | HJ6: =TEXT(DR6,"سالمی-") -> * | HK6: =TEXT(DS6,"سالمي-") -> * | HL6: =BB6 -> 2 | HM6: =#REF! -> #REF! | HN6: =TEXT(DV6,"سالمی-") -> * | HO6: =TEXT(DW6,"سالمی-") -> * | HP6: =TEXT(DX6,"عبدالهی-") -> * | HQ6: =TEXT(DY6,"عبدالهی-") -> * | HR6: =TEXT(DZ6,"میرکریمی-") -> * | HS6: =TEXT(EA6,"میرکریمی-") -> * | HT6: =TEXT(EB6,"علوی-") -> * | HU6: =TEXT(EC6,"علوی-") -> * | HV6: =TEXT(ED6,"سلوکی-") -> * | HW6: =TEXT(EE6,"سلوکي-") -> * | HX6: =TEXT(EF6,"حسين خاني-") -> * | HY6: =TEXT(EG6,"حسين خاني-") -> * | HZ6: =TEXT(EH6,"علوي-") -> * | IA6: =TEXT(EI6,"علوي-") -> * | IB6: =TEXT(EJ6,"زارع زاده-") -> * | IC6: =TEXT(EK6,"زارع زاده-") -> * | ID6: =TEXT(EL6,"هاشمي-") -> * | IE6: =TEXT(EM6,"هاشمي-") -> * | IF6: =TEXT(EN6,"سلوکي- ") -> * | IG6: =TEXT(EO6,"سلوکي - ") -> * | RD6: =BB6 -> 2 | RE6: =#REF! -> #REF! | RF6: صبح | RG6: =CONCATENATE(EV6,EX6,EZ6,FB6,FD6,FF6,FH6,FJ6,FL6,FN6,FP6,FR6,FT6,FV6,FX6,FZ6,GB6,GD6,GF6,GH6,GJ6,GL6,GN6,GP6,GR6,GT6,GV6,GX6,GZ6,HD6,HF6,HJ6) -> ******************************** | RI6: 2 | RJ6: =CONCATENATE(EW6,EY6,FA6,FC6,FE6,FG6,FI6,FK6,FM6,FO6,FQ6,FS6,FU6,FW6,FY6,GA6,GC6,GE6,GG6,GI6,GK6,GM6,GO6,GQ6,GS6,GU6,GW6,GY6,HA6,HE6,HG6,HK6) -> ******************************** | RL6: =BB6 -> 2 | RM6: =#REF! -> #REF! | RN6: شب | RO6: =CONCATENATE(HN6,HP6,HR6,HT6,HV6,HX6,HZ6,IB6,ID6,IF6,HH6) -> *********** | RQ6: بامداد | RR6: =CONCATENATE(HO6,HQ6,HS6,HU6,HW6,HY6,IA6,IC6,IE6,IG6,HI6) -> ***********
A7: مترجم همزمان و سردبیر فرانسه | B7: علیمیرزایی | F7: فرانسه و.. | G7: عصر | H7: شبکه های تصویری و نشریات فرانسه | N7: تصویری حضوری | P7: تصویری دور | V7: زبانهای دیگر | Y7: تدوین و دبیران | Z7: ابراهیمی | AC7: خام فرانسه | AD7: =RI77 -> *******ایمانی-********* | AM7: تدوین و دوبیران | AN7: =RI113 -> ******************* | BB7: 3 | BC7: چهارشنبه | BD7: * | BE7: * | BF7: * | BG7: * | BH7: * | BI7: * | BJ7: * | BK7: * | BL7: * | BM7: * | BN7: * | BO7: * | BP7: * | BQ7: * | BR7: * | BS7: * | BT7: * | BU7: * | BV7: * | BW7: * | BX7: * | BY7: * | BZ7: * | CA7: * | CB7: * | CC7: * | CD7: * | CE7: * | CF7: * | CG7: * | CH7: * | CI7: * | CJ7: * | CK7: * | CL7: * | CM7: * | CN7: * | CO7: * | CP7: * | CQ7: * | CR7: * | CS7: * | CT7: * | CU7: * | CV7: * | CW7: * | CX7: * | CY7: * | CZ7: * | DA7: * | DB7: * | DC7: * | DD7: * | DE7: * | DF7: * | DG7: * | DH7: * | DI7: * | DJ7: =BB7 -> 3 | DK7: =#REF! -> #REF! | DL7: * | DM7: * | DN7: * | DO7: * | DP7: * | DQ7: * | DR7: * | DS7: * | DT7: =BB7 -> 3 | DU7: =#REF! -> #REF! | DV7: * | DW7: * | DX7: * | DY7: * | DZ7: * | EA7: * | EB7: * | EC7: * | ED7: * | EE7: * | EF7: * | EG7: * | EH7: * | EI7: * | EJ7: * | EK7: * | EL7: * | EM7: * | EN7: * | EO7: * | ET7: =BB7 -> 3 | EU7: =#REF! -> #REF! | EV7: =TEXT(BD7,"هاشمی-") -> * | EW7: =TEXT(BE7,"هاشمی-") -> * | EX7: =TEXT(BF7,"چراغی-") -> * | EY7: =TEXT(BG7,"چراغي-") -> * | EZ7: =TEXT(BH7,"ولدمحمدي-") -> * | FA7: =TEXT(BI7,"ولدمحمدي-") -> * | FB7: =TEXT(BJ7,"رضايي-") -> * | FC7: =TEXT(BK7,"رضايي-") -> * | FD7: =TEXT(BL7,"پاشا-") -> * | FE7: =TEXT(BM7,"پاشا-") -> * | FF7: =TEXT(BN7,"علوی-") -> * | FG7: =TEXT(BO7,"علوی-") -> * | FH7: =TEXT(BP7,"عبدالهی-") -> * | FI7: =TEXT(BQ7,"عبدالهی-") -> * | FJ7: =TEXT(BR7,"حسینخانی-") -> * | FK7: =TEXT(BS7,"حسین خانی-") -> * | FL7: =TEXT(BT7,"م ا له بخش-") -> * | FM7: =TEXT(BU7,"م اله بخش-") -> * | FN7: =TEXT(BV7,"کبريايي-") -> * | FO7: =TEXT(BW7,"کبريايي-") -> * | FP7: =TEXT(BX7,"ميرکريمي-") -> * | FQ7: =TEXT(BY7,"ميرکريمي-") -> * | FR7: =TEXT(BZ7,"امیدی-") -> * | FS7: =TEXT(CA7,"امیدي - ") -> * | FT7: =TEXT(CB7,"مجلسي-") -> * | FU7: =TEXT(CC7,"مجلسي-") -> * | FV7: =TEXT(CD7,"گرجی - ") -> * | FW7: =TEXT(CE7,"گرجي-") -> * | FX7: =TEXT(CF7,"رضاحسيني-") -> * | FY7: =TEXT(CG7,"رضاحسيني-") -> * | FZ7: =TEXT(CH7,"حاجعلیپور-") -> * | GA7: =TEXT(CI7," حاجعلیپور-") -> * | GB7: =TEXT(CJ7,"قویدل-") -> * | GC7: =TEXT(CK7," قویدل-") -> * | GD7: =TEXT(CL7,"محمدي-") -> * | GE7: =TEXT(CM7,"محمدي-") -> * | GF7: =TEXT(CN7,"داداشي-") -> * | GG7: =TEXT(CO7,"داداشي-") -> * | GH7: =TEXT(CP7,"کاظميني - ") -> * | GI7: =TEXT(CQ7,"کاظميني -") -> * | GJ7: =TEXT(CR7,"بازرگان-") -> * | GK7: =TEXT(CS7,"بازرگان-") -> * | GL7: =TEXT(CT7,"نويد-") -> * | GM7: =TEXT(CU7,"نويد-") -> * | GN7: =TEXT(CV7,"طالبي-") -> * | GO7: =TEXT(CW7,"طالبي-") -> * | GP7: =TEXT(CX7,"بهشتي-") -> * | GQ7: =TEXT(CY7,"بهشتي-") -> * | GR7: =TEXT(CZ7,"علوی-") -> * | GS7: =TEXT(DA7,"علوی-") -> * | GT7: =TEXT(DB7,"اميدي-") -> * | GU7: =TEXT(DC7,"اميدي-") -> * | GV7: =TEXT(DD7,"م اله بخش-") -> * | GW7: =TEXT(DE7,"م اله بخش-") -> * | GX7: =TEXT(DF7,"عبدالهي-") -> * | GY7: =TEXT(DG7,"عبدالهي-") -> * | GZ7: =TEXT(DH7,"تاجبخش-") -> * | HA7: =TEXT(DI7,"تاجبخش-") -> * | HB7: =BB7 -> 3 | HC7: =#REF! -> #REF! | HD7: =TEXT(DL7,"سلوکي - ") -> * | HE7: =TEXT(DM7,"سلوکي-") -> * | HF7: =TEXT(DN7,"برزنوني-") -> * | HG7: =TEXT(DO7," برزنونی-") -> * | HH7: =TEXT(DP7,"برزنونی-") -> * | HI7: =TEXT(DQ7,"برزنونی-") -> * | HJ7: =TEXT(DR7,"سالمی-") -> * | HK7: =TEXT(DS7,"سالمي-") -> * | HL7: =BB7 -> 3 | HM7: =#REF! -> #REF! | HN7: =TEXT(DV7,"سالمی-") -> * | HO7: =TEXT(DW7,"سالمی-") -> * | HP7: =TEXT(DX7,"عبدالهی-") -> * | HQ7: =TEXT(DY7,"عبدالهی-") -> * | HR7: =TEXT(DZ7,"میرکریمی-") -> * | HS7: =TEXT(EA7,"میرکریمی-") -> * | HT7: =TEXT(EB7,"علوی-") -> * | HU7: =TEXT(EC7,"علوی-") -> * | HV7: =TEXT(ED7,"سلوکی-") -> * | HW7: =TEXT(EE7,"سلوکي-") -> * | HX7: =TEXT(EF7,"حسين خاني-") -> * | HY7: =TEXT(EG7,"حسين خاني-") -> * | HZ7: =TEXT(EH7,"علوي-") -> * | IA7: =TEXT(EI7,"علوي-") -> * | IB7: =TEXT(EJ7,"زارع زاده-") -> * | IC7: =TEXT(EK7,"زارع زاده-") -> * | ID7: =TEXT(EL7,"هاشمي-") -> * | IE7: =TEXT(EM7,"هاشمي-") -> * | IF7: =TEXT(EN7,"سلوکي- ") -> * | IG7: =TEXT(EO7,"سلوکي - ") -> * | RD7: =BB7 -> 3 | RE7: =#REF! -> #REF! | RF7: صبح | RG7: =CONCATENATE(EV7,EX7,EZ7,FB7,FD7,FF7,FH7,FJ7,FL7,FN7,FP7,FR7,FT7,FV7,FX7,FZ7,GB7,GD7,GF7,GH7,GJ7,GL7,GN7,GP7,GR7,GT7,GV7,GX7,GZ7,HD7,HF7,HJ7) -> ******************************** | RI7: 3 | RJ7: =CONCATENATE(EW7,EY7,FA7,FC7,FE7,FG7,FI7,FK7,FM7,FO7,FQ7,FS7,FU7,FW7,FY7,GA7,GC7,GE7,GG7,GI7,GK7,GM7,GO7,GQ7,GS7,GU7,GW7,GY7,HA7,HE7,HG7,HK7) -> ******************************** | RL7: =BB7 -> 3 | RM7: =#REF! -> #REF! | RN7: شب | RO7: =CONCATENATE(HN7,HP7,HR7,HT7,HV7,HX7,HZ7,IB7,ID7,IF7,HH7) -> *********** | RQ7: بامداد | RR7: =CONCATENATE(HO7,HQ7,HS7,HU7,HW7,HY7,IA7,IC7,IE7,IG7,HI7) -> ***********
A8: سردبیر | E8: انگليسي و | F8: شب و | G8: پايشگر (نشریات/ فضای مجازی و ... | K8: شات بدون لوگو (رویترز،ای پی تی ان و ...) | N8: بی بی سی و الجزیره انگلیسی | Q8: سی ان ان / پرس / راشا انگلیسی | T8: خبرگزاري ها و شبکه های تصویری فرانسه | X8: عربي میادین/مسیره /قدس/منار/جزيره مباشر/ عالم / اخباريه/روسيااليوم /اسکاي /عربيه/حدث/ جزيره | AC8: =RO41 -> ************************************جعفری- | BB8: 4 | BC8: پنجشنبه | BD8: * | BE8: * | BF8: * | BG8: * | BH8: * | BI8: * | BJ8: * | BK8: * | BL8: * | BM8: * | BN8: * | BO8: * | BP8: * | BQ8: * | BR8: * | BS8: * | BT8: * | BU8: * | BV8: * | BW8: * | BX8: * | BY8: * | BZ8: * | CA8: * | CB8: * | CC8: * | CD8: * | CE8: * | CF8: * | CG8: * | CH8: * | CI8: * | CJ8: * | CK8: * | CL8: * | CM8: * | CN8: * | CO8: * | CP8: * | CQ8: * | CR8: * | CS8: * | CT8: * | CU8: * | CV8: * | CW8: * | CX8: * | CY8: * | CZ8: * | DA8: * | DB8: * | DC8: * | DD8: * | DE8: * | DF8: * | DG8: * | DH8: * | DI8: * | DJ8: =BB8 -> 4 | DK8: =BC5 -> دوشنبه | DL8: * | DM8: * | DN8: * | DO8: * | DP8: * | DQ8: * | DR8: * | DS8: * | DT8: =BB8 -> 4 | DU8: =BC5 -> دوشنبه | DV8: * | DW8: * | DX8: * | DY8: * | DZ8: * | EA8: * | EB8: * | EC8: * | ED8: * | EE8: * | EF8: * | EG8: * | EH8: * | EI8: * | EJ8: * | EK8: * | EL8: * | EM8: * | EN8: * | EO8: * | ET8: =BB8 -> 4 | EU8: =BC5 -> دوشنبه | EV8: =TEXT(BD8,"هاشمی-") -> * | EW8: =TEXT(BE8,"هاشمی-") -> * | EX8: =TEXT(BF8,"چراغی-") -> * | EY8: =TEXT(BG8,"چراغي-") -> * | EZ8: =TEXT(BH8,"ولدمحمدي-") -> * | FA8: =TEXT(BI8,"ولدمحمدي-") -> * | FB8: =TEXT(BJ8,"رضايي-") -> * | FC8: =TEXT(BK8,"رضايي-") -> * | FD8: =TEXT(BL8,"پاشا-") -> * | FE8: =TEXT(BM8,"پاشا-") -> * | FF8: =TEXT(BN8,"علوی-") -> * | FG8: =TEXT(BO8,"علوی-") -> * | FH8: =TEXT(BP8,"عبدالهی-") -> * | FI8: =TEXT(BQ8,"عبدالهی-") -> * | FJ8: =TEXT(BR8,"حسینخانی-") -> * | FK8: =TEXT(BS8,"حسین خانی-") -> * | FL8: =TEXT(BT8,"م ا له بخش-") -> * | FM8: =TEXT(BU8,"م اله بخش-") -> * | FN8: =TEXT(BV8,"کبريايي-") -> * | FO8: =TEXT(BW8,"کبريايي-") -> * | FP8: =TEXT(BX8,"ميرکريمي-") -> * | FQ8: =TEXT(BY8,"ميرکريمي-") -> * | FR8: =TEXT(BZ8,"امیدی-") -> * | FS8: =TEXT(CA8,"امیدي - ") -> * | FT8: =TEXT(CB8,"مجلسي-") -> * | FU8: =TEXT(CC8,"مجلسي-") -> * | FV8: =TEXT(CD8,"گرجی - ") -> * | FW8: =TEXT(CE8,"گرجي-") -> * | FX8: =TEXT(CF8,"رضاحسيني-") -> * | FY8: =TEXT(CG8,"رضاحسيني-") -> * | FZ8: =TEXT(CH8,"حاجعلیپور-") -> * | GA8: =TEXT(CI8," حاجعلیپور-") -> * | GB8: =TEXT(CJ8,"قویدل-") -> * | GC8: =TEXT(CK8," قویدل-") -> * | GD8: =TEXT(CL8,"محمدي-") -> * | GE8: =TEXT(CM8,"محمدي-") -> * | GF8: =TEXT(CN8,"داداشي-") -> * | GG8: =TEXT(CO8,"داداشي-") -> * | GH8: =TEXT(CP8,"کاظميني - ") -> * | GI8: =TEXT(CQ8,"کاظميني -") -> * | GJ8: =TEXT(CR8,"بازرگان-") -> * | GK8: =TEXT(CS8,"بازرگان-") -> * | GL8: =TEXT(CT8,"نويد-") -> * | GM8: =TEXT(CU8,"نويد-") -> * | GN8: =TEXT(CV8,"طالبي-") -> * | GO8: =TEXT(CW8,"طالبي-") -> * | GP8: =TEXT(CX8,"بهشتي-") -> * | GQ8: =TEXT(CY8,"بهشتي-") -> * | GR8: =TEXT(CZ8,"علوی-") -> * | GS8: =TEXT(DA8,"علوی-") -> * | GT8: =TEXT(DB8,"اميدي-") -> * | GU8: =TEXT(DC8,"اميدي-") -> * | GV8: =TEXT(DD8,"م اله بخش-") -> * | GW8: =TEXT(DE8,"م اله بخش-") -> * | GX8: =TEXT(DF8,"عبدالهي-") -> * | GY8: =TEXT(DG8,"عبدالهي-") -> * | GZ8: =TEXT(DH8,"تاجبخش-") -> * | HA8: =TEXT(DI8,"تاجبخش-") -> * | HB8: =BB8 -> 4 | HC8: =BC5 -> دوشنبه | HD8: =TEXT(DL8,"سلوکي - ") -> * | HE8: =TEXT(DM8,"سلوکي-") -> * | HF8: =TEXT(DN8,"برزنوني-") -> * | HG8: =TEXT(DO8," برزنونی-") -> * | HH8: =TEXT(DP8,"برزنونی-") -> * | HI8: =TEXT(DQ8,"برزنونی-") -> * | HJ8: =TEXT(DR8,"سالمی-") -> * | HK8: =TEXT(DS8,"سالمي-") -> * | HL8: =BB8 -> 4 | HM8: =BC5 -> دوشنبه | HN8: =TEXT(DV8,"سالمی-") -> * | HO8: =TEXT(DW8,"سالمی-") -> * | HP8: =TEXT(DX8,"عبدالهی-") -> * | HQ8: =TEXT(DY8,"عبدالهی-") -> * | HR8: =TEXT(DZ8,"میرکریمی-") -> * | HS8: =TEXT(EA8,"میرکریمی-") -> * | HT8: =TEXT(EB8,"علوی-") -> * | HU8: =TEXT(EC8,"علوی-") -> * | HV8: =TEXT(ED8,"سلوکی-") -> * | HW8: =TEXT(EE8,"سلوکي-") -> * | HX8: =TEXT(EF8,"حسين خاني-") -> * | HY8: =TEXT(EG8,"حسين خاني-") -> * | HZ8: =TEXT(EH8,"علوي-") -> * | IA8: =TEXT(EI8,"علوي-") -> * | IB8: =TEXT(EJ8,"زارع زاده-") -> * | IC8: =TEXT(EK8,"زارع زاده-") -> * | ID8: =TEXT(EL8,"هاشمي-") -> * | IE8: =TEXT(EM8,"هاشمي-") -> * | IF8: =TEXT(EN8,"سلوکي- ") -> * | IG8: =TEXT(EO8,"سلوکي - ") -> * | RD8: =BB8 -> 4 | RE8: =BC5 -> دوشنبه | RF8: صبح | RG8: =CONCATENATE(EV8,EX8,EZ8,FB8,FD8,FF8,FH8,FJ8,FL8,FN8,FP8,FR8,FT8,FV8,FX8,FZ8,GB8,GD8,GF8,GH8,GJ8,GL8,GN8,GP8,GR8,GT8,GV8,GX8,GZ8,HD8,HF8,HJ8) -> ******************************** | RI8: 4 | RJ8: =CONCATENATE(EW8,EY8,FA8,FC8,FE8,FG8,FI8,FK8,FM8,FO8,FQ8,FS8,FU8,FW8,FY8,GA8,GC8,GE8,GG8,GI8,GK8,GM8,GO8,GQ8,GS8,GU8,GW8,GY8,HA8,HE8,HG8,HK8) -> ******************************** | RL8: =BB8 -> 4 | RM8: =BC5 -> دوشنبه | RN8: شب | RO8: =CONCATENATE(HN8,HP8,HR8,HT8,HV8,HX8,HZ8,IB8,ID8,IF8,HH8) -> *********** | RQ8: بامداد | RR8: =CONCATENATE(HO8,HQ8,HS8,HU8,HW8,HY8,IA8,IC8,IE8,IG8,HI8) -> ***********
A9: شب | E9: عربي فرانسه | F9: بامداد | AC9: =RO5 -> *********** | BB9: 5 | BC9: جمعه | BD9: * | BE9: * | BF9: * | BG9: * | BH9: * | BI9: * | BJ9: * | BK9: * | BL9: * | BM9: * | BN9: * | BO9: * | BP9: * | BQ9: * | BR9: * | BS9: * | BT9: * | BU9: * | BV9: * | BW9: * | BX9: * | BY9: * | BZ9: * | CA9: * | CB9: * | CC9: * | CD9: * | CE9: * | CF9: * | CG9: * | CH9: * | CI9: * | CJ9: * | CK9: * | CL9: * | CM9: * | CN9: * | CO9: * | CP9: * | CQ9: * | CR9: * | CS9: * | CT9: * | CU9: * | CV9: * | CW9: * | CX9: * | CY9: * | CZ9: * | DA9: * | DB9: * | DC9: * | DD9: * | DE9: * | DF9: * | DG9: * | DH9: * | DI9: * | DJ9: =BB9 -> 5 | DK9: =BC6 -> سه شنبه | DL9: * | DM9: * | DN9: * | DO9: * | DP9: * | DQ9: * | DR9: * | DS9: * | DT9: =BB9 -> 5 | DU9: =BC6 -> سه شنبه | DV9: * | DW9: * | DX9: * | DY9: * | DZ9: * | EA9: * | EB9: * | EC9: * | ED9: * | EE9: * | EF9: * | EG9: * | EH9: * | EI9: * | EJ9: * | EK9: * | EL9: * | EM9: * | EN9: * | EO9: * | ET9: =BB9 -> 5 | EU9: =BC6 -> سه شنبه | EV9: =TEXT(BD9,"هاشمی-") -> * | EW9: =TEXT(BE9,"هاشمی-") -> * | EX9: =TEXT(BF9,"چراغی-") -> * | EY9: =TEXT(BG9,"چراغي-") -> * | EZ9: =TEXT(BH9,"ولدمحمدي-") -> * | FA9: =TEXT(BI9,"ولدمحمدي-") -> * | FB9: =TEXT(BJ9,"رضايي-") -> * | FC9: =TEXT(BK9,"رضايي-") -> * | FD9: =TEXT(BL9,"پاشا-") -> * | FE9: =TEXT(BM9,"پاشا-") -> * | FF9: =TEXT(BN9,"علوی-") -> * | FG9: =TEXT(BO9,"علوی-") -> * | FH9: =TEXT(BP9,"عبدالهی-") -> * | FI9: =TEXT(BQ9,"عبدالهی-") -> * | FJ9: =TEXT(BR9,"حسینخانی-") -> * | FK9: =TEXT(BS9,"حسین خانی-") -> * | FL9: =TEXT(BT9,"م ا له بخش-") -> * | FM9: =TEXT(BU9,"م اله بخش-") -> * | FN9: =TEXT(BV9,"کبريايي-") -> * | FO9: =TEXT(BW9,"کبريايي-") -> * | FP9: =TEXT(BX9,"ميرکريمي-") -> * | FQ9: =TEXT(BY9,"ميرکريمي-") -> * | FR9: =TEXT(BZ9,"امیدی-") -> * | FS9: =TEXT(CA9,"امیدي - ") -> * | FT9: =TEXT(CB9,"مجلسي-") -> * | FU9: =TEXT(CC9,"مجلسي-") -> * | FV9: =TEXT(CD9,"گرجی - ") -> * | FW9: =TEXT(CE9,"گرجي-") -> * | FX9: =TEXT(CF9,"رضاحسيني-") -> * | FY9: =TEXT(CG9,"رضاحسيني-") -> * | FZ9: =TEXT(CH9,"حاجعلیپور-") -> * | GA9: =TEXT(CI9," حاجعلیپور-") -> * | GB9: =TEXT(CJ9,"قویدل-") -> * | GC9: =TEXT(CK9," قویدل-") -> * | GD9: =TEXT(CL9,"محمدي-") -> * | GE9: =TEXT(CM9,"محمدي-") -> * | GF9: =TEXT(CN9,"داداشي-") -> * | GG9: =TEXT(CO9,"داداشي-") -> * | GH9: =TEXT(CP9,"کاظميني - ") -> * | GI9: =TEXT(CQ9,"کاظميني -") -> * | GJ9: =TEXT(CR9,"بازرگان-") -> * | GK9: =TEXT(CS9,"بازرگان-") -> * | GL9: =TEXT(CT9,"نويد-") -> * | GM9: =TEXT(CU9,"نويد-") -> * | GN9: =TEXT(CV9,"طالبي-") -> * | GO9: =TEXT(CW9,"طالبي-") -> * | GP9: =TEXT(CX9,"بهشتي-") -> * | GQ9: =TEXT(CY9,"بهشتي-") -> * | GR9: =TEXT(CZ9,"علوی-") -> * | GS9: =TEXT(DA9,"علوی-") -> * | GT9: =TEXT(DB9,"اميدي-") -> * | GU9: =TEXT(DC9,"اميدي-") -> * | GV9: =TEXT(DD9,"م اله بخش-") -> * | GW9: =TEXT(DE9,"م اله بخش-") -> * | GX9: =TEXT(DF9,"عبدالهي-") -> * | GY9: =TEXT(DG9,"عبدالهي-") -> * | GZ9: =TEXT(DH9,"تاجبخش-") -> * | HA9: =TEXT(DI9,"تاجبخش-") -> * | HB9: =BB9 -> 5 | HC9: =BC6 -> سه شنبه | HD9: =TEXT(DL9,"سلوکي - ") -> * | HE9: =TEXT(DM9,"سلوکي-") -> * | HF9: =TEXT(DN9,"برزنوني-") -> * | HG9: =TEXT(DO9," برزنونی-") -> * | HH9: =TEXT(DP9,"برزنونی-") -> * | HI9: =TEXT(DQ9,"برزنونی-") -> * | HJ9: =TEXT(DR9,"سالمی-") -> * | HK9: =TEXT(DS9,"سالمي-") -> * | HL9: =BB9 -> 5 | HM9: =BC6 -> سه شنبه | HN9: =TEXT(DV9,"سالمی-") -> * | HO9: =TEXT(DW9,"سالمی-") -> * | HP9: =TEXT(DX9,"عبدالهی-") -> * | HQ9: =TEXT(DY9,"عبدالهی-") -> * | HR9: =TEXT(DZ9,"میرکریمی-") -> * | HS9: =TEXT(EA9,"میرکریمی-") -> * | HT9: =TEXT(EB9,"علوی-") -> * | HU9: =TEXT(EC9,"علوی-") -> * | HV9: =TEXT(ED9,"سلوکی-") -> * | HW9: =TEXT(EE9,"سلوکي-") -> * | HX9: =TEXT(EF9,"حسين خاني-") -> * | HY9: =TEXT(EG9,"حسين خاني-") -> * | HZ9: =TEXT(EH9,"علوي-") -> * | IA9: =TEXT(EI9,"علوي-") -> * | IB9: =TEXT(EJ9,"زارع زاده-") -> * | IC9: =TEXT(EK9,"زارع زاده-") -> * | ID9: =TEXT(EL9,"هاشمي-") -> * | IE9: =TEXT(EM9,"هاشمي-") -> * | IF9: =TEXT(EN9,"سلوکي- ") -> * | IG9: =TEXT(EO9,"سلوکي - ") -> * | RD9: =BB9 -> 5 | RE9: =BC6 -> سه شنبه | RF9: صبح | RG9: =CONCATENATE(EV9,EX9,EZ9,FB9,FD9,FF9,FH9,FJ9,FL9,FN9,FP9,FR9,FT9,FV9,FX9,FZ9,GB9,GD9,GF9,GH9,GJ9,GL9,GN9,GP9,GR9,GT9,GV9,GX9,GZ9,HD9,HF9,HJ9) -> ******************************** | RI9: 5 | RJ9: =CONCATENATE(EW9,EY9,FA9,FC9,FE9,FG9,FI9,FK9,FM9,FO9,FQ9,FS9,FU9,FW9,FY9,GA9,GC9,GE9,GG9,GI9,GK9,GM9,GO9,GQ9,GS9,GU9,GW9,GY9,HA9,HE9,HG9,HK9) -> ******************************** | RL9: =BB9 -> 5 | RM9: =BC6 -> سه شنبه | RN9: شب | RO9: =CONCATENATE(HN9,HP9,HR9,HT9,HV9,HX9,HZ9,IB9,ID9,IF9,HH9) -> *********** | RQ9: بامداد | RR9: =CONCATENATE(HO9,HQ9,HS9,HU9,HW9,HY9,IA9,IC9,IE9,IG9,HI9) -> ***********
A10: پنج شنبه | B10: بهمن 2 | C10: سردبیران | D10: کمکی | E10: سردبیر دورکار | F10: تحریریه ها | H10: 1 | I10: 2 | J10: 3 | K10: 4 | L10: 5 | M10: 6 | N10: حضوری | O10: حضوری | P10: حضوری | Q10: حضوری | S10: انگليسي صبح | X10: انگليسي عصر | AC10: عربی صبح | AG10: عربي عصر | AK10: فرانسه صبح | AO10: فرانسه عصر | AS10: زبانهاي دیگر | AV10: شب و نيمه شب | BB10: 6 | BC10: شنبه | BD10: * | BE10: * | BF10: * | BG10: * | BH10: * | BI10: * | BJ10: * | BK10: * | BL10: * | BM10: * | BN10: * | BO10: * | BP10: * | BQ10: * | BR10: * | BS10: * | BT10: * | BU10: * | BV10: * | BW10: * | BX10: * | BY10: * | BZ10: * | CA10: * | CB10: * | CC10: * | CD10: * | CE10: * | CF10: * | CG10: * | CH10: * | CI10: * | CJ10: * | CK10: * | CL10: * | CM10: * | CN10: * | CO10: * | CP10: * | CQ10: * | CR10: * | CS10: * | CT10: * | CU10: * | CV10: * | CW10: * | CX10: * | CY10: * | CZ10: * | DA10: * | DB10: * | DC10: * | DD10: * | DE10: * | DF10: * | DG10: * | DH10: * | DI10: * | DJ10: =BB10 -> 6 | DK10: =BC7 -> چهارشنبه | DL10: * | DM10: * | DN10: * | DO10: * | DP10: * | DQ10: * | DR10: * | DS10: * | DT10: =BB10 -> 6 | DU10: =BC7 -> چهارشنبه | DV10: * | DW10: * | DX10: * | DY10: * | DZ10: * | EA10: * | EB10: * | EC10: * | ED10: * | EE10: * | EF10: * | EG10: * | EH10: * | EI10: * | EJ10: * | EK10: * | EL10: * | EM10: * | EN10: * | EO10: * | ET10: =BB10 -> 6 | EU10: =BC7 -> چهارشنبه | EV10: =TEXT(BD10,"هاشمی-") -> * | EW10: =TEXT(BE10,"هاشمی-") -> * | EX10: =TEXT(BF10,"چراغی-") -> * | EY10: =TEXT(BG10,"چراغي-") -> * | EZ10: =TEXT(BH10,"ولدمحمدي-") -> * | FA10: =TEXT(BI10,"ولدمحمدي-") -> * | FB10: =TEXT(BJ10,"رضايي-") -> * | FC10: =TEXT(BK10,"رضايي-") -> * | FD10: =TEXT(BL10,"پاشا-") -> * | FE10: =TEXT(BM10,"پاشا-") -> * | FF10: =TEXT(BN10,"علوی-") -> * | FG10: =TEXT(BO10,"علوی-") -> * | FH10: =TEXT(BP10,"عبدالهی-") -> * | FI10: =TEXT(BQ10,"عبدالهی-") -> * | FJ10: =TEXT(BR10,"حسینخانی-") -> * | FK10: =TEXT(BS10,"حسین خانی-") -> * | FL10: =TEXT(BT10,"م ا له بخش-") -> * | FM10: =TEXT(BU10,"م اله بخش-") -> * | FN10: =TEXT(BV10,"کبريايي-") -> * | FO10: =TEXT(BW10,"کبريايي-") -> * | FP10: =TEXT(BX10,"ميرکريمي-") -> * | FQ10: =TEXT(BY10,"ميرکريمي-") -> * | FR10: =TEXT(BZ10,"امیدی-") -> * | FS10: =TEXT(CA10,"امیدي - ") -> * | FT10: =TEXT(CB10,"مجلسي-") -> * | FU10: =TEXT(CC10,"مجلسي-") -> * | FV10: =TEXT(CD10,"گرجی - ") -> * | FW10: =TEXT(CE10,"گرجي-") -> * | FX10: =TEXT(CF10,"رضاحسيني-") -> * | FY10: =TEXT(CG10,"رضاحسيني-") -> * | FZ10: =TEXT(CH10,"حاجعلیپور-") -> * | GA10: =TEXT(CI10," حاجعلیپور-") -> * | GB10: =TEXT(CJ10,"قویدل-") -> * | GC10: =TEXT(CK10," قویدل-") -> * | GD10: =TEXT(CL10,"محمدي-") -> * | GE10: =TEXT(CM10,"محمدي-") -> * | GF10: =TEXT(CN10,"داداشي-") -> * | GG10: =TEXT(CO10,"داداشي-") -> * | GH10: =TEXT(CP10,"کاظميني - ") -> * | GI10: =TEXT(CQ10,"کاظميني -") -> * | GJ10: =TEXT(CR10,"بازرگان-") -> * | GK10: =TEXT(CS10,"بازرگان-") -> * | GL10: =TEXT(CT10,"نويد-") -> * | GM10: =TEXT(CU10,"نويد-") -> * | GN10: =TEXT(CV10,"طالبي-") -> * | GO10: =TEXT(CW10,"طالبي-") -> * | GP10: =TEXT(CX10,"بهشتي-") -> * | GQ10: =TEXT(CY10,"بهشتي-") -> * | GR10: =TEXT(CZ10,"علوی-") -> * | GS10: =TEXT(DA10,"علوی-") -> * | GT10: =TEXT(DB10,"اميدي-") -> * | GU10: =TEXT(DC10,"اميدي-") -> * | GV10: =TEXT(DD10,"م اله بخش-") -> * | GW10: =TEXT(DE10,"م اله بخش-") -> * | GX10: =TEXT(DF10,"عبدالهي-") -> * | GY10: =TEXT(DG10,"عبدالهي-") -> * | GZ10: =TEXT(DH10,"تاجبخش-") -> * | HA10: =TEXT(DI10,"تاجبخش-") -> * | HB10: =BB10 -> 6 | HC10: =BC7 -> چهارشنبه | HD10: =TEXT(DL10,"سلوکي - ") -> * | HE10: =TEXT(DM10,"سلوکي-") -> * | HF10: =TEXT(DN10,"برزنوني-") -> * | HG10: =TEXT(DO10," برزنونی-") -> * | HH10: =TEXT(DP10,"برزنونی-") -> * | HI10: =TEXT(DQ10,"برزنونی-") -> * | HJ10: =TEXT(DR10,"سالمی-") -> * | HK10: =TEXT(DS10,"سالمي-") -> * | HL10: =BB10 -> 6 | HM10: =BC7 -> چهارشنبه | HN10: =TEXT(DV10,"سالمی-") -> * | HO10: =TEXT(DW10,"سالمی-") -> * | HP10: =TEXT(DX10,"عبدالهی-") -> * | HQ10: =TEXT(DY10,"عبدالهی-") -> * | HR10: =TEXT(DZ10,"میرکریمی-") -> * | HS10: =TEXT(EA10,"میرکریمی-") -> * | HT10: =TEXT(EB10,"علوی-") -> * | HU10: =TEXT(EC10,"علوی-") -> * | HV10: =TEXT(ED10,"سلوکی-") -> * | HW10: =TEXT(EE10,"سلوکي-") -> * | HX10: =TEXT(EF10,"حسين خاني-") -> * | HY10: =TEXT(EG10,"حسين خاني-") -> * | HZ10: =TEXT(EH10,"علوي-") -> * | IA10: =TEXT(EI10,"علوي-") -> * | IB10: =TEXT(EJ10,"زارع زاده-") -> * | IC10: =TEXT(EK10,"زارع زاده-") -> * | ID10: =TEXT(EL10,"هاشمي-") -> * | IE10: =TEXT(EM10,"هاشمي-") -> * | IF10: =TEXT(EN10,"سلوکي- ") -> * | IG10: =TEXT(EO10,"سلوکي - ") -> * | RD10: =BB10 -> 6 | RE10: =BC7 -> چهارشنبه | RF10: صبح | RG10: =CONCATENATE(EV10,EX10,EZ10,FB10,FD10,FF10,FH10,FJ10,FL10,FN10,FP10,FR10,FT10,FV10,FX10,FZ10,GB10,GD10,GF10,GH10,GJ10,GL10,GN10,GP10,GR10,GT10,GV10,GX10,GZ10,HD10,HF10,HJ10) -> ******************************** | RI10: 6 | RJ10: =CONCATENATE(EW10,EY10,FA10,FC10,FE10,FG10,FI10,FK10,FM10,FO10,FQ10,FS10,FU10,FW10,FY10,GA10,GC10,GE10,GG10,GI10,GK10,GM10,GO10,GQ10,GS10,GU10,GW10,GY10,HA10,HE10,HG10,HK10) -> ******************************** | RL10: =BB10 -> 6 | RM10: =BC7 -> چهارشنبه | RN10: شب | RO10: =CONCATENATE(HN10,HP10,HR10,HT10,HV10,HX10,HZ10,IB10,ID10,IF10,HH10) -> *********** | RQ10: بامداد | RR10: =CONCATENATE(HO10,HQ10,HS10,HU10,HW10,HY10,IA10,IC10,IE10,IG10,HI10) -> ***********
A11: سردبیر انگلیسی | B11: علیمردانی | F11: انگليسي | G11: صبح | H11: پایش مکتوب | K11: پایش تصویری | N11: تصویر حضور1 /2 | S11: تصویری دور | AC11: خام انگلیسی | AD11: =RG42 -> ********************************************************* | AS11: مشاهده کارويژه هاي شيفت روز | BB11: 7 | BC11: یکشنبه | BD11: * | BE11: * | BF11: * | BG11: * | BH11: * | BI11: * | BJ11: * | BK11: * | BL11: * | BM11: * | BN11: * | BO11: * | BP11: * | BQ11: * | BR11: * | BS11: * | BT11: * | BU11: * | BV11: * | BW11: * | BX11: * | BY11: * | BZ11: * | CA11: * | CB11: * | CC11: * | CD11: * | CE11: * | CF11: * | CG11: * | CH11: * | CI11: * | CJ11: * | CK11: * | CL11: * | CM11: * | CN11: * | CO11: * | CP11: * | CQ11: * | CR11: * | CS11: * | CT11: * | CU11: * | CV11: * | CW11: * | CX11: * | CY11: * | CZ11: * | DA11: * | DB11: * | DC11: * | DD11: * | DE11: * | DF11: * | DG11: * | DH11: * | DI11: * | DJ11: =BB11 -> 7 | DK11: =BC8 -> پنجشنبه | DL11: * | DM11: * | DN11: * | DO11: * | DP11: * | DQ11: * | DR11: * | DS11: * | DT11: =BB11 -> 7 | DU11: =BC8 -> پنجشنبه | DV11: * | DW11: * | DX11: * | DY11: * | DZ11: * | EA11: * | EB11: * | EC11: * | ED11: * | EE11: * | EF11: * | EG11: * | EH11: * | EI11: * | EJ11: * | EK11: * | EL11: * | EM11: * | EN11: * | EO11: * | ET11: =BB11 -> 7 | EU11: =BC8 -> پنجشنبه | EV11: =TEXT(BD11,"هاشمی-") -> * | EW11: =TEXT(BE11,"هاشمی-") -> * | EX11: =TEXT(BF11,"چراغی-") -> * | EY11: =TEXT(BG11,"چراغي-") -> * | EZ11: =TEXT(BH11,"ولدمحمدي-") -> * | FA11: =TEXT(BI11,"ولدمحمدي-") -> * | FB11: =TEXT(BJ11,"رضايي-") -> * | FC11: =TEXT(BK11,"رضايي-") -> * | FD11: =TEXT(BL11,"پاشا-") -> * | FE11: =TEXT(BM11,"پاشا-") -> * | FF11: =TEXT(BN11,"علوی-") -> * | FG11: =TEXT(BO11,"علوی-") -> * | FH11: =TEXT(BP11,"عبدالهی-") -> * | FI11: =TEXT(BQ11,"عبدالهی-") -> * | FJ11: =TEXT(BR11,"حسینخانی-") -> * | FK11: =TEXT(BS11,"حسین خانی-") -> * | FL11: =TEXT(BT11,"م ا له بخش-") -> * | FM11: =TEXT(BU11,"م اله بخش-") -> * | FN11: =TEXT(BV11,"کبريايي-") -> * | FO11: =TEXT(BW11,"کبريايي-") -> * | FP11: =TEXT(BX11,"ميرکريمي-") -> * | FQ11: =TEXT(BY11,"ميرکريمي-") -> * | FR11: =TEXT(BZ11,"امیدی-") -> * | FS11: =TEXT(CA11,"امیدي - ") -> * | FT11: =TEXT(CB11,"مجلسي-") -> * | FU11: =TEXT(CC11,"مجلسي-") -> * | FV11: =TEXT(CD11,"گرجی - ") -> * | FW11: =TEXT(CE11,"گرجي-") -> * | FX11: =TEXT(CF11,"رضاحسيني-") -> * | FY11: =TEXT(CG11,"رضاحسيني-") -> * | FZ11: =TEXT(CH11,"حاجعلیپور-") -> * | GA11: =TEXT(CI11," حاجعلیپور-") -> * | GB11: =TEXT(CJ11,"قویدل-") -> * | GC11: =TEXT(CK11," قویدل-") -> * | GD11: =TEXT(CL11,"محمدي-") -> * | GE11: =TEXT(CM11,"محمدي-") -> * | GF11: =TEXT(CN11,"داداشي-") -> * | GG11: =TEXT(CO11,"داداشي-") -> * | GH11: =TEXT(CP11,"کاظميني - ") -> * | GI11: =TEXT(CQ11,"کاظميني -") -> * | GJ11: =TEXT(CR11,"بازرگان-") -> * | GK11: =TEXT(CS11,"بازرگان-") -> * | GL11: =TEXT(CT11,"نويد-") -> * | GM11: =TEXT(CU11,"نويد-") -> * | GN11: =TEXT(CV11,"طالبي-") -> * | GO11: =TEXT(CW11,"طالبي-") -> * | GP11: =TEXT(CX11,"بهشتي-") -> * | GQ11: =TEXT(CY11,"بهشتي-") -> * | GR11: =TEXT(CZ11,"علوی-") -> * | GS11: =TEXT(DA11,"علوی-") -> * | GT11: =TEXT(DB11,"اميدي-") -> * | GU11: =TEXT(DC11,"اميدي-") -> * | GV11: =TEXT(DD11,"م اله بخش-") -> * | GW11: =TEXT(DE11,"م اله بخش-") -> * | GX11: =TEXT(DF11,"عبدالهي-") -> * | GY11: =TEXT(DG11,"عبدالهي-") -> * | GZ11: =TEXT(DH11,"تاجبخش-") -> * | HA11: =TEXT(DI11,"تاجبخش-") -> * | HB11: =BB11 -> 7 | HC11: =BC8 -> پنجشنبه | HD11: =TEXT(DL11,"سلوکي - ") -> * | HE11: =TEXT(DM11,"سلوکي-") -> * | HF11: =TEXT(DN11,"برزنوني-") -> * | HG11: =TEXT(DO11," برزنونی-") -> * | HH11: =TEXT(DP11,"برزنونی-") -> * | HI11: =TEXT(DQ11,"برزنونی-") -> * | HJ11: =TEXT(DR11,"سالمی-") -> * | HK11: =TEXT(DS11,"سالمي-") -> * | HL11: =BB11 -> 7 | HM11: =BC8 -> پنجشنبه | HN11: =TEXT(DV11,"سالمی-") -> * | HO11: =TEXT(DW11,"سالمی-") -> * | HP11: =TEXT(DX11,"عبدالهی-") -> * | HQ11: =TEXT(DY11,"عبدالهی-") -> * | HR11: =TEXT(DZ11,"میرکریمی-") -> * | HS11: =TEXT(EA11,"میرکریمی-") -> * | HT11: =TEXT(EB11,"علوی-") -> * | HU11: =TEXT(EC11,"علوی-") -> * | HV11: =TEXT(ED11,"سلوکی-") -> * | HW11: =TEXT(EE11,"سلوکي-") -> * | HX11: =TEXT(EF11,"حسين خاني-") -> * | HY11: =TEXT(EG11,"حسين خاني-") -> * | HZ11: =TEXT(EH11,"علوي-") -> * | IA11: =TEXT(EI11,"علوي-") -> * | IB11: =TEXT(EJ11,"زارع زاده-") -> * | IC11: =TEXT(EK11,"زارع زاده-") -> * | ID11: =TEXT(EL11,"هاشمي-") -> * | IE11: =TEXT(EM11,"هاشمي-") -> * | IF11: =TEXT(EN11,"سلوکي- ") -> * | IG11: =TEXT(EO11,"سلوکي - ") -> * | RD11: =BB11 -> 7 | RE11: =BC8 -> پنجشنبه | RF11: صبح | RG11: =CONCATENATE(EV11,EX11,EZ11,FB11,FD11,FF11,FH11,FJ11,FL11,FN11,FP11,FR11,FT11,FV11,FX11,FZ11,GB11,GD11,GF11,GH11,GJ11,GL11,GN11,GP11,GR11,GT11,GV11,GX11,GZ11,HD11,HF11,HJ11) -> ******************************** | RI11: 7 | RJ11: =CONCATENATE(EW11,EY11,FA11,FC11,FE11,FG11,FI11,FK11,FM11,FO11,FQ11,FS11,FU11,FW11,FY11,GA11,GC11,GE11,GG11,GI11,GK11,GM11,GO11,GQ11,GS11,GU11,GW11,GY11,HA11,HE11,HG11,HK11) -> ******************************** | RL11: =BB11 -> 7 | RM11: =BC8 -> پنجشنبه | RN11: شب | RO11: =CONCATENATE(HN11,HP11,HR11,HT11,HV11,HX11,HZ11,IB11,ID11,IF11,HH11) -> *********** | RQ11: بامداد | RR11: =CONCATENATE(HO11,HQ11,HS11,HU11,HW11,HY11,IA11,IC11,IE11,IG11,HI11) -> ***********
A12: سردبیر عربی | B12: ولد محمدی | F12: عربي | G12: صبح | H12: پایش 1 / نشریات... | N12: تصویرحضور1/2/3/4 | S12: تصویری دور | AC12: خام عربی | AD12: =RG6 -> ******************************** | AS12: ککارویژه انگلیسی : تصویر انگلیسی1:BBC-FR24- FOX- PRESS تصویر انگليسي2: CNN-CCTV-NHK-الجزيره انگليسي تصویر انگليسي3: REUTERS-AP – راشا – بلومبرگ- يورو نيوز تصویر انگليسي4: شات شبکه هاي بدون لوگو پايش مکتوب 1: 1- انديشکده ها 2- خبرهاي ايران 3- سايت رسمي کشورها 4-توئیت شخصیتهای مهم جهان پایش مکتوب 2 :1- تصوير گوناگون از تويتر و يوتيوپ و .. 3- نشريات انگليسي و آمريکايي غير ايران پایش تصاویر : 1 میز آمریکا- 2میز اروپا –3 میز آسیا کارویژه های عربی : تصویر عربي1 : عالم-مسيره-اخباريه سوريه-لولو-منار-قدس تصویر عربي2: ميادين-عربيه-جزيره و جزيره مباشر- حدث تصویر عربي3: روسيااليوم- اخباريه سعودي- عراقيه- تصویر عربي4:اسکاي عربي-BBC-فلسطين اليوم کارويژه پايش یک عربي: 1- پایگاه ها 2-روزنامه ها 3- اندیشکده ها 4- خبرگزاریها کارویژه پایش دوعربی: منابع تصویری ( پایگاه شبکه ها و یوتیوپ ) فضای مجازی( توئیتر و فیس بوک و اینستا گرام و ... ) کارويژه هاي فرانسه الف - کارویژه یک -شبکه ها تصويري (فرانس 24 – تي وي پنج- ب اف ام تي وي ) -شبکه هاي راديويي ( راديو بين المللي فرانسه- يوروپ 1- ) انديشکده ها و تصويري توئيتر- ب- کارويژه دو: - خبرگزاريها - اينترنت - انديشکده ها - توئيت ها | BB12: 8 | BC12: دوشنبه | BD12: * | BE12: * | BF12: * | BG12: * | BH12: * | BI12: * | BJ12: * | BK12: * | BL12: * | BM12: * | BN12: * | BO12: * | BP12: * | BQ12: * | BR12: * | BS12: * | BT12: * | BU12: * | BV12: * | BW12: * | BX12: * | BY12: * | BZ12: * | CA12: * | CB12: * | CC12: * | CD12: * | CE12: * | CF12: * | CG12: * | CH12: * | CI12: * | CJ12: * | CK12: * | CL12: * | CM12: * | CN12: * | CO12: * | CP12: * | CQ12: * | CR12: * | CS12: * | CT12: * | CU12: * | CV12: * | CW12: * | CX12: * | CY12: * | CZ12: * | DA12: * | DB12: * | DC12: * | DD12: * | DE12: * | DF12: * | DG12: * | DH12: * | DI12: * | DJ12: =BB12 -> 8 | DK12: =BC9 -> جمعه | DL12: * | DM12: * | DN12: * | DO12: * | DP12: * | DQ12: * | DR12: * | DS12: * | DT12: =BB12 -> 8 | DU12: =BC9 -> جمعه | DV12: * | DW12: * | DX12: * | DY12: * | DZ12: * | EA12: * | EB12: * | EC12: * | ED12: * | EE12: * | EF12: * | EG12: * | EH12: * | EI12: * | EJ12: * | EK12: * | EL12: * | EM12: * | EN12: * | EO12: * | ET12: =BB12 -> 8 | EU12: =BC9 -> جمعه | EV12: =TEXT(BD12,"هاشمی-") -> * | EW12: =TEXT(BE12,"هاشمی-") -> * | EX12: =TEXT(BF12,"چراغی-") -> * | EY12: =TEXT(BG12,"چراغي-") -> * | EZ12: =TEXT(BH12,"ولدمحمدي-") -> * | FA12: =TEXT(BI12,"ولدمحمدي-") -> * | FB12: =TEXT(BJ12,"رضايي-") -> * | FC12: =TEXT(BK12,"رضايي-") -> * | FD12: =TEXT(BL12,"پاشا-") -> * | FE12: =TEXT(BM12,"پاشا-") -> * | FF12: =TEXT(BN12,"علوی-") -> * | FG12: =TEXT(BO12,"علوی-") -> * | FH12: =TEXT(BP12,"عبدالهی-") -> * | FI12: =TEXT(BQ12,"عبدالهی-") -> * | FJ12: =TEXT(BR12,"حسینخانی-") -> * | FK12: =TEXT(BS12,"حسین خانی-") -> * | FL12: =TEXT(BT12,"م ا له بخش-") -> * | FM12: =TEXT(BU12,"م اله بخش-") -> * | FN12: =TEXT(BV12,"کبريايي-") -> * | FO12: =TEXT(BW12,"کبريايي-") -> * | FP12: =TEXT(BX12,"ميرکريمي-") -> * | FQ12: =TEXT(BY12,"ميرکريمي-") -> * | FR12: =TEXT(BZ12,"امیدی-") -> * | FS12: =TEXT(CA12,"امیدي - ") -> * | FT12: =TEXT(CB12,"مجلسي-") -> * | FU12: =TEXT(CC12,"مجلسي-") -> * | FV12: =TEXT(CD12,"گرجی - ") -> * | FW12: =TEXT(CE12,"گرجي-") -> * | FX12: =TEXT(CF12,"رضاحسيني-") -> * | FY12: =TEXT(CG12,"رضاحسيني-") -> * | FZ12: =TEXT(CH12,"حاجعلیپور-") -> * | GA12: =TEXT(CI12," حاجعلیپور-") -> * | GB12: =TEXT(CJ12,"قویدل-") -> * | GC12: =TEXT(CK12," قویدل-") -> * | GD12: =TEXT(CL12,"محمدي-") -> * | GE12: =TEXT(CM12,"محمدي-") -> * | GF12: =TEXT(CN12,"داداشي-") -> * | GG12: =TEXT(CO12,"داداشي-") -> * | GH12: =TEXT(CP12,"کاظميني - ") -> * | GI12: =TEXT(CQ12,"کاظميني -") -> * | GJ12: =TEXT(CR12,"بازرگان-") -> * | GK12: =TEXT(CS12,"بازرگان-") -> * | GL12: =TEXT(CT12,"نويد-") -> * | GM12: =TEXT(CU12,"نويد-") -> * | GN12: =TEXT(CV12,"طالبي-") -> * | GO12: =TEXT(CW12,"طالبي-") -> * | GP12: =TEXT(CX12,"بهشتي-") -> * | GQ12: =TEXT(CY12,"بهشتي-") -> * | GR12: =TEXT(CZ12,"علوی-") -> * | GS12: =TEXT(DA12,"علوی-") -> * | GT12: =TEXT(DB12,"اميدي-") -> * | GU12: =TEXT(DC12,"اميدي-") -> * | GV12: =TEXT(DD12,"م اله بخش-") -> * | GW12: =TEXT(DE12,"م اله بخش-") -> * | GX12: =TEXT(DF12,"عبدالهي-") -> * | GY12: =TEXT(DG12,"عبدالهي-") -> * | GZ12: =TEXT(DH12,"تاجبخش-") -> * | HA12: =TEXT(DI12,"تاجبخش-") -> * | HB12: =BB12 -> 8 | HC12: =BC9 -> جمعه | HD12: =TEXT(DL12,"سلوکي - ") -> * | HE12: =TEXT(DM12,"سلوکي-") -> * | HF12: =TEXT(DN12,"برزنوني-") -> * | HG12: =TEXT(DO12," برزنونی-") -> * | HH12: =TEXT(DP12,"برزنونی-") -> * | HI12: =TEXT(DQ12,"برزنونی-") -> * | HJ12: =TEXT(DR12,"سالمی-") -> * | HK12: =TEXT(DS12,"سالمي-") -> * | HL12: =BB12 -> 8 | HM12: =BC9 -> جمعه | HN12: =TEXT(DV12,"سالمی-") -> * | HO12: =TEXT(DW12,"سالمی-") -> * | HP12: =TEXT(DX12,"عبدالهی-") -> * | HQ12: =TEXT(DY12,"عبدالهی-") -> * | HR12: =TEXT(DZ12,"میرکریمی-") -> * | HS12: =TEXT(EA12,"میرکریمی-") -> * | HT12: =TEXT(EB12,"علوی-") -> * | HU12: =TEXT(EC12,"علوی-") -> * | HV12: =TEXT(ED12,"سلوکی-") -> * | HW12: =TEXT(EE12,"سلوکي-") -> * | HX12: =TEXT(EF12,"حسين خاني-") -> * | HY12: =TEXT(EG12,"حسين خاني-") -> * | HZ12: =TEXT(EH12,"علوي-") -> * | IA12: =TEXT(EI12,"علوي-") -> * | IB12: =TEXT(EJ12,"زارع زاده-") -> * | IC12: =TEXT(EK12,"زارع زاده-") -> * | ID12: =TEXT(EL12,"هاشمي-") -> * | IE12: =TEXT(EM12,"هاشمي-") -> * | IF12: =TEXT(EN12,"سلوکي- ") -> * | IG12: =TEXT(EO12,"سلوکي - ") -> * | RD12: =BB12 -> 8 | RE12: =BC9 -> جمعه | RF12: صبح | RG12: =CONCATENATE(EV12,EX12,EZ12,FB12,FD12,FF12,FH12,FJ12,FL12,FN12,FP12,FR12,FT12,FV12,FX12,FZ12,GB12,GD12,GF12,GH12,GJ12,GL12,GN12,GP12,GR12,GT12,GV12,GX12,GZ12,HD12,HF12,HJ12) -> ******************************** | RI12: 8 | RJ12: =CONCATENATE(EW12,EY12,FA12,FC12,FE12,FG12,FI12,FK12,FM12,FO12,FQ12,FS12,FU12,FW12,FY12,GA12,GC12,GE12,GG12,GI12,GK12,GM12,GO12,GQ12,GS12,GU12,GW12,GY12,HA12,HE12,HG12,HK12) -> ******************************** | RL12: =BB12 -> 8 | RM12: =BC9 -> جمعه | RN12: شب | RO12: =CONCATENATE(HN12,HP12,HR12,HT12,HV12,HX12,HZ12,IB12,ID12,IF12,HH12) -> *********** | RQ12: بامداد | RR12: =CONCATENATE(HO12,HQ12,HS12,HU12,HW12,HY12,IA12,IC12,IE12,IG12,HI12) -> ***********
A13: مترجم همزمان و سردبیر فرانسه | B13: علیمردانی | F13: فرانسه و.. | G13: صبح | H13: شبکه های تصویری و نشریات فرانسه | N13: تصویری حضوری | P13: تصویری دور | V13: زبانهای دیگر | Y13: تدوین و دبیران | Z13: پیرویسی | AC13: خام فرانسه | AD13: =RG78 -> *فخرآور-*************** | AM13: تدوین و دوبیران | AN13: =RG114 -> ******************* | BB13: 9 | BC13: سه شنبه | BD13: * | BE13: * | BF13: * | BG13: * | BH13: * | BI13: * | BJ13: * | BK13: * | BL13: * | BM13: * | BN13: * | BO13: * | BP13: * | BQ13: * | BR13: * | BS13: * | BT13: * | BU13: * | BV13: * | BW13: * | BX13: * | BY13: * | BZ13: * | CA13: * | CB13: * | CC13: * | CD13: * | CE13: * | CF13: * | CG13: * | CH13: * | CI13: * | CJ13: * | CK13: * | CL13: * | CM13: * | CN13: * | CO13: * | CP13: * | CQ13: * | CR13: * | CS13: * | CT13: * | CU13: * | CV13: * | CW13: * | CX13: * | CY13: * | CZ13: * | DA13: * | DB13: * | DC13: * | DD13: * | DE13: * | DF13: * | DG13: * | DH13: * | DI13: * | DJ13: =BB13 -> 9 | DK13: =BC10 -> شنبه | DL13: * | DM13: * | DN13: * | DO13: * | DP13: * | DQ13: * | DR13: * | DS13: * | DT13: =BB13 -> 9 | DU13: =BC10 -> شنبه | DV13: * | DW13: * | DX13: * | DY13: * | DZ13: * | EA13: * | EB13: * | EC13: * | ED13: * | EE13: * | EF13: * | EG13: * | EH13: * | EI13: * | EJ13: * | EK13: * | EL13: * | EM13: * | EN13: * | EO13: * | ET13: =BB13 -> 9 | EU13: =BC10 -> شنبه | EV13: =TEXT(BD13,"هاشمی-") -> * | EW13: =TEXT(BE13,"هاشمی-") -> * | EX13: =TEXT(BF13,"چراغی-") -> * | EY13: =TEXT(BG13,"چراغي-") -> * | EZ13: =TEXT(BH13,"ولدمحمدي-") -> * | FA13: =TEXT(BI13,"ولدمحمدي-") -> * | FB13: =TEXT(BJ13,"رضايي-") -> * | FC13: =TEXT(BK13,"رضايي-") -> * | FD13: =TEXT(BL13,"پاشا-") -> * | FE13: =TEXT(BM13,"پاشا-") -> * | FF13: =TEXT(BN13,"علوی-") -> * | FG13: =TEXT(BO13,"علوی-") -> * | FH13: =TEXT(BP13,"عبدالهی-") -> * | FI13: =TEXT(BQ13,"عبدالهی-") -> * | FJ13: =TEXT(BR13,"حسینخانی-") -> * | FK13: =TEXT(BS13,"حسین خانی-") -> * | FL13: =TEXT(BT13,"م ا له بخش-") -> * | FM13: =TEXT(BU13,"م اله بخش-") -> * | FN13: =TEXT(BV13,"کبريايي-") -> * | FO13: =TEXT(BW13,"کبريايي-") -> * | FP13: =TEXT(BX13,"ميرکريمي-") -> * | FQ13: =TEXT(BY13,"ميرکريمي-") -> * | FR13: =TEXT(BZ13,"امیدی-") -> * | FS13: =TEXT(CA13,"امیدي - ") -> * | FT13: =TEXT(CB13,"مجلسي-") -> * | FU13: =TEXT(CC13,"مجلسي-") -> * | FV13: =TEXT(CD13,"گرجی - ") -> * | FW13: =TEXT(CE13,"گرجي-") -> * | FX13: =TEXT(CF13,"رضاحسيني-") -> * | FY13: =TEXT(CG13,"رضاحسيني-") -> * | FZ13: =TEXT(CH13,"حاجعلیپور-") -> * | GA13: =TEXT(CI13," حاجعلیپور-") -> * | GB13: =TEXT(CJ13,"قویدل-") -> * | GC13: =TEXT(CK13," قویدل-") -> * | GD13: =TEXT(CL13,"محمدي-") -> * | GE13: =TEXT(CM13,"محمدي-") -> * | GF13: =TEXT(CN13,"داداشي-") -> * | GG13: =TEXT(CO13,"داداشي-") -> * | GH13: =TEXT(CP13,"کاظميني - ") -> * | GI13: =TEXT(CQ13,"کاظميني -") -> * | GJ13: =TEXT(CR13,"بازرگان-") -> * | GK13: =TEXT(CS13,"بازرگان-") -> * | GL13: =TEXT(CT13,"نويد-") -> * | GM13: =TEXT(CU13,"نويد-") -> * | GN13: =TEXT(CV13,"طالبي-") -> * | GO13: =TEXT(CW13,"طالبي-") -> * | GP13: =TEXT(CX13,"بهشتي-") -> * | GQ13: =TEXT(CY13,"بهشتي-") -> * | GR13: =TEXT(CZ13,"علوی-") -> * | GS13: =TEXT(DA13,"علوی-") -> * | GT13: =TEXT(DB13,"اميدي-") -> * | GU13: =TEXT(DC13,"اميدي-") -> * | GV13: =TEXT(DD13,"م اله بخش-") -> * | GW13: =TEXT(DE13,"م اله بخش-") -> * | GX13: =TEXT(DF13,"عبدالهي-") -> * | GY13: =TEXT(DG13,"عبدالهي-") -> * | GZ13: =TEXT(DH13,"تاجبخش-") -> * | HA13: =TEXT(DI13,"تاجبخش-") -> * | HB13: =BB13 -> 9 | HC13: =BC10 -> شنبه | HD13: =TEXT(DL13,"سلوکي - ") -> * | HE13: =TEXT(DM13,"سلوکي-") -> * | HF13: =TEXT(DN13,"برزنوني-") -> * | HG13: =TEXT(DO13," برزنونی-") -> * | HH13: =TEXT(DP13,"برزنونی-") -> * | HI13: =TEXT(DQ13,"برزنونی-") -> * | HJ13: =TEXT(DR13,"سالمی-") -> * | HK13: =TEXT(DS13,"سالمي-") -> * | HL13: =BB13 -> 9 | HM13: =BC10 -> شنبه | HN13: =TEXT(DV13,"سالمی-") -> * | HO13: =TEXT(DW13,"سالمی-") -> * | HP13: =TEXT(DX13,"عبدالهی-") -> * | HQ13: =TEXT(DY13,"عبدالهی-") -> * | HR13: =TEXT(DZ13,"میرکریمی-") -> * | HS13: =TEXT(EA13,"میرکریمی-") -> * | HT13: =TEXT(EB13,"علوی-") -> * | HU13: =TEXT(EC13,"علوی-") -> * | HV13: =TEXT(ED13,"سلوکی-") -> * | HW13: =TEXT(EE13,"سلوکي-") -> * | HX13: =TEXT(EF13,"حسين خاني-") -> * | HY13: =TEXT(EG13,"حسين خاني-") -> * | HZ13: =TEXT(EH13,"علوي-") -> * | IA13: =TEXT(EI13,"علوي-") -> * | IB13: =TEXT(EJ13,"زارع زاده-") -> * | IC13: =TEXT(EK13,"زارع زاده-") -> * | ID13: =TEXT(EL13,"هاشمي-") -> * | IE13: =TEXT(EM13,"هاشمي-") -> * | IF13: =TEXT(EN13,"سلوکي- ") -> * | IG13: =TEXT(EO13,"سلوکي - ") -> * | RD13: =BB13 -> 9 | RE13: =BC10 -> شنبه | RF13: صبح | RG13: =CONCATENATE(EV13,EX13,EZ13,FB13,FD13,FF13,FH13,FJ13,FL13,FN13,FP13,FR13,FT13,FV13,FX13,FZ13,GB13,GD13,GF13,GH13,GJ13,GL13,GN13,GP13,GR13,GT13,GV13,GX13,GZ13,HD13,HF13,HJ13) -> ******************************** | RI13: 9 | RJ13: =CONCATENATE(EW13,EY13,FA13,FC13,FE13,FG13,FI13,FK13,FM13,FO13,FQ13,FS13,FU13,FW13,FY13,GA13,GC13,GE13,GG13,GI13,GK13,GM13,GO13,GQ13,GS13,GU13,GW13,GY13,HA13,HE13,HG13,HK13) -> ******************************** | RL13: =BB13 -> 9 | RM13: =BC10 -> شنبه | RN13: شب | RO13: =CONCATENATE(HN13,HP13,HR13,HT13,HV13,HX13,HZ13,IB13,ID13,IF13,HH13) -> *********** | RQ13: بامداد | RR13: =CONCATENATE(HO13,HQ13,HS13,HU13,HW13,HY13,IA13,IC13,IE13,IG13,HI13) -> ***********
A14: سردبیر انگلیسی | B14: قربانی | F14: انگليسي | G14: عصر | H14: پایش مکتوب | K14: پایش تصویری | N14: تصویر حضور1 /2 | S14: تصویری دور | AC14: خام انگلیسی | AD14: =RJ42 -> ********************************************************* | BB14: 10 | BC14: چهارشنبه | BD14: * | BE14: * | BF14: * | BG14: * | BH14: * | BI14: * | BJ14: * | BK14: * | BL14: * | BM14: * | BN14: * | BO14: * | BP14: * | BQ14: * | BR14: * | BS14: * | BT14: * | BU14: * | BV14: * | BW14: * | BX14: * | BY14: * | BZ14: * | CA14: * | CB14: * | CC14: * | CD14: * | CE14: * | CF14: * | CG14: * | CH14: * | CI14: * | CJ14: * | CK14: * | CL14: * | CM14: * | CN14: * | CO14: * | CP14: * | CQ14: * | CR14: * | CS14: * | CT14: * | CU14: * | CV14: * | CW14: * | CX14: * | CY14: * | CZ14: * | DA14: * | DB14: * | DC14: * | DD14: * | DE14: * | DF14: * | DG14: * | DH14: * | DI14: * | DJ14: =BB14 -> 10 | DK14: =BC11 -> یکشنبه | DL14: * | DM14: * | DN14: * | DO14: * | DP14: * | DQ14: * | DR14: * | DS14: * | DT14: =BB14 -> 10 | DU14: =BC11 -> یکشنبه | DV14: * | DW14: * | DX14: * | DY14: * | DZ14: * | EA14: * | EB14: * | EC14: * | ED14: * | EE14: * | EF14: * | EG14: * | EH14: * | EI14: * | EJ14: * | EK14: * | EL14: * | EM14: * | EN14: * | EO14: * | ET14: =BB14 -> 10 | EU14: =BC11 -> یکشنبه | EV14: =TEXT(BD14,"هاشمی-") -> * | EW14: =TEXT(BE14,"هاشمی-") -> * | EX14: =TEXT(BF14,"چراغی-") -> * | EY14: =TEXT(BG14,"چراغي-") -> * | EZ14: =TEXT(BH14,"ولدمحمدي-") -> * | FA14: =TEXT(BI14,"ولدمحمدي-") -> * | FB14: =TEXT(BJ14,"رضايي-") -> * | FC14: =TEXT(BK14,"رضايي-") -> * | FD14: =TEXT(BL14,"پاشا-") -> * | FE14: =TEXT(BM14,"پاشا-") -> * | FF14: =TEXT(BN14,"علوی-") -> * | FG14: =TEXT(BO14,"علوی-") -> * | FH14: =TEXT(BP14,"عبدالهی-") -> * | FI14: =TEXT(BQ14,"عبدالهی-") -> * | FJ14: =TEXT(BR14,"حسینخانی-") -> * | FK14: =TEXT(BS14,"حسین خانی-") -> * | FL14: =TEXT(BT14,"م ا له بخش-") -> * | FM14: =TEXT(BU14,"م اله بخش-") -> * | FN14: =TEXT(BV14,"کبريايي-") -> * | FO14: =TEXT(BW14,"کبريايي-") -> * | FP14: =TEXT(BX14,"ميرکريمي-") -> * | FQ14: =TEXT(BY14,"ميرکريمي-") -> * | FR14: =TEXT(BZ14,"امیدی-") -> * | FS14: =TEXT(CA14,"امیدي - ") -> * | FT14: =TEXT(CB14,"مجلسي-") -> * | FU14: =TEXT(CC14,"مجلسي-") -> * | FV14: =TEXT(CD14,"گرجی - ") -> * | FW14: =TEXT(CE14,"گرجي-") -> * | FX14: =TEXT(CF14,"رضاحسيني-") -> * | FY14: =TEXT(CG14,"رضاحسيني-") -> * | FZ14: =TEXT(CH14,"حاجعلیپور-") -> * | GA14: =TEXT(CI14," حاجعلیپور-") -> * | GB14: =TEXT(CJ14,"قویدل-") -> * | GC14: =TEXT(CK14," قویدل-") -> * | GD14: =TEXT(CL14,"محمدي-") -> * | GE14: =TEXT(CM14,"محمدي-") -> * | GF14: =TEXT(CN14,"داداشي-") -> * | GG14: =TEXT(CO14,"داداشي-") -> * | GH14: =TEXT(CP14,"کاظميني - ") -> * | GI14: =TEXT(CQ14,"کاظميني -") -> * | GJ14: =TEXT(CR14,"بازرگان-") -> * | GK14: =TEXT(CS14,"بازرگان-") -> * | GL14: =TEXT(CT14,"نويد-") -> * | GM14: =TEXT(CU14,"نويد-") -> * | GN14: =TEXT(CV14,"طالبي-") -> * | GO14: =TEXT(CW14,"طالبي-") -> * | GP14: =TEXT(CX14,"بهشتي-") -> * | GQ14: =TEXT(CY14,"بهشتي-") -> * | GR14: =TEXT(CZ14,"علوی-") -> * | GS14: =TEXT(DA14,"علوی-") -> * | GT14: =TEXT(DB14,"اميدي-") -> * | GU14: =TEXT(DC14,"اميدي-") -> * | GV14: =TEXT(DD14,"م اله بخش-") -> * | GW14: =TEXT(DE14,"م اله بخش-") -> * | GX14: =TEXT(DF14,"عبدالهي-") -> * | GY14: =TEXT(DG14,"عبدالهي-") -> * | GZ14: =TEXT(DH14,"تاجبخش-") -> * | HA14: =TEXT(DI14,"تاجبخش-") -> * | HB14: =BB14 -> 10 | HC14: =BC11 -> یکشنبه | HD14: =TEXT(DL14,"سلوکي - ") -> * | HE14: =TEXT(DM14,"سلوکي-") -> * | HF14: =TEXT(DN14,"برزنوني-") -> * | HG14: =TEXT(DO14," برزنونی-") -> * | HH14: =TEXT(DP14,"برزنونی-") -> * | HI14: =TEXT(DQ14,"برزنونی-") -> * | HJ14: =TEXT(DR14,"سالمی-") -> * | HK14: =TEXT(DS14,"سالمي-") -> * | HL14: =BB14 -> 10 | HM14: =BC11 -> یکشنبه | HN14: =TEXT(DV14,"سالمی-") -> * | HO14: =TEXT(DW14,"سالمی-") -> * | HP14: =TEXT(DX14,"عبدالهی-") -> * | HQ14: =TEXT(DY14,"عبدالهی-") -> * | HR14: =TEXT(DZ14,"میرکریمی-") -> * | HS14: =TEXT(EA14,"میرکریمی-") -> * | HT14: =TEXT(EB14,"علوی-") -> * | HU14: =TEXT(EC14,"علوی-") -> * | HV14: =TEXT(ED14,"سلوکی-") -> * | HW14: =TEXT(EE14,"سلوکي-") -> * | HX14: =TEXT(EF14,"حسين خاني-") -> * | HY14: =TEXT(EG14,"حسين خاني-") -> * | HZ14: =TEXT(EH14,"علوي-") -> * | IA14: =TEXT(EI14,"علوي-") -> * | IB14: =TEXT(EJ14,"زارع زاده-") -> * | IC14: =TEXT(EK14,"زارع زاده-") -> * | ID14: =TEXT(EL14,"هاشمي-") -> * | IE14: =TEXT(EM14,"هاشمي-") -> * | IF14: =TEXT(EN14,"سلوکي- ") -> * | IG14: =TEXT(EO14,"سلوکي - ") -> * | RD14: =BB14 -> 10 | RE14: =BC11 -> یکشنبه | RF14: صبح | RG14: =CONCATENATE(EV14,EX14,EZ14,FB14,FD14,FF14,FH14,FJ14,FL14,FN14,FP14,FR14,FT14,FV14,FX14,FZ14,GB14,GD14,GF14,GH14,GJ14,GL14,GN14,GP14,GR14,GT14,GV14,GX14,GZ14,HD14,HF14,HJ14) -> ******************************** | RI14: 10 | RJ14: =CONCATENATE(EW14,EY14,FA14,FC14,FE14,FG14,FI14,FK14,FM14,FO14,FQ14,FS14,FU14,FW14,FY14,GA14,GC14,GE14,GG14,GI14,GK14,GM14,GO14,GQ14,GS14,GU14,GW14,GY14,HA14,HE14,HG14,HK14) -> ******************************** | RL14: =BB14 -> 10 | RM14: =BC11 -> یکشنبه | RN14: شب | RO14: =CONCATENATE(HN14,HP14,HR14,HT14,HV14,HX14,HZ14,IB14,ID14,IF14,HH14) -> *********** | RQ14: بامداد | RR14: =CONCATENATE(HO14,HQ14,HS14,HU14,HW14,HY14,IA14,IC14,IE14,IG14,HI14) -> ***********
