Workbook

Sheet شيفت 
A1: چهار شنبه | B1: بهمن 1 | C1: سردبیران | D1: کمکی | E1: سردبیر دورکار | F1: تحریریه ها | H1: 1 | I1: 2 | J1: 3 | K1: 4 | L1: 5 | M1: 6 | N1: حضوری | O1: حضوری | P1: حضوری | Q1: حضوری | R1: حضوری | T1: انگلیسی صبح | X1: انگليسي عصر | AC1: عربی صبح | AG1: عربي عصر | AK1: فرانسه صبح | AO1: فرانسه عصر | AS1: زبانهاي دیگر | AV1: شب و نيمه شب
A2: سردبیر انگلیسی | B2: حاج محمدی | F2: انگليسي | G2: صبح | H2: پایش مکتوب | K2: پایش تصویری | N2: تصویر حضور1 /2 | S2: تصویری دور | AC2: خام انگلیسی | AD2: =RG41 -> *حا ج محمدی- **************************************************حیدری-**** | AS2: مشاهده کارويژه هاي شيفت روز | BB2: عربي //// عربي //// عربي صبح و عصر | DT2: عربي شب و نيمه شب
B3: پاشا | F3: عربي | G3: صبح | H3: پایش 1 / نشریات... | N3: تصویرحضور1/2/3/4 | S3: تصویری دور | AC3: خام عربی | AD3: =RG5 -> ******************************** | AS3: ککارویژه انگلیسی : تصویر انگلیسی1:BBC-FR24- FOX- PRESS تصویر انگليسي2: CNN-CCTV-NHK-الجزيره انگليسي تصویر انگليسي3: REUTERS-AP – راشا – بلومبرگ- يورو نيوز تصویر انگليسي4: شات شبکه هاي بدون لوگو پايش مکتوب 1: 1- انديشکده ها 2- خبرهاي ايران 3- سايت رسمي کشورها 4-توئیت شخصیتهای مهم جهان پایش مکتوب 2 :1- تصوير گوناگون از تويتر و يوتيوپ و .. 3- نشريات انگليسي و آمريکايي غير ايران پایش تصاویر : 1 میز آمریکا- 2میز اروپا –3 میز آسیا کارویژه های عربی : تصویر عربي1 : عالم-مسيره-اخباريه سوريه-لولو-منار-قدس تصویر عربي2: ميادين-عربيه-جزيره و جزيره مباشر- حدث تصویر عربي3: روسيااليوم- اخباريه سعودي- عراقيه- تصویر عربي4:اسکاي عربي-BBC-فلسطين اليوم کارويژه پايش یک عربي: 1- پایگاه ها 2-روزنامه ها 3- اندیشکده ها 4- خبرگزاریها کارویژه پایش دوعربی: منابع تصویری ( پایگاه شبکه ها و یوتیوپ ) فضای مجازی( توئیتر و فیس بوک و اینستا گرام و ... ) کارويژه هاي فرانسه الف - کارویژه یک -شبکه ها تصويري (فرانس 24 – تي وي پنج- ب اف ام تي وي ) -شبکه هاي راديويي ( راديو بين المللي فرانسه- يوروپ 1- ) انديشکده ها و تصويري توئيتر- ب- کارويژه دو: - خبرگزاريها - اينترنت - انديشکده ها - توئيت ها | BB3: اسامي | BD3: هاشمی | BF3: چراغی | BH3: ولد محمدي | BJ3: رضايي | BL3: پاشا | BN3: علوی | BP3: عبدالهی | BR3: حسین خانی | BT3: م اله بخش | BV3: کبريايي | BX3: ميرکريمي | BZ3: امیدی | CB3: مجلسي | CD3: گرجی نژاد | CF3: رضا حسيني | CH3: حاجعلیپور | CJ3: قوي دل | CL3: محمدي | CN3: داداشي | CP3: کاظميني | CR3: بازرگان | CT3: نويد | CV3: طالبي | CX3: بهشتي | DJ3: اسامي | DL3: سلوکي | DN3: برزنونی | DP3: برزنونی | DR3: سالمی | DT3: اسامي | DV3: سالمی | DX3: عبدالهي | DZ3: ميرکريمي | EB3: علوی | ED3: سلوکی | EF3: حسین خانی | ET3: اسامي | EV3: هاشمی | EX3: چراغی | EZ3: ولد محمدي | FB3: رضايي | FD3: پاشا | FF3: علوی | FH3: عبدالهی | FJ3: حسین خانی | FL3: م اله بخش | FN3: کبريايي | FP3: ميرکريمي | FR3: امیدی | FT3: مجلسي | FV3: گرجی نژاد | FX3: رضا حسيني | FZ3: حاجعلیپور | GB3: قوي دل | GD3: محمدي | GF3: داداشي | GH3: کاظميني | GJ3: بازرگان | GL3: نويد | GN3: طالبي | GP3: بهشتي | HB3: اسامي | HD3: سلوکي | HF3: برزنونی | HH3: برزنونی | HJ3: سالمی | HL3: اسامي | HN3: سالمی | HP3: عبدالهي | HR3: ميرکريمي | HT3: علوی | HV3: سلوکی | HX3: حسين خاني | HZ3: علوي | IB3: زارع زاده | ID3: هاشمي | IF3: سلوکي | IH3: زارع
A4: مترجم همزمان و سردبیر فرانسه | B4: حاج محمدی | F4: فرانسه و.. | G4: صبح | H4: شبکه های تصویری و نشریات فرانسه | N4: تصویری حضوری | P4: تصویری دور | V4: زبانهای دیگر | Y4: تدوین و دبیران | Z4: ابراهیمی | AC4: خام فرانسه | AD4: =RG77 -> ***************** | AM4: تدوین و دوبیران | AN4: =RG113 -> ******************* | BB4: تاريخ | BC4: روز | BD4: صبح | BE4: عصر | BF4: صبح | BG4: عصر | BH4: صبح | BI4: عصر | BJ4: صبح | BK4: عصر | BL4: صبح | BM4: عصر | BN4: صبح | BO4: عصر | BP4: صبح | BQ4: عصر | BR4: صبح | BS4: عصر | BT4: صبح | BU4: عصر | BV4: صبح | BW4: عصر | BX4: صبح | BY4: عصر | BZ4: صبح | CA4: عصر | CB4: صبح | CC4: عصر | CD4: صبح | CE4: عصر | CF4: صبح | CG4: عصر | CH4: صبح | CI4: عصر | CJ4: صبح | CK4: عصر | CL4: صبح | CM4: عصر | CN4: صبح | CO4: عصر | CP4: صبح | CQ4: عصر | CR4: صبح | CS4: عصر | CT4: صبح | CU4: عصر | CV4: صبح | CW4: عصر | CX4: صبح | CY4: عصر | CZ4: صبح | DA4: عصر | DB4: صبح | DC4: عصر | DD4: صبح | DE4: عصر | DF4: صبح | DG4: عصر | DH4: صبح | DI4: عصر | DJ4: تاريخ | DK4: روز | DL4: صبح | DM4: عصر | DN4: صبح | DO4: عصر | DP4: شب و | DQ4: بامداد | DR4: صبح | DS4: عصر | DT4: تاريخ | DU4: روز | DV4: شب | DW4: بامداد | DX4: شب | DY4: بامداد | DZ4: شب | EA4: بامداد | EB4: شب | EC4: بامداد | ED4: شب | EE4: بامداد | EF4: شب | EG4: بامداد | EH4: شب | EI4: بامداد | EJ4: شب | EK4: بامداد | EL4: شب | EM4: بامداد | EN4: شب | EO4: بامداد | ET4: تاريخ | EU4: روز | EV4: صبح | EW4: عصر | EX4: صبح | EY4: عصر | EZ4: صبح | FA4: عصر | FB4: صبح | FC4: عصر | FD4: صبح | FE4: عصر | FF4: صبح | FG4: عصر | FH4: صبح | FI4: عصر | FJ4: صبح | FK4: عصر | FL4: صبح | FM4: عصر | FN4: صبح | FO4: عصر | FP4: صبح | FQ4: عصر | FR4: صبح | FS4: عصر | FT4: صبح | FU4: عصر | FV4: صبح | FW4: عصر | FX4: صبح | FY4: عصر | FZ4: صبح | GA4: عصر | GB4: صبح | GC4: عصر | GD4: صبح | GE4: عصر | GF4: صبح | GG4: عصر | GH4: صبح | GI4: عصر | GJ4: صبح | GK4: عصر | GL4: صبح | GM4: عصر | GN4: صبح | GO4: عصر | GP4: صبح | GQ4: عصر | GR4: صبح | GS4: عصر | GT4: صبح | GU4: عصر | GV4: صبح | GW4: عصر | GX4: صبح | GY4: عصر | GZ4: صبح | HA4: عصر | HB4: تاريخ | HC4: روز | HD4: صبح | HE4: عصر | HF4: صبح | HG4: عصر | HH4: شب | HI4: بامداد | HJ4: صبح | HK4: عصر | HL4: تاريخ | HM4: روز | HN4: شب | HO4: بامداد | HP4: شب | HQ4: بامداد | HR4: شب | HS4: بامداد | HT4: شب | HU4: بامداد | HV4: شب | HW4: بامداد | HX4: شب | HY4: بامداد | HZ4: شب | IA4: بامداد | IB4: شب | IC4: بامداد | ID4: شب | IE4: بامداد | IF4: شب | IG4: بامداد | RD4: تاريخ | RE4: روز
A5: سردبیر انگلیسی | B5: علیمیرزایی | F5: انگليسي | G5: عصر | H5: پایش مکتوب | K5: پایش تصویری | N5: تصویر حضور1 /2 | S5: تصویری دور | AC5: خام انگلیسی | AD5: =RJ41 -> ********************************************************* | BB5: 1 | BC5: دوشنبه | BD5: * | BE5: * | BF5: * | BG5: * | BH5: * | BI5: * | BJ5: * | BK5: * | BL5: * | BM5: * | BN5: * | BO5: * | BP5: * | BQ5: * | BR5: * | BS5: * | BT5: * | BU5: * | BV5: * | BW5: * | BX5: * | BY5: * | BZ5: * | CA5: * | CB5: * | CC5: * | CD5: * | CE5: * | CF5: * | CG5: * | CH5: * | CI5: * | CJ5: * | CK5: * | CL5: * | CM5: * | CN5: * | CO5: * | CP5: * | CQ5: * | CR5: * | CS5: * | CT5: * | CU5: * | CV5: * | CW5: * | CX5: * | CY5: * | CZ5: * | DA5: * | DB5: * | DC5: * | DD5: * | DE5: * | DF5: * | DG5: * | DH5: * | DI5: * | DJ5: =BB5 -> 1 | DK5: =#REF! -> #REF! | DL5: * | DM5: * | DN5: * | DO5: * | DP5: * | DQ5: * | DR5: * | DS5: * | DT5: =BB5 -> 1 | DU5: =#REF! -> #REF! | DV5: * | DW5: * | DX5: * | DY5: * | DZ5: * | EA5: * | EB5: * | EC5: * | ED5: * | EE5: * | EF5: * | EG5: * | EH5: * | EI5: * | EJ5: * | EK5: * | EL5: * | EM5: * | EN5: * | EO5: * | ET5: =BB5 -> 1 | EU5: =#REF! -> #REF! | EV5: =TEXT(BD5,"هاشمی-") -> * | EW5: =TEXT(BE5,"هاشمی-") -> * | EX5: =TEXT(BF5,"چراغی-") -> * | EY5: =TEXT(BG5,"چراغي-") -> * | EZ5: =TEXT(BH5,"ولدمحمدي-") -> * | FA5: =TEXT(BI5,"ولدمحمدي-") -> * | FB5: =TEXT(BJ5,"رضايي-") -> * | FC5: =TEXT(BK5,"رضايي-") -> * | FD5: =TEXT(BL5,"پاشا-") -> * | FE5: =TEXT(BM5,"پاشا-") -> * | FF5: =TEXT(BN5,"علوی-") -> * | FG5: =TEXT(BO5,"علوی-") -> * | FH5: =TEXT(BP5,"عبدالهی-") -> * | FI5: =TEXT(BQ5,"عبدالهی-") -> * | FJ5: =TEXT(BR5,"حسینخانی-") -> * | FK5: =TEXT(BS5,"حسین خانی-") -> * | FL5: =TEXT(BT5,"م ا له بخش-") -> * | FM5: =TEXT(BU5,"م اله بخش-") -> * | FN5: =TEXT(BV5,"کبريايي-") -> * | FO5: =TEXT(BW5,"کبريايي-") -> * | FP5: =TEXT(BX5,"ميرکريمي-") -> * | FQ5: =TEXT(BY5,"ميرکريمي-") -> * | FR5: =TEXT(BZ5,"امیدی-") -> * | FS5: =TEXT(CA5,"امیدي - ") -> * | FT5: =TEXT(CB5,"مجلسي-") -> * | FU5: =TEXT(CC5,"مجلسي-") -> * | FV5: =TEXT(CD5,"گرجی - ") -> * | FW5: =TEXT(CE5,"گرجي-") -> * | FX5: =TEXT(CF5,"رضاحسيني-") -> * | FY5: =TEXT(CG5,"رضاحسيني-") -> * | FZ5: =TEXT(CH5,"حاجعلیپور-") -> * | GA5: =TEXT(CI5," حاجعلیپور-") -> * | GB5: =TEXT(CJ5,"قویدل-") -> * | GC5: =TEXT(CK5," قویدل-") -> * | GD5: =TEXT(CL5,"محمدي-") -> * | GE5: =TEXT(CM5,"محمدي-") -> * | GF5: =TEXT(CN5,"داداشي-") -> * | GG5: =TEXT(CO5,"داداشي-") -> * | GH5: =TEXT(CP5,"کاظميني - ") -> * | GI5: =TEXT(CQ5,"کاظميني -") -> * | GJ5: =TEXT(CR5,"بازرگان-") -> * | GK5: =TEXT(CS5,"بازرگان-") -> * | GL5: =TEXT(CT5,"نويد-") -> * | GM5: =TEXT(CU5,"نويد-") -> * | GN5: =TEXT(CV5,"طالبي-") -> * | GO5: =TEXT(CW5,"طالبي-") -> * | GP5: =TEXT(CX5,"بهشتي-") -> * | GQ5: =TEXT(CY5,"بهشتي-") -> * | GR5: =TEXT(CZ5,"علوی-") -> * | GS5: =TEXT(DA5,"علوی-") -> * | GT5: =TEXT(DB5,"اميدي-") -> * | GU5: =TEXT(DC5,"اميدي-") -> * | GV5: =TEXT(DD5,"م اله بخش-") -> * | GW5: =TEXT(DE5,"م اله بخش-") -> * | GX5: =TEXT(DF5,"عبدالهي-") -> * | GY5: =TEXT(DG5,"عبدالهي-") -> * | GZ5: =TEXT(DH5,"تاجبخش-") -> * | HA5: =TEXT(DI5,"تاجبخش-") -> * | HB5: =BB5 -> 1 | HC5: =#REF! -> #REF! | HD5: =TEXT(DL5,"سلوکي - ") -> * | HE5: =TEXT(DM5,"سلوکي-") -> * | HF5: =TEXT(DN5,"برزنوني-") -> * | HG5: =TEXT(DO5," برزنونی-") -> * | HH5: =TEXT(DP5,"برزنونی-") -> * | HI5: =TEXT(DQ5,"برزنونی-") -> * | HJ5: =TEXT(DR5,"سالمی-") -> * | HK5: =TEXT(DS5,"سالمي-") -> * | HL5: =BB5 -> 1 | HM5: =#REF! -> #REF! | HN5: =TEXT(DV5,"سالمی-") -> * | HO5: =TEXT(DW5,"سالمی-") -> * | HP5: =TEXT(DX5,"عبدالهی-") -> * | HQ5: =TEXT(DY5,"عبدالهی-") -> * | HR5: =TEXT(DZ5,"میرکریمی-") -> * | HS5: =TEXT(EA5,"میرکریمی-") -> * | HT5: =TEXT(EB5,"علوی-") -> * | HU5: =TEXT(EC5,"علوی-") -> * | HV5: =TEXT(ED5,"سلوکی-") -> * | HW5: =TEXT(EE5,"سلوکي-") -> * | HX5: =TEXT(EF5,"حسين خاني-") -> * | HY5: =TEXT(EG5,"حسين خاني-") -> * | HZ5: =TEXT(EH5,"علوي-") -> * | IA5: =TEXT(EI5,"علوي-") -> * | IB5: =TEXT(EJ5,"زارع زاده-") -> * | IC5: =TEXT(EK5,"زارع زاده-") -> * | ID5: =TEXT(EL5,"هاشمي-") -> * | IE5: =TEXT(EM5,"هاشمي-") -> * | IF5: =TEXT(EN5,"سلوکي- ") -> * | IG5: =TEXT(EO5,"سلوکي - ") -> * | RD5: =BB5 -> 1 | RE5: =#REF! -> #REF! | RF5: صبح | RG5: =CONCATENATE(EV5,EX5,EZ5,FB5,FD5,FF5,FH5,FJ5,FL5,FN5,FP5,FR5,FT5,FV5,FX5,FZ5,GB5,GD5,GF5,GH5,GJ5,GL5,GN5,GP5,GR5,GT5,GV5,GX5,GZ5,HD5,HF5,HJ5) -> ******************************** | RI5: 1 | RJ5: =CONCATENATE(EW5,EY5,FA5,FC5,FE5,FG5,FI5,FK5,FM5,FO5,FQ5,FS5,FU5,FW5,FY5,GA5,GC5,GE5,GG5,GI5,GK5,GM5,GO5,GQ5,GS5,GU5,GW5,GY5,HA5,HE5,HG5,HK5) -> ******************************** | RL5: =BB5 -> 1 | RM5: =#REF! -> #REF! | RN5: شب | RO5: =CONCATENATE(HN5,HP5,HR5,HT5,HV5,HX5,HZ5,IB5,ID5,IF5,HH5) -> *********** | RQ5: بامداد | RR5: =CONCATENATE(HO5,HQ5,HS5,HU5,HW5,HY5,IA5,IC5,IE5,IG5,HI5) -> ***********
A6: سردبیر عربی | B6: پاشا | F6: عربي | G6: عصر | H6: پایش 1 / نشریات... | N6: تصویرحضور1/2/3/4 | S6: تصویری دور | AC6: خام عربی | AD6: =RJ5 -> ******************************** | BB6: 2 | BC6: سه شنبه | BD6: * | BE6: * | BF6: * | BG6: * | BH6: * | BI6: * | BJ6: * | BK6: * | BL6: * | BM6: * | BN6: * | BO6: * | BP6: * | BQ6: * | BR6: * | BS6: * | BT6: * | BU6: * | BV6: * | BW6: * | BX6: * | BY6: * | BZ6: * | CA6: * | CB6: * | CC6: * | CD6: * | CE6: * | CF6: * | CG6: * | CH6: * | CI6: * | CJ6: * | CK6: * | CL6: * | CM6: * | CN6: * | CO6: * | CP6: * | CQ6: * | CR6: * | CS6: * | CT6: * | CU6: * | CV6: * | CW6: * | CX6: * | CY6: * | CZ6: * | DA6: * | DB6: * | DC6: * | DD6: * | DE6: * | DF6: * | DG6: * | DH6: * | DI6: * | DJ6: =BB6 -> 2 | DK6: =#REF! -> #REF! | DL6: * | DM6: * | DN6: * | DO6: * | DP6: * | DQ6: * | DR6: * | DS6: * | DT6: =BB6 -> 2 | DU6: =#REF! -> #REF! | DV6: * | DW6: * | DX6: * | DY6: * | DZ6: * | EA6: * | EB6: * | EC6: * | ED6: * | EE6: * | EF6: * | EG6: * | EH6: * | EI6: * | EJ6: * | EK6: * | EL6: * | EM6: * | EN6: * | EO6: * | ET6: =BB6 -> 2 | EU6: =#REF! -> #REF! | EV6: =TEXT(BD6,"هاشمی-") -> * | EW6: =TEXT(BE6,"هاشمی-") -> * | EX6: =TEXT(BF6,"چراغی-") -> * | EY6: =TEXT(BG6,"چراغي-") -> * | EZ6: =TEXT(BH6,"ولدمحمدي-") -> * | FA6: =TEXT(BI6,"ولدمحمدي-") -> * | FB6: =TEXT(BJ6,"رضايي-") -> * | FC6: =TEXT(BK6,"رضايي-") -> * | FD6: =TEXT(BL6,"پاشا-") -> * | FE6: =TEXT(BM6,"پاشا-") -> * | FF6: =TEXT(BN6,"علوی-") -> * | FG6: =TEXT(BO6,"علوی-") -> * | FH6: =TEXT(BP6,"عبدالهی-") -> * | FI6: =TEXT(BQ6,"عبدالهی-") -> * | FJ6: =TEXT(BR6,"حسینخانی-") -> * | FK6: =TEXT(BS6,"حسین خانی-") -> * | FL6: =TEXT(BT6,"م ا له بخش-") -> * | FM6: =TEXT(BU6,"م اله بخش-") -> * | FN6: =TEXT(BV6,"کبريايي-") -> * | FO6: =TEXT(BW6,"کبريايي-") -> * | FP6: =TEXT(BX6,"ميرکريمي-") -> * | FQ6: =TEXT(BY6,"ميرکريمي-") -> * | FR6: =TEXT(BZ6,"امیدی-") -> * | FS6: =TEXT(CA6,"امیدي - ") -> * | FT6: =TEXT(CB6,"مجلسي-") -> * | FU6: =TEXT(CC6,"مجلسي-") -> * | FV6: =TEXT(CD6,"گرجی - ") -> * | FW6: =TEXT(CE6,"گرجي-") -> * | FX6: =TEXT(CF6,"رضاحسيني-") -> * | FY6: =TEXT(CG6,"رضاحسيني-") -> * | FZ6: =TEXT(CH6,"حاجعلیپور-") -> * | GA6: =TEXT(CI6," حاجعلیپور-") -> * | GB6: =TEXT(CJ6,"قویدل-") -> * | GC6: =TEXT(CK6," قویدل-") -> * | GD6: =TEXT(CL6,"محمدي-") -> * | GE6: =TEXT(CM6,"محمدي-") -> * | GF6: =TEXT(CN6,"داداشي-") -> * | GG6: =TEXT(CO6,"داداشي-") -> * | GH6: =TEXT(CP6,"کاظميني - ") -> * | GI6: =TEXT(CQ6,"کاظميني -") -> * | GJ6: =TEXT(CR6,"بازرگان-") -> * | GK6: =TEXT(CS6,"بازرگان-") -> * | GL6: =TEXT(CT6,"نويد-") -> * | GM6: =TEXT(CU6,"نويد-") -> * | GN6: =TEXT(CV6,"طالبي-") -> * | GO6: =TEXT(CW6,"طالبي-") -> * | GP6: =TEXT(CX6,"بهشتي-") -> * | GQ6: =TEXT(CY6,"بهشتي-") -> * | GR6: =TEXT(CZ6,"علوی-") -> * | GS6: =TEXT(DA6,"علوی-") -> * | GT6: =TEXT(DB6,"اميدي-") -> * | GU6: =TEXT(DC6,"اميدي-") -> * | GV6: =TEXT(DD6,"م اله بخش-") -> * | GW6: =TEXT(DE6,"م اله بخش-") -> * | GX6: =TEXT(DF6,"عبدالهي-") -> * | GY6: =TEXT(DG6,"عبدالهي-") -> * | GZ6: =TEXT(DH6,"تاجبخش-") -> * | HA6: =TEXT(DI6,"تاجبخش-") -> * | HB6: =BB6 -> 2 | HC6: =#REF! -> #REF! | HD6: =TEXT(DL6,"سلوکي - ") -> * | HE6: =TEXT(DM6,"سلوکي-") -> * | HF6: =TEXT(DN6,"برزنوني-") -> * | HG6: =TEXT(DO6," برزنونی-") -> * | HH6: =TEXT(DP6,"برزنونی-") -> * | HI6: =TEXT(DQ6,"برزنونی-") -> * | HJ6: =TEXT(DR6,"سالمی-") -> * | HK6: =TEXT(DS6,"سالمي-") -> * | HL6: =BB6 -> 2 | HM6: =#REF! -> #REF! | HN6: =TEXT(DV6,"سالمی-") -> * | HO6: =TEXT(DW6,"سالمی-") -> * | HP6: =TEXT(DX6,"عبدالهی-") -> * | HQ6: =TEXT(DY6,"عبدالهی-") -> * | HR6: =TEXT(DZ6,"میرکریمی-") -> * | HS6: =TEXT(EA6,"میرکریمی-") -> * | HT6: =TEXT(EB6,"علوی-") -> * | HU6: =TEXT(EC6,"علوی-") -> * | HV6: =TEXT(ED6,"سلوکی-") -> * | HW6: =TEXT(EE6,"سلوکي-") -> * | HX6: =TEXT(EF6,"حسين خاني-") -> * | HY6: =TEXT(EG6,"حسين خاني-") -> * | HZ6: =TEXT(EH6,"علوي-") -> * | IA6: =TEXT(EI6,"علوي-") -> * | IB6: =TEXT(EJ6,"زارع زاده-") -> * | IC6: =TEXT(EK6,"زارع زاده-") -> * | ID6: =TEXT(EL6,"هاشمي-") -> * | IE6: =TEXT(EM6,"هاشمي-") -> * | IF6: =TEXT(EN6,"سلوکي- ") -> * | IG6: =TEXT(EO6,"سلوکي - ") -> * | RD6: =BB6 -> 2 | RE6: =#REF! -> #REF! | RF6: صبح | RG6: =CONCATENATE(EV6,EX6,EZ6,FB6,FD6,FF6,FH6,FJ6,FL6,FN6,FP6,FR6,FT6,FV6,FX6,FZ6,GB6,GD6,GF6,GH6,GJ6,GL6,GN6,GP6,GR6,GT6,GV6,GX6,GZ6,HD6,HF6,HJ6) -> ******************************** | RI6: 2 | RJ6: =CONCATENATE(EW6,EY6,FA6,FC6,FE6,FG6,FI6,FK6,FM6,FO6,FQ6,FS6,FU6,FW6,FY6,GA6,GC6,GE6,GG6,GI6,GK6,GM6,GO6,GQ6,GS6,GU6,GW6,GY6,HA6,HE6,HG6,HK6) -> ******************************** | RL6: =BB6 -> 2 | RM6: =#REF! -> #REF! | RN6: شب | RO6: =CONCATENATE(HN6,HP6,HR6,HT6,HV6,HX6,HZ6,IB6,ID6,IF6,HH6) -> *********** | RQ6: بامداد | RR6: =CONCATENATE(HO6,HQ6,HS6,HU6,HW6,HY6,IA6,IC6,IE6,IG6,HI6) -> ***********
A7: مترجم همزمان و سردبیر فرانسه | B7: علیمیرزایی | F7: فرانسه و.. | G7: عصر | H7: شبکه های تصویری و نشریات فرانسه | N7: تصویری حضوری | P7: تصویری دور | V7: زبانهای دیگر | Y7: تدوین و دبیران | Z7: ابراهیمی | AC7: خام فرانسه | AD7: =RI77 -> *******ایمانی-********* | AM7: تدوین و دوبیران | AN7: =RI113 -> ******************* | BB7: 3 | BC7: چهارشنبه | BD7: * | BE7: * | BF7: * | BG7: * | BH7: * | BI7: * | BJ7: * | BK7: * | BL7: * | BM7: * | BN7: * | BO7: * | BP7: * | BQ7: * | BR7: * | BS7: * | BT7: * | BU7: * | BV7: * | BW7: * | BX7: * | BY7: * | BZ7: * | CA7: * | CB7: * | CC7: * | CD7: * | CE7: * | CF7: * | CG7: * | CH7: * | CI7: * | CJ7: * | CK7: * | CL7: * | CM7: * | CN7: * | CO7: * | CP7: * | CQ7: * | CR7: * | CS7: * | CT7: * | CU7: * | CV7: * | CW7: * | CX7: * | CY7: * | CZ7: * | DA7: * | DB7: * | DC7: * | DD7: * | DE7: * | DF7: * | DG7: * | DH7: * | DI7: * | DJ7: =BB7 -> 3 | DK7: =#REF! -> #REF! | DL7: * | DM7: * | DN7: * | DO7: * | DP7: * | DQ7: * | DR7: * | DS7: * | DT7: =BB7 -> 3 | DU7: =#REF! -> #REF! | DV7: * | DW7: * | DX7: * | DY7: * | DZ7: * | EA7: * | EB7: * | EC7: * | ED7: * | EE7: * | EF7: * | EG7: * | EH7: * | EI7: * | EJ7: * | EK7: * | EL7: * | EM7: * | EN7: * | EO7: * | ET7: =BB7 -> 3 | EU7: =#REF! -> #REF! | EV7: =TEXT(BD7,"هاشمی-") -> * | EW7: =TEXT(BE7,"هاشمی-") -> * | EX7: =TEXT(BF7,"چراغی-") -> * | EY7: =TEXT(BG7,"چراغي-") -> * | EZ7: =TEXT(BH7,"ولدمحمدي-") -> * | FA7: =TEXT(BI7,"ولدمحمدي-") -> * | FB7: =TEXT(BJ7,"رضايي-") -> * | FC7: =TEXT(BK7,"رضايي-") -> * | FD7: =TEXT(BL7,"پاشا-") -> * | FE7: =TEXT(BM7,"پاشا-") -> * | FF7: =TEXT(BN7,"علوی-") -> * | FG7: =TEXT(BO7,"علوی-") -> * | FH7: =TEXT(BP7,"عبدالهی-") -> * | FI7: =TEXT(BQ7,"عبدالهی-") -> * | FJ7: =TEXT(BR7,"حسینخانی-") -> * | FK7: =TEXT(BS7,"حسین خانی-") -> * | FL7: =TEXT(BT7,"م ا له بخش-") -> * | FM7: =TEXT(BU7,"م اله بخش-") -> * | FN7: =TEXT(BV7,"کبريايي-") -> * | FO7: =TEXT(BW7,"کبريايي-") -> * | FP7: =TEXT(BX7,"ميرکريمي-") -> * | FQ7: =TEXT(BY7,"ميرکريمي-") -> * | FR7: =TEXT(BZ7,"امیدی-") -> * | FS7: =TEXT(CA7,"امیدي - ") -> * | FT7: =TEXT(CB7,"مجلسي-") -> * | FU7: =TEXT(CC7,"مجلسي-") -> * | FV7: =TEXT(CD7,"گرجی - ") -> * | FW7: =TEXT(CE7,"گرجي-") -> * | FX7: =TEXT(CF7,"رضاحسيني-") -> * | FY7: =TEXT(CG7,"رضاحسيني-") -> * | FZ7: =TEXT(CH7,"حاجعلیپور-") -> * | GA7: =TEXT(CI7," حاجعلیپور-") -> * | GB7: =TEXT(CJ7,"قویدل-") -> * | GC7: =TEXT(CK7," قویدل-") -> * | GD7: =TEXT(CL7,"محمدي-") -> * | GE7: =TEXT(CM7,"محمدي-") -> * | GF7: =TEXT(CN7,"داداشي-") -> * | GG7: =TEXT(CO7,"داداشي-") -> * | GH7: =TEXT(CP7,"کاظميني - ") -> * | GI7: =TEXT(CQ7,"کاظميني -") -> * | GJ7: =TEXT(CR7,"بازرگان-") -> * | GK7: =TEXT(CS7,"بازرگان-") -> * | GL7: =TEXT(CT7,"نويد-") -> * | GM7: =TEXT(CU7,"نويد-") -> * | GN7: =TEXT(CV7,"طالبي-") -> * | GO7: =TEXT(CW7,"طالبي-") -> * | GP7: =TEXT(CX7,"بهشتي-") -> * | GQ7: =TEXT(CY7,"بهشتي-") -> * | GR7: =TEXT(CZ7,"علوی-") -> * | GS7: =TEXT(DA7,"علوی-") -> * | GT7: =TEXT(DB7,"اميدي-") -> * | GU7: =TEXT(DC7,"اميدي-") -> * | GV7: =TEXT(DD7,"م اله بخش-") -> * | GW7: =TEXT(DE7,"م اله بخش-") -> * | GX7: =TEXT(DF7,"عبدالهي-") -> * | GY7: =TEXT(DG7,"عبدالهي-") -> * | GZ7: =TEXT(DH7,"تاجبخش-") -> * | HA7: =TEXT(DI7,"تاجبخش-") -> * | HB7: =BB7 -> 3 | HC7: =#REF! -> #REF! | HD7: =TEXT(DL7,"سلوکي - ") -> * | HE7: =TEXT(DM7,"سلوکي-") -> * | HF7: =TEXT(DN7,"برزنوني-") -> * | HG7: =TEXT(DO7," برزنونی-") -> * | HH7: =TEXT(DP7,"برزنونی-") -> * | HI7: =TEXT(DQ7,"برزنونی-") -> * | HJ7: =TEXT(DR7,"سالمی-") -> * | HK7: =TEXT(DS7,"سالمي-") -> * | HL7: =BB7 -> 3 | HM7: =#REF! -> #REF! | HN7: =TEXT(DV7,"سالمی-") -> * | HO7: =TEXT(DW7,"سالمی-") -> * | HP7: =TEXT(DX7,"عبدالهی-") -> * | HQ7: =TEXT(DY7,"عبدالهی-") -> * | HR7: =TEXT(DZ7,"میرکریمی-") -> * | HS7: =TEXT(EA7,"میرکریمی-") -> * | HT7: =TEXT(EB7,"علوی-") -> * | HU7: =TEXT(EC7,"علوی-") -> * | HV7: =TEXT(ED7,"سلوکی-") -> * | HW7: =TEXT(EE7,"سلوکي-") -> * | HX7: =TEXT(EF7,"حسين خاني-") -> * | HY7: =TEXT(EG7,"حسين خاني-") -> * | HZ7: =TEXT(EH7,"علوي-") -> * | IA7: =TEXT(EI7,"علوي-") -> * | IB7: =TEXT(EJ7,"زارع زاده-") -> * | IC7: =TEXT(EK7,"زارع زاده-") -> * | ID7: =TEXT(EL7,"هاشمي-") -> * | IE7: =TEXT(EM7,"هاشمي-") -> * | IF7: =TEXT(EN7,"سلوکي- ") -> * | IG7: =TEXT(EO7,"سلوکي - ") -> * | RD7: =BB7 -> 3 | RE7: =#REF! -> #REF! | RF7: صبح | RG7: =CONCATENATE(EV7,EX7,EZ7,FB7,FD7,FF7,FH7,FJ7,FL7,FN7,FP7,FR7,FT7,FV7,FX7,FZ7,GB7,GD7,GF7,GH7,GJ7,GL7,GN7,GP7,GR7,GT7,GV7,GX7,GZ7,HD7,HF7,HJ7) -> ******************************** | RI7: 3 | RJ7: =CONCATENATE(EW7,EY7,FA7,FC7,FE7,FG7,FI7,FK7,FM7,FO7,FQ7,FS7,FU7,FW7,FY7,GA7,GC7,GE7,GG7,GI7,GK7,GM7,GO7,GQ7,GS7,GU7,GW7,GY7,HA7,HE7,HG7,HK7) -> ******************************** | RL7: =BB7 -> 3 | RM7: =#REF! -> #REF! | RN7: شب | RO7: =CONCATENATE(HN7,HP7,HR7,HT7,HV7,HX7,HZ7,IB7,ID7,IF7,HH7) -> *********** | RQ7: بامداد | RR7: =CONCATENATE(HO7,HQ7,HS7,HU7,HW7,HY7,IA7,IC7,IE7,IG7,HI7) -> ***********
A8: سردبیر | E8: انگليسي و | F8: شب و | G8: پايشگر (نشریات/ فضای مجازی و ... | K8: شات بدون لوگو (رویترز،ای پی تی ان و ...) | N8: بی بی سی و الجزیره انگلیسی | Q8: سی ان ان / پرس / راشا انگلیسی | T8: خبرگزاري ها و شبکه های تصویری فرانسه | X8: عربي میادین/مسیره /قدس/منار/جزيره مباشر/ عالم / اخباريه/روسيااليوم /اسکاي /عربيه/حدث/ جزيره | AC8: =RO41 -> ************************************جعفری- | BB8: 4 | BC8: پنجشنبه | BD8: * | BE8: * | BF8: * | BG8: * | BH8: * | BI8: * | BJ8: * | BK8: * | BL8: * | BM8: * | BN8: * | BO8: * | BP8: * | BQ8: * | BR8: * | BS8: * | BT8: * | BU8: * | BV8: * | BW8: * | BX8: * | BY8: * | BZ8: * | CA8: * | CB8: * | CC8: * | CD8: * | CE8: * | CF8: * | CG8: * | CH8: * | CI8: * | CJ8: * | CK8: * | CL8: * | CM8: * | CN8: * | CO8: * | CP8: * | CQ8: * | CR8: * | CS8: * | CT8: * | CU8: * | CV8: * | CW8: * | CX8: * | CY8: * | CZ8: * | DA8: * | DB8: * | DC8: * | DD8: * | DE8: * | DF8: * | DG8: * | DH8: * | DI8: * | DJ8: =BB8 -> 4 | DK8: =BC5 -> دوشنبه | DL8: * | DM8: * | DN8: * | DO8: * | DP8: * | DQ8: * | DR8: * | DS8: * | DT8: =BB8 -> 4 | DU8: =BC5 -> دوشنبه | DV8: * | DW8: * | DX8: * | DY8: * | DZ8: * | EA8: * | EB8: * | EC8: * | ED8: * | EE8: * | EF8: * | EG8: * | EH8: * | EI8: * | EJ8: * | EK8: * | EL8: * | EM8: * | EN8: * | EO8: * | ET8: =BB8 -> 4 | EU8: =BC5 -> دوشنبه | EV8: =TEXT(BD8,"هاشمی-") -> * | EW8: =TEXT(BE8,"هاشمی-") -> * | EX8: =TEXT(BF8,"چراغی-") -> * | EY8: =TEXT(BG8,"چراغي-") -> * | EZ8: =TEXT(BH8,"ولدمحمدي-") -> * | FA8: =TEXT(BI8,"ولدمحمدي-") -> * | FB8: =TEXT(BJ8,"رضايي-") -> * | FC8: =TEXT(BK8,"رضايي-") -> * | FD8: =TEXT(BL8,"پاشا-") -> * | FE8: =TEXT(BM8,"پاشا-") -> * | FF8: =TEXT(BN8,"علوی-") -> * | FG8: =TEXT(BO8,"علوی-") -> * | FH8: =TEXT(BP8,"عبدالهی-") -> * | FI8: =TEXT(BQ8,"عبدالهی-") -> * | FJ8: =TEXT(BR8,"حسینخانی-") -> * | FK8: =TEXT(BS8,"حسین خانی-") -> * | FL8: =TEXT(BT8,"م ا له بخش-") -> * | FM8: =TEXT(BU8,"م اله بخش-") -> * | FN8: =TEXT(BV8,"کبريايي-") -> * | FO8: =TEXT(BW8,"کبريايي-") -> * | FP8: =TEXT(BX8,"ميرکريمي-") -> * | FQ8: =TEXT(BY8,"ميرکريمي-") -> * | FR8: =TEXT(BZ8,"امیدی-") -> * | FS8: =TEXT(CA8,"امیدي - ") -> * | FT8: =TEXT(CB8,"مجلسي-") -> * | FU8: =TEXT(CC8,"مجلسي-") -> * | FV8: =TEXT(CD8,"گرجی - ") -> * | FW8: =TEXT(CE8,"گرجي-") -> * | FX8: =TEXT(CF8,"رضاحسيني-") -> * | FY8: =TEXT(CG8,"رضاحسيني-") -> * | FZ8: =TEXT(CH8,"حاجعلیپور-") -> * | GA8: =TEXT(CI8," حاجعلیپور-") -> * | GB8: =TEXT(CJ8,"قویدل-") -> * | GC8: =TEXT(CK8," قویدل-") -> * | GD8: =TEXT(CL8,"محمدي-") -> * | GE8: =TEXT(CM8,"محمدي-") -> * | GF8: =TEXT(CN8,"داداشي-") -> * | GG8: =TEXT(CO8,"داداشي-") -> * | GH8: =TEXT(CP8,"کاظميني - ") -> * | GI8: =TEXT(CQ8,"کاظميني -") -> * | GJ8: =TEXT(CR8,"بازرگان-") -> * | GK8: =TEXT(CS8,"بازرگان-") -> * | GL8: =TEXT(CT8,"نويد-") -> * | GM8: =TEXT(CU8,"نويد-") -> * | GN8: =TEXT(CV8,"طالبي-") -> * | GO8: =TEXT(CW8,"طالبي-") -> * | GP8: =TEXT(CX8,"بهشتي-") -> * | GQ8: =TEXT(CY8,"بهشتي-") -> * | GR8: =TEXT(CZ8,"علوی-") -> * | GS8: =TEXT(DA8,"علوی-") -> * | GT8: =TEXT(DB8,"اميدي-") -> * | GU8: =TEXT(DC8,"اميدي-") -> * | GV8: =TEXT(DD8,"م اله بخش-") -> * | GW8: =TEXT(DE8,"م اله بخش-") -> * | GX8: =TEXT(DF8,"عبدالهي-") -> * | GY8: =TEXT(DG8,"عبدالهي-") -> * | GZ8: =TEXT(DH8,"تاجبخش-") -> * | HA8: =TEXT(DI8,"تاجبخش-") -> * | HB8: =BB8 -> 4 | HC8: =BC5 -> دوشنبه | HD8: =TEXT(DL8,"سلوکي - ") -> * | HE8: =TEXT(DM8,"سلوکي-") -> * | HF8: =TEXT(DN8,"برزنوني-") -> * | HG8: =TEXT(DO8," برزنونی-") -> * | HH8: =TEXT(DP8,"برزنونی-") -> * | HI8: =TEXT(DQ8,"برزنونی-") -> * | HJ8: =TEXT(DR8,"سالمی-") -> * | HK8: =TEXT(DS8,"سالمي-") -> * | HL8: =BB8 -> 4 | HM8: =BC5 -> دوشنبه | HN8: =TEXT(DV8,"سالمی-") -> * | HO8: =TEXT(DW8,"سالمی-") -> * | HP8: =TEXT(DX8,"عبدالهی-") -> * | HQ8: =TEXT(DY8,"عبدالهی-") -> * | HR8: =TEXT(DZ8,"میرکریمی-") -> * | HS8: =TEXT(EA8,"میرکریمی-") -> * | HT8: =TEXT(EB8,"علوی-") -> * | HU8: =TEXT(EC8,"علوی-") -> * | HV8: =TEXT(ED8,"سلوکی-") -> * | HW8: =TEXT(EE8,"سلوکي-") -> * | HX8: =TEXT(EF8,"حسين خاني-") -> * | HY8: =TEXT(EG8,"حسين خاني-") -> * | HZ8: =TEXT(EH8,"علوي-") -> * | IA8: =TEXT(EI8,"علوي-") -> * | IB8: =TEXT(EJ8,"زارع زاده-") -> * | IC8: =TEXT(EK8,"زارع زاده-") -> * | ID8: =TEXT(EL8,"هاشمي-") -> * | IE8: =TEXT(EM8,"هاشمي-") -> * | IF8: =TEXT(EN8,"سلوکي- ") -> * | IG8: =TEXT(EO8,"سلوکي - ") -> * | RD8: =BB8 -> 4 | RE8: =BC5 -> دوشنبه | RF8: صبح | RG8: =CONCATENATE(EV8,EX8,EZ8,FB8,FD8,FF8,FH8,FJ8,FL8,FN8,FP8,FR8,FT8,FV8,FX8,FZ8,GB8,GD8,GF8,GH8,GJ8,GL8,GN8,GP8,GR8,GT8,GV8,GX8,GZ8,HD8,HF8,HJ8) -> ******************************** | RI8: 4 | RJ8: =CONCATENATE(EW8,EY8,FA8,FC8,FE8,FG8,FI8,FK8,FM8,FO8,FQ8,FS8,FU8,FW8,FY8,GA8,GC8,GE8,GG8,GI8,GK8,GM8,GO8,GQ8,GS8,GU8,GW8,GY8,HA8,HE8,HG8,HK8) -> ******************************** | RL8: =BB8 -> 4 | RM8: =BC5 -> دوشنبه | RN8: شب | RO8: =CONCATENATE(HN8,HP8,HR8,HT8,HV8,HX8,HZ8,IB8,ID8,IF8,HH8) -> *********** | RQ8: بامداد | RR8: =CONCATENATE(HO8,HQ8,HS8,HU8,HW8,HY8,IA8,IC8,IE8,IG8,HI8) -> ***********
A9: شب | E9: عربي فرانسه | F9: بامداد | AC9: =RO5 -> *********** | BB9: 5 | BC9: جمعه | BD9: * | BE9: * | BF9: * | BG9: * | BH9: * | BI9: * | BJ9: * | BK9: * | BL9: * | BM9: * | BN9: * | BO9: * | BP9: * | BQ9: * | BR9: * | BS9: * | BT9: * | BU9: * | BV9: * | BW9: * | BX9: * | BY9: * | BZ9: * | CA9: * | CB9: * | CC9: * | CD9: * | CE9: * | CF9: * | CG9: * | CH9: * | CI9: * | CJ9: * | CK9: * | CL9: * | CM9: * | CN9: * | CO9: * | CP9: * | CQ9: * | CR9: * | CS9: * | CT9: * | CU9: * | CV9: * | CW9: * | CX9: * | CY9: * | CZ9: * | DA9: * | DB9: * | DC9: * | DD9: * | DE9: * | DF9: * | DG9: * | DH9: * | DI9: * | DJ9: =BB9 -> 5 | DK9: =BC6 -> سه شنبه | DL9: * | DM9: * | DN9: * | DO9: * | DP9: * | DQ9: * | DR9: * | DS9: * | DT9: =BB9 -> 5 | DU9: =BC6 -> سه شنبه | DV9: * | DW9: * | DX9: * | DY9: * | DZ9: * | EA9: * | EB9: * | EC9: * | ED9: * | EE9: * | EF9: * | EG9: * | EH9: * | EI9: * | EJ9: * | EK9: * | EL9: * | EM9: * | EN9: * | EO9: * | ET9: =BB9 -> 5 | EU9: =BC6 -> سه شنبه | EV9: =TEXT(BD9,"هاشمی-") -> * | EW9: =TEXT(BE9,"هاشمی-") -> * | EX9: =TEXT(BF9,"چراغی-") -> * | EY9: =TEXT(BG9,"چراغي-") -> * | EZ9: =TEXT(BH9,"ولدمحمدي-") -> * | FA9: =TEXT(BI9,"ولدمحمدي-") -> * | FB9: =TEXT(BJ9,"رضايي-") -> * | FC9: =TEXT(BK9,"رضايي-") -> * | FD9: =TEXT(BL9,"پاشا-") -> * | FE9: =TEXT(BM9,"پاشا-") -> * | FF9: =TEXT(BN9,"علوی-") -> * | FG9: =TEXT(BO9,"علوی-") -> * | FH9: =TEXT(BP9,"عبدالهی-") -> * | FI9: =TEXT(BQ9,"عبدالهی-") -> * | FJ9: =TEXT(BR9,"حسینخانی-") -> * | FK9: =TEXT(BS9,"حسین خانی-") -> * | FL9: =TEXT(BT9,"م ا له بخش-") -> * | FM9: =TEXT(BU9,"م اله بخش-") -> * | FN9: =TEXT(BV9,"کبريايي-") -> * | FO9: =TEXT(BW9,"کبريايي-") -> * | FP9: =TEXT(BX9,"ميرکريمي-") -> * | FQ9: =TEXT(BY9,"ميرکريمي-") -> * | FR9: =TEXT(BZ9,"امیدی-") -> * | FS9: =TEXT(CA9,"امیدي - ") -> * | FT9: =TEXT(CB9,"مجلسي-") -> * | FU9: =TEXT(CC9,"مجلسي-") -> * | FV9: =TEXT(CD9,"گرجی - ") -> * | FW9: =TEXT(CE9,"گرجي-") -> * | FX9: =TEXT(CF9,"رضاحسيني-") -> * | FY9: =TEXT(CG9,"رضاحسيني-") -> * | FZ9: =TEXT(CH9,"حاجعلیپور-") -> * | GA9: =TEXT(CI9," حاجعلیپور-") -> * | GB9: =TEXT(CJ9,"قویدل-") -> * | GC9: =TEXT(CK9," قویدل-") -> * | GD9: =TEXT(CL9,"محمدي-") -> * | GE9: =TEXT(CM9,"محمدي-") -> * | GF9: =TEXT(CN9,"داداشي-") -> * | GG9: =TEXT(CO9,"داداشي-") -> * | GH9: =TEXT(CP9,"کاظميني - ") -> * | GI9: =TEXT(CQ9,"کاظميني -") -> * | GJ9: =TEXT(CR9,"بازرگان-") -> * | GK9: =TEXT(CS9,"بازرگان-") -> * | GL9: =TEXT(CT9,"نويد-") -> * | GM9: =TEXT(CU9,"نويد-") -> * | GN9: =TEXT(CV9,"طالبي-") -> * | GO9: =TEXT(CW9,"طالبي-") -> * | GP9: =TEXT(CX9,"بهشتي-") -> * | GQ9: =TEXT(CY9,"بهشتي-") -> * | GR9: =TEXT(CZ9,"علوی-") -> * | GS9: =TEXT(DA9,"علوی-") -> * | GT9: =TEXT(DB9,"اميدي-") -> * | GU9: =TEXT(DC9,"اميدي-") -> * | GV9: =TEXT(DD9,"م اله بخش-") -> * | GW9: =TEXT(DE9,"م اله بخش-") -> * | GX9: =TEXT(DF9,"عبدالهي-") -> * | GY9: =TEXT(DG9,"عبدالهي-") -> * | GZ9: =TEXT(DH9,"تاجبخش-") -> * | HA9: =TEXT(DI9,"تاجبخش-") -> * | HB9: =BB9 -> 5 | HC9: =BC6 -> سه شنبه | HD9: =TEXT(DL9,"سلوکي - ") -> * | HE9: =TEXT(DM9,"سلوکي-") -> * | HF9: =TEXT(DN9,"برزنوني-") -> * | HG9: =TEXT(DO9," برزنونی-") -> * | HH9: =TEXT(DP9,"برزنونی-") -> * | HI9: =TEXT(DQ9,"برزنونی-") -> * | HJ9: =TEXT(DR9,"سالمی-") -> * | HK9: =TEXT(DS9,"سالمي-") -> * | HL9: =BB9 -> 5 | HM9: =BC6 -> سه شنبه | HN9: =TEXT(DV9,"سالمی-") -> * | HO9: =TEXT(DW9,"سالمی-") -> * | HP9: =TEXT(DX9,"عبدالهی-") -> * | HQ9: =TEXT(DY9,"عبدالهی-") -> * | HR9: =TEXT(DZ9,"میرکریمی-") -> * | HS9: =TEXT(EA9,"میرکریمی-") -> * | HT9: =TEXT(EB9,"علوی-") -> * | HU9: =TEXT(EC9,"علوی-") -> * | HV9: =TEXT(ED9,"سلوکی-") -> * | HW9: =TEXT(EE9,"سلوکي-") -> * | HX9: =TEXT(EF9,"حسين خاني-") -> * | HY9: =TEXT(EG9,"حسين خاني-") -> * | HZ9: =TEXT(EH9,"علوي-") -> * | IA9: =TEXT(EI9,"علوي-") -> * | IB9: =TEXT(EJ9,"زارع زاده-") -> * | IC9: =TEXT(EK9,"زارع زاده-") -> * | ID9: =TEXT(EL9,"هاشمي-") -> * | IE9: =TEXT(EM9,"هاشمي-") -> * | IF9: =TEXT(EN9,"سلوکي- ") -> * | IG9: =TEXT(EO9,"سلوکي - ") -> * | RD9: =BB9 -> 5 | RE9: =BC6 -> سه شنبه | RF9: صبح | RG9: =CONCATENATE(EV9,EX9,EZ9,FB9,FD9,FF9,FH9,FJ9,FL9,FN9,FP9,FR9,FT9,FV9,FX9,FZ9,GB9,GD9,GF9,GH9,GJ9,GL9,GN9,GP9,GR9,GT9,GV9,GX9,GZ9,HD9,HF9,HJ9) -> ******************************** | RI9: 5 | RJ9: =CONCATENATE(EW9,EY9,FA9,FC9,FE9,FG9,FI9,FK9,FM9,FO9,FQ9,FS9,FU9,FW9,FY9,GA9,GC9,GE9,GG9,GI9,GK9,GM9,GO9,GQ9,GS9,GU9,GW9,GY9,HA9,HE9,HG9,HK9) -> ******************************** | RL9: =BB9 -> 5 | RM9: =BC6 -> سه شنبه | RN9: شب | RO9: =CONCATENATE(HN9,HP9,HR9,HT9,HV9,HX9,HZ9,IB9,ID9,IF9,HH9) -> *********** | RQ9: بامداد | RR9: =CONCATENATE(HO9,HQ9,HS9,HU9,HW9,HY9,IA9,IC9,IE9,IG9,HI9) -> ***********
A10: پنج شنبه | B10: بهمن 2 | C10: سردبیران | D10: کمکی | E10: سردبیر دورکار | F10: تحریریه ها | H10: 1 | I10: 2 | J10: 3 | K10: 4 | L10: 5 | M10: 6 | N10: حضوری | O10: حضوری | P10: حضوری | Q10: حضوری | S10: انگليسي صبح | X10: انگليسي عصر | AC10: عربی صبح | AG10: عربي عصر | AK10: فرانسه صبح | AO10: فرانسه عصر | AS10: زبانهاي دیگر | AV10: شب و نيمه شب | BB10: 6 | BC10: شنبه | BD10: * | BE10: * | BF10: * | BG10: * | BH10: * | BI10: * | BJ10: * | BK10: * | BL10: * | BM10: * | BN10: * | BO10: * | BP10: * | BQ10: * | BR10: * | BS10: * | BT10: * | BU10: * | BV10: * | BW10: * | BX10: * | BY10: * | BZ10: * | CA10: * | CB10: * | CC10: * | CD10: * | CE10: * | CF10: * | CG10: * | CH10: * | CI10: * | CJ10: * | CK10: * | CL10: * | CM10: * | CN10: * | CO10: * | CP10: * | CQ10: * | CR10: * | CS10: * | CT10: * | CU10: * | CV10: * | CW10: * | CX10: * | CY10: * | CZ10: * | DA10: * | DB10: * | DC10: * | DD10: * | DE10: * | DF10: * | DG10: * | DH10: * | DI10: * | DJ10: =BB10 -> 6 | DK10: =BC7 -> چهارشنبه | DL10: * | DM10: * | DN10: * | DO10: * | DP10: * | DQ10: * | DR10: * | DS10: * | DT10: =BB10 -> 6 | DU10: =BC7 -> چهارشنبه | DV10: * | DW10: * | DX10: * | DY10: * | DZ10: * | EA10: * | EB10: * | EC10: * | ED10: * | EE10: * | EF10: * | EG10: * | EH10: * | EI10: * | EJ10: * | EK10: * | EL10: * | EM10: * | EN10: * | EO10: * | ET10: =BB10 -> 6 | EU10: =BC7 -> چهارشنبه | EV10: =TEXT(BD10,"هاشمی-") -> * | EW10: =TEXT(BE10,"هاشمی-") -> * | EX10: =TEXT(BF10,"چراغی-") -> * | EY10: =TEXT(BG10,"چراغي-") -> * | EZ10: =TEXT(BH10,"ولدمحمدي-") -> * | FA10: =TEXT(BI10,"ولدمحمدي-") -> * | FB10: =TEXT(BJ10,"رضايي-") -> * | FC10: =TEXT(BK10,"رضايي-") -> * | FD10: =TEXT(BL10,"پاشا-") -> * | FE10: =TEXT(BM10,"پاشا-") -> * | FF10: =TEXT(BN10,"علوی-") -> * | FG10: =TEXT(BO10,"علوی-") -> * | FH10: =TEXT(BP10,"عبدالهی-") -> * | FI10: =TEXT(BQ10,"عبدالهی-") -> * | FJ10: =TEXT(BR10,"حسینخانی-") -> * | FK10: =TEXT(BS10,"حسین خانی-") -> * | FL10: =TEXT(BT10,"م ا له بخش-") -> * | FM10: =TEXT(BU10,"م اله بخش-") -> * | FN10: =TEXT(BV10,"کبريايي-") -> * | FO10: =TEXT(BW10,"کبريايي-") -> * | FP10: =TEXT(BX10,"ميرکريمي-") -> * | FQ10: =TEXT(BY10,"ميرکريمي-") -> * | FR10: =TEXT(BZ10,"امیدی-") -> * | FS10: =TEXT(CA10,"امیدي - ") -> * | FT10: =TEXT(CB10,"مجلسي-") -> * | FU10: =TEXT(CC10,"مجلسي-") -> * | FV10: =TEXT(CD10,"گرجی - ") -> * | FW10: =TEXT(CE10,"گرجي-") -> * | FX10: =TEXT(CF10,"رضاحسيني-") -> * | FY10: =TEXT(CG10,"رضاحسيني-") -> * | FZ10: =TEXT(CH10,"حاجعلیپور-") -> * | GA10: =TEXT(CI10," حاجعلیپور-") -> * | GB10: =TEXT(CJ10,"قویدل-") -> * | GC10: =TEXT(CK10," قویدل-") -> * | GD10: =TEXT(CL10,"محمدي-") -> * | GE10: =TEXT(CM10,"محمدي-") -> * | GF10: =TEXT(CN10,"داداشي-") -> * | GG10: =TEXT(CO10,"داداشي-") -> * | GH10: =TEXT(CP10,"کاظميني - ") -> * | GI10: =TEXT(CQ10,"کاظميني -") -> * | GJ10: =TEXT(CR10,"بازرگان-") -> * | GK10: =TEXT(CS10,"بازرگان-") -> * | GL10: =TEXT(CT10,"نويد-") -> * | GM10: =TEXT(CU10,"نويد-") -> * | GN10: =TEXT(CV10,"طالبي-") -> * | GO10: =TEXT(CW10,"طالبي-") -> * | GP10: =TEXT(CX10,"بهشتي-") -> * | GQ10: =TEXT(CY10,"بهشتي-") -> * | GR10: =TEXT(CZ10,"علوی-") -> * | GS10: =TEXT(DA10,"علوی-") -> * | GT10: =TEXT(DB10,"اميدي-") -> * | GU10: =TEXT(DC10,"اميدي-") -> * | GV10: =TEXT(DD10,"م اله بخش-") -> * | GW10: =TEXT(DE10,"م اله بخش-") -> * | GX10: =TEXT(DF10,"عبدالهي-") -> * | GY10: =TEXT(DG10,"عبدالهي-") -> * | GZ10: =TEXT(DH10,"تاجبخش-") -> * | HA10: =TEXT(DI10,"تاجبخش-") -> * | HB10: =BB10 -> 6 | HC10: =BC7 -> چهارشنبه | HD10: =TEXT(DL10,"سلوکي - ") -> * | HE10: =TEXT(DM10,"سلوکي-") -> * | HF10: =TEXT(DN10,"برزنوني-") -> * | HG10: =TEXT(DO10," برزنونی-") -> * | HH10: =TEXT(DP10,"برزنونی-") -> * | HI10: =TEXT(DQ10,"برزنونی-") -> * | HJ10: =TEXT(DR10,"سالمی-") -> * | HK10: =TEXT(DS10,"سالمي-") -> * | HL10: =BB10 -> 6 | HM10: =BC7 -> چهارشنبه | HN10: =TEXT(DV10,"سالمی-") -> * | HO10: =TEXT(DW10,"سالمی-") -> * | HP10: =TEXT(DX10,"عبدالهی-") -> * | HQ10: =TEXT(DY10,"عبدالهی-") -> * | HR10: =TEXT(DZ10,"میرکریمی-") -> * | HS10: =TEXT(EA10,"میرکریمی-") -> * | HT10: =TEXT(EB10,"علوی-") -> * | HU10: =TEXT(EC10,"علوی-") -> * | HV10: =TEXT(ED10,"سلوکی-") -> * | HW10: =TEXT(EE10,"سلوکي-") -> * | HX10: =TEXT(EF10,"حسين خاني-") -> * | HY10: =TEXT(EG10,"حسين خاني-") -> * | HZ10: =TEXT(EH10,"علوي-") -> * | IA10: =TEXT(EI10,"علوي-") -> * | IB10: =TEXT(EJ10,"زارع زاده-") -> * | IC10: =TEXT(EK10,"زارع زاده-") -> * | ID10: =TEXT(EL10,"هاشمي-") -> * | IE10: =TEXT(EM10,"هاشمي-") -> * | IF10: =TEXT(EN10,"سلوکي- ") -> * | IG10: =TEXT(EO10,"سلوکي - ") -> * | RD10: =BB10 -> 6 | RE10: =BC7 -> چهارشنبه | RF10: صبح | RG10: =CONCATENATE(EV10,EX10,EZ10,FB10,FD10,FF10,FH10,FJ10,FL10,FN10,FP10,FR10,FT10,FV10,FX10,FZ10,GB10,GD10,GF10,GH10,GJ10,GL10,GN10,GP10,GR10,GT10,GV10,GX10,GZ10,HD10,HF10,HJ10) -> ******************************** | RI10: 6 | RJ10: =CONCATENATE(EW10,EY10,FA10,FC10,FE10,FG10,FI10,FK10,FM10,FO10,FQ10,FS10,FU10,FW10,FY10,GA10,GC10,GE10,GG10,GI10,GK10,GM10,GO10,GQ10,GS10,GU10,GW10,GY10,HA10,HE10,HG10,HK10) -> ******************************** | RL10: =BB10 -> 6 | RM10: =BC7 -> چهارشنبه | RN10: شب | RO10: =CONCATENATE(HN10,HP10,HR10,HT10,HV10,HX10,HZ10,IB10,ID10,IF10,HH10) -> *********** | RQ10: بامداد | RR10: =CONCATENATE(HO10,HQ10,HS10,HU10,HW10,HY10,IA10,IC10,IE10,IG10,HI10) -> ***********
A11: سردبیر انگلیسی | B11: علیمردانی | F11: انگليسي | G11: صبح | H11: پایش مکتوب | K11: پایش تصویری | N11: تصویر حضور1 /2 | S11: تصویری دور | AC11: خام انگلیسی | AD11: =RG42 -> ********************************************************* | AS11: مشاهده کارويژه هاي شيفت روز | BB11: 7 | BC11: یکشنبه | BD11: * | BE11: * | BF11: * | BG11: * | BH11: * | BI11: * | BJ11: * | BK11: * | BL11: * | BM11: * | BN11: * | BO11: * | BP11: * | BQ11: * | BR11: * | BS11: * | BT11: * | BU11: * | BV11: * | BW11: * | BX11: * | BY11: * | BZ11: * | CA11: * | CB11: * | CC11: * | CD11: * | CE11: * | CF11: * | CG11: * | CH11: * | CI11: * | CJ11: * | CK11: * | CL11: * | CM11: * | CN11: * | CO11: * | CP11: * | CQ11: * | CR11: * | CS11: * | CT11: * | CU11: * | CV11: * | CW11: * | CX11: * | CY11: * | CZ11: * | DA11: * | DB11: * | DC11: * | DD11: * | DE11: * | DF11: * | DG11: * | DH11: * | DI11: * | DJ11: =BB11 -> 7 | DK11: =BC8 -> پنجشنبه | DL11: * | DM11: * | DN11: * | DO11: * | DP11: * | DQ11: * | DR11: * | DS11: * | DT11: =BB11 -> 7 | DU11: =BC8 -> پنجشنبه | DV11: * | DW11: * | DX11: * | DY11: * | DZ11: * | EA11: * | EB11: * | EC11: * | ED11: * | EE11: * | EF11: * | EG11: * | EH11: * | EI11: * | EJ11: * | EK11: * | EL11: * | EM11: * | EN11: * | EO11: * | ET11: =BB11 -> 7 | EU11: =BC8 -> پنجشنبه | EV11: =TEXT(BD11,"هاشمی-") -> * | EW11: =TEXT(BE11,"هاشمی-") -> * | EX11: =TEXT(BF11,"چراغی-") -> * | EY11: =TEXT(BG11,"چراغي-") -> * | EZ11: =TEXT(BH11,"ولدمحمدي-") -> * | FA11: =TEXT(BI11,"ولدمحمدي-") -> * | FB11: =TEXT(BJ11,"رضايي-") -> * | FC11: =TEXT(BK11,"رضايي-") -> * | FD11: =TEXT(BL11,"پاشا-") -> * | FE11: =TEXT(BM11,"پاشا-") -> * | FF11: =TEXT(BN11,"علوی-") -> * | FG11: =TEXT(BO11,"علوی-") -> * | FH11: =TEXT(BP11,"عبدالهی-") -> * | FI11: =TEXT(BQ11,"عبدالهی-") -> * | FJ11: =TEXT(BR11,"حسینخانی-") -> * | FK11: =TEXT(BS11,"حسین خانی-") -> * | FL11: =TEXT(BT11,"م ا له بخش-") -> * | FM11: =TEXT(BU11,"م اله بخش-") -> * | FN11: =TEXT(BV11,"کبريايي-") -> * | FO11: =TEXT(BW11,"کبريايي-") -> * | FP11: =TEXT(BX11,"ميرکريمي-") -> * | FQ11: =TEXT(BY11,"ميرکريمي-") -> * | FR11: =TEXT(BZ11,"امیدی-") -> * | FS11: =TEXT(CA11,"امیدي - ") -> * | FT11: =TEXT(CB11,"مجلسي-") -> * | FU11: =TEXT(CC11,"مجلسي-") -> * | FV11: =TEXT(CD11,"گرجی - ") -> * | FW11: =TEXT(CE11,"گرجي-") -> * | FX11: =TEXT(CF11,"رضاحسيني-") -> * | FY11: =TEXT(CG11,"رضاحسيني-") -> * | FZ11: =TEXT(CH11,"حاجعلیپور-") -> * | GA11: =TEXT(CI11," حاجعلیپور-") -> * | GB11: =TEXT(CJ11,"قویدل-") -> * | GC11: =TEXT(CK11," قویدل-") -> * | GD11: =TEXT(CL11,"محمدي-") -> * | GE11: =TEXT(CM11,"محمدي-") -> * | GF11: =TEXT(CN11,"داداشي-") -> * | GG11: =TEXT(CO11,"داداشي-") -> * | GH11: =TEXT(CP11,"کاظميني - ") -> * | GI11: =TEXT(CQ11,"کاظميني -") -> * | GJ11: =TEXT(CR11,"بازرگان-") -> * | GK11: =TEXT(CS11,"بازرگان-") -> * | GL11: =TEXT(CT11,"نويد-") -> * | GM11: =TEXT(CU11,"نويد-") -> * | GN11: =TEXT(CV11,"طالبي-") -> * | GO11: =TEXT(CW11,"طالبي-") -> * | GP11: =TEXT(CX11,"بهشتي-") -> * | GQ11: =TEXT(CY11,"بهشتي-") -> * | GR11: =TEXT(CZ11,"علوی-") -> * | GS11: =TEXT(DA11,"علوی-") -> * | GT11: =TEXT(DB11,"اميدي-") -> * | GU11: =TEXT(DC11,"اميدي-") -> * | GV11: =TEXT(DD11,"م اله بخش-") -> * | GW11: =TEXT(DE11,"م اله بخش-") -> * | GX11: =TEXT(DF11,"عبدالهي-") -> * | GY11: =TEXT(DG11,"عبدالهي-") -> * | GZ11: =TEXT(DH11,"تاجبخش-") -> * | HA11: =TEXT(DI11,"تاجبخش-") -> * | HB11: =BB11 -> 7 | HC11: =BC8 -> پنجشنبه | HD11: =TEXT(DL11,"سلوکي - ") -> * | HE11: =TEXT(DM11,"سلوکي-") -> * | HF11: =TEXT(DN11,"برزنوني-") -> * | HG11: =TEXT(DO11," برزنونی-") -> * | HH11: =TEXT(DP11,"برزنونی-") -> * | HI11: =TEXT(DQ11,"برزنونی-") -> * | HJ11: =TEXT(DR11,"سالمی-") -> * | HK11: =TEXT(DS11,"سالمي-") -> * | HL11: =BB11 -> 7 | HM11: =BC8 -> پنجشنبه | HN11: =TEXT(DV11,"سالمی-") -> * | HO11: =TEXT(DW11,"سالمی-") -> * | HP11: =TEXT(DX11,"عبدالهی-") -> * | HQ11: =TEXT(DY11,"عبدالهی-") -> * | HR11: =TEXT(DZ11,"میرکریمی-") -> * | HS11: =TEXT(EA11,"میرکریمی-") -> * | HT11: =TEXT(EB11,"علوی-") -> * | HU11: =TEXT(EC11,"علوی-") -> * | HV11: =TEXT(ED11,"سلوکی-") -> * | HW11: =TEXT(EE11,"سلوکي-") -> * | HX11: =TEXT(EF11,"حسين خاني-") -> * | HY11: =TEXT(EG11,"حسين خاني-") -> * | HZ11: =TEXT(EH11,"علوي-") -> * | IA11: =TEXT(EI11,"علوي-") -> * | IB11: =TEXT(EJ11,"زارع زاده-") -> * | IC11: =TEXT(EK11,"زارع زاده-") -> * | ID11: =TEXT(EL11,"هاشمي-") -> * | IE11: =TEXT(EM11,"هاشمي-") -> * | IF11: =TEXT(EN11,"سلوکي- ") -> * | IG11: =TEXT(EO11,"سلوکي - ") -> * | RD11: =BB11 -> 7 | RE11: =BC8 -> پنجشنبه | RF11: صبح | RG11: =CONCATENATE(EV11,EX11,EZ11,FB11,FD11,FF11,FH11,FJ11,FL11,FN11,FP11,FR11,FT11,FV11,FX11,FZ11,GB11,GD11,GF11,GH11,GJ11,GL11,GN11,GP11,GR11,GT11,GV11,GX11,GZ11,HD11,HF11,HJ11) -> ******************************** | RI11: 7 | RJ11: =CONCATENATE(EW11,EY11,FA11,FC11,FE11,FG11,FI11,FK11,FM11,FO11,FQ11,FS11,FU11,FW11,FY11,GA11,GC11,GE11,GG11,GI11,GK11,GM11,GO11,GQ11,GS11,GU11,GW11,GY11,HA11,HE11,HG11,HK11) -> ******************************** | RL11: =BB11 -> 7 | RM11: =BC8 -> پنجشنبه | RN11: شب | RO11: =CONCATENATE(HN11,HP11,HR11,HT11,HV11,HX11,HZ11,IB11,ID11,IF11,HH11) -> *********** | RQ11: بامداد | RR11: =CONCATENATE(HO11,HQ11,HS11,HU11,HW11,HY11,IA11,IC11,IE11,IG11,HI11) -> ***********
A12: سردبیر عربی | B12: ولد محمدی | F12: عربي | G12: صبح | H12: پایش 1 / نشریات... | N12: تصویرحضور1/2/3/4 | S12: تصویری دور | AC12: خام عربی | AD12: =RG6 -> ******************************** | AS12: ککارویژه انگلیسی : تصویر انگلیسی1:BBC-FR24- FOX- PRESS تصویر انگليسي2: CNN-CCTV-NHK-الجزيره انگليسي تصویر انگليسي3: REUTERS-AP – راشا – بلومبرگ- يورو نيوز تصویر انگليسي4: شات شبکه هاي بدون لوگو پايش مکتوب 1: 1- انديشکده ها 2- خبرهاي ايران 3- سايت رسمي کشورها 4-توئیت شخصیتهای مهم جهان پایش مکتوب 2 :1- تصوير گوناگون از تويتر و يوتيوپ و .. 3- نشريات انگليسي و آمريکايي غير ايران پایش تصاویر : 1 میز آمریکا- 2میز اروپا –3 میز آسیا کارویژه های عربی : تصویر عربي1 : عالم-مسيره-اخباريه سوريه-لولو-منار-قدس تصویر عربي2: ميادين-عربيه-جزيره و جزيره مباشر- حدث تصویر عربي3: روسيااليوم- اخباريه سعودي- عراقيه- تصویر عربي4:اسکاي عربي-BBC-فلسطين اليوم کارويژه پايش یک عربي: 1- پایگاه ها 2-روزنامه ها 3- اندیشکده ها 4- خبرگزاریها کارویژه پایش دوعربی: منابع تصویری ( پایگاه شبکه ها و یوتیوپ ) فضای مجازی( توئیتر و فیس بوک و اینستا گرام و ... ) کارويژه هاي فرانسه الف - کارویژه یک -شبکه ها تصويري (فرانس 24 – تي وي پنج- ب اف ام تي وي ) -شبکه هاي راديويي ( راديو بين المللي فرانسه- يوروپ 1- ) انديشکده ها و تصويري توئيتر- ب- کارويژه دو: - خبرگزاريها - اينترنت - انديشکده ها - توئيت ها | BB12: 8 | BC12: دوشنبه | BD12: * | BE12: * | BF12: * | BG12: * | BH12: * | BI12: * | BJ12: * | BK12: * | BL12: * | BM12: * | BN12: * | BO12: * | BP12: * | BQ12: * | BR12: * | BS12: * | BT12: * | BU12: * | BV12: * | BW12: * | BX12: * | BY12: * | BZ12: * | CA12: * | CB12: * | CC12: * | CD12: * | CE12: * | CF12: * | CG12: * | CH12: * | CI12: * | CJ12: * | CK12: * | CL12: * | CM12: * | CN12: * | CO12: * | CP12: * | CQ12: * | CR12: * | CS12: * | CT12: * | CU12: * | CV12: * | CW12: * | CX12: * | CY12: * | CZ12: * | DA12: * | DB12: * | DC12: * | DD12: * | DE12: * | DF12: * | DG12: * | DH12: * | DI12: * | DJ12: =BB12 -> 8 | DK12: =BC9 -> جمعه | DL12: * | DM12: * | DN12: * | DO12: * | DP12: * | DQ12: * | DR12: * | DS12: * | DT12: =BB12 -> 8 | DU12: =BC9 -> جمعه | DV12: * | DW12: * | DX12: * | DY12: * | DZ12: * | EA12: * | EB12: * | EC12: * | ED12: * | EE12: * | EF12: * | EG12: * | EH12: * | EI12: * | EJ12: * | EK12: * | EL12: * | EM12: * | EN12: * | EO12: * | ET12: =BB12 -> 8 | EU12: =BC9 -> جمعه | EV12: =TEXT(BD12,"هاشمی-") -> * | EW12: =TEXT(BE12,"هاشمی-") -> * | EX12: =TEXT(BF12,"چراغی-") -> * | EY12: =TEXT(BG12,"چراغي-") -> * | EZ12: =TEXT(BH12,"ولدمحمدي-") -> * | FA12: =TEXT(BI12,"ولدمحمدي-") -> * | FB12: =TEXT(BJ12,"رضايي-") -> * | FC12: =TEXT(BK12,"رضايي-") -> * | FD12: =TEXT(BL12,"پاشا-") -> * | FE12: =TEXT(BM12,"پاشا-") -> * | FF12: =TEXT(BN12,"علوی-") -> * | FG12: =TEXT(BO12,"علوی-") -> * | FH12: =TEXT(BP12,"عبدالهی-") -> * | FI12: =TEXT(BQ12,"عبدالهی-") -> * | FJ12: =TEXT(BR12,"حسینخانی-") -> * | FK12: =TEXT(BS12,"حسین خانی-") -> * | FL12: =TEXT(BT12,"م ا له بخش-") -> * | FM12: =TEXT(BU12,"م اله بخش-") -> * | FN12: =TEXT(BV12,"کبريايي-") -> * | FO12: =TEXT(BW12,"کبريايي-") -> * | FP12: =TEXT(BX12,"ميرکريمي-") -> * | FQ12: =TEXT(BY12,"ميرکريمي-") -> * | FR12: =TEXT(BZ12,"امیدی-") -> * | FS12: =TEXT(CA12,"امیدي - ") -> * | FT12: =TEXT(CB12,"مجلسي-") -> * | FU12: =TEXT(CC12,"مجلسي-") -> * | FV12: =TEXT(CD12,"گرجی - ") -> * | FW12: =TEXT(CE12,"گرجي-") -> * | FX12: =TEXT(CF12,"رضاحسيني-") -> * | FY12: =TEXT(CG12,"رضاحسيني-") -> * | FZ12: =TEXT(CH12,"حاجعلیپور-") -> * | GA12: =TEXT(CI12," حاجعلیپور-") -> * | GB12: =TEXT(CJ12,"قویدل-") -> * | GC12: =TEXT(CK12," قویدل-") -> * | GD12: =TEXT(CL12,"محمدي-") -> * | GE12: =TEXT(CM12,"محمدي-") -> * | GF12: =TEXT(CN12,"داداشي-") -> * | GG12: =TEXT(CO12,"داداشي-") -> * | GH12: =TEXT(CP12,"کاظميني - ") -> * | GI12: =TEXT(CQ12,"کاظميني -") -> * | GJ12: =TEXT(CR12,"بازرگان-") -> * | GK12: =TEXT(CS12,"بازرگان-") -> * | GL12: =TEXT(CT12,"نويد-") -> * | GM12: =TEXT(CU12,"نويد-") -> * | GN12: =TEXT(CV12,"طالبي-") -> * | GO12: =TEXT(CW12,"طالبي-") -> * | GP12: =TEXT(CX12,"بهشتي-") -> * | GQ12: =TEXT(CY12,"بهشتي-") -> * | GR12: =TEXT(CZ12,"علوی-") -> * | GS12: =TEXT(DA12,"علوی-") -> * | GT12: =TEXT(DB12,"اميدي-") -> * | GU12: =TEXT(DC12,"اميدي-") -> * | GV12: =TEXT(DD12,"م اله بخش-") -> * | GW12: =TEXT(DE12,"م اله بخش-") -> * | GX12: =TEXT(DF12,"عبدالهي-") -> * | GY12: =TEXT(DG12,"عبدالهي-") -> * | GZ12: =TEXT(DH12,"تاجبخش-") -> * | HA12: =TEXT(DI12,"تاجبخش-") -> * | HB12: =BB12 -> 8 | HC12: =BC9 -> جمعه | HD12: =TEXT(DL12,"سلوکي - ") -> * | HE12: =TEXT(DM12,"سلوکي-") -> * | HF12: =TEXT(DN12,"برزنوني-") -> * | HG12: =TEXT(DO12," برزنونی-") -> * | HH12: =TEXT(DP12,"برزنونی-") -> * | HI12: =TEXT(DQ12,"برزنونی-") -> * | HJ12: =TEXT(DR12,"سالمی-") -> * | HK12: =TEXT(DS12,"سالمي-") -> * | HL12: =BB12 -> 8 | HM12: =BC9 -> جمعه | HN12: =TEXT(DV12,"سالمی-") -> * | HO12: =TEXT(DW12,"سالمی-") -> * | HP12: =TEXT(DX12,"عبدالهی-") -> * | HQ12: =TEXT(DY12,"عبدالهی-") -> * | HR12: =TEXT(DZ12,"میرکریمی-") -> * | HS12: =TEXT(EA12,"میرکریمی-") -> * | HT12: =TEXT(EB12,"علوی-") -> * | HU12: =TEXT(EC12,"علوی-") -> * | HV12: =TEXT(ED12,"سلوکی-") -> * | HW12: =TEXT(EE12,"سلوکي-") -> * | HX12: =TEXT(EF12,"حسين خاني-") -> * | HY12: =TEXT(EG12,"حسين خاني-") -> * | HZ12: =TEXT(EH12,"علوي-") -> * | IA12: =TEXT(EI12,"علوي-") -> * | IB12: =TEXT(EJ12,"زارع زاده-") -> * | IC12: =TEXT(EK12,"زارع زاده-") -> * | ID12: =TEXT(EL12,"هاشمي-") -> * | IE12: =TEXT(EM12,"هاشمي-") -> * | IF12: =TEXT(EN12,"سلوکي- ") -> * | IG12: =TEXT(EO12,"سلوکي - ") -> * | RD12: =BB12 -> 8 | RE12: =BC9 -> جمعه | RF12: صبح | RG12: =CONCATENATE(EV12,EX12,EZ12,FB12,FD12,FF12,FH12,FJ12,FL12,FN12,FP12,FR12,FT12,FV12,FX12,FZ12,GB12,GD12,GF12,GH12,GJ12,GL12,GN12,GP12,GR12,GT12,GV12,GX12,GZ12,HD12,HF12,HJ12) -> ******************************** | RI12: 8 | RJ12: =CONCATENATE(EW12,EY12,FA12,FC12,FE12,FG12,FI12,FK12,FM12,FO12,FQ12,FS12,FU12,FW12,FY12,GA12,GC12,GE12,GG12,GI12,GK12,GM12,GO12,GQ12,GS12,GU12,GW12,GY12,HA12,HE12,HG12,HK12) -> ******************************** | RL12: =BB12 -> 8 | RM12: =BC9 -> جمعه | RN12: شب | RO12: =CONCATENATE(HN12,HP12,HR12,HT12,HV12,HX12,HZ12,IB12,ID12,IF12,HH12) -> *********** | RQ12: بامداد | RR12: =CONCATENATE(HO12,HQ12,HS12,HU12,HW12,HY12,IA12,IC12,IE12,IG12,HI12) -> ***********
A13: مترجم همزمان و سردبیر فرانسه | B13: علیمردانی | F13: فرانسه و.. | G13: صبح | H13: شبکه های تصویری و نشریات فرانسه | N13: تصویری حضوری | P13: تصویری دور | V13: زبانهای دیگر | Y13: تدوین و دبیران | Z13: پیرویسی | AC13: خام فرانسه | AD13: =RG78 -> *فخرآور-*************** | AM13: تدوین و دوبیران | AN13: =RG114 -> ******************* | BB13: 9 | BC13: سه شنبه | BD13: * | BE13: * | BF13: * | BG13: * | BH13: * | BI13: * | BJ13: * | BK13: * | BL13: * | BM13: * | BN13: * | BO13: * | BP13: * | BQ13: * | BR13: * | BS13: * | BT13: * | BU13: * | BV13: * | BW13: * | BX13: * | BY13: * | BZ13: * | CA13: * | CB13: * | CC13: * | CD13: * | CE13: * | CF13: * | CG13: * | CH13: * | CI13: * | CJ13: * | CK13: * | CL13: * | CM13: * | CN13: * | CO13: * | CP13: * | CQ13: * | CR13: * | CS13: * | CT13: * | CU13: * | CV13: * | CW13: * | CX13: * | CY13: * | CZ13: * | DA13: * | DB13: * | DC13: * | DD13: * | DE13: * | DF13: * | DG13: * | DH13: * | DI13: * | DJ13: =BB13 -> 9 | DK13: =BC10 -> شنبه | DL13: * | DM13: * | DN13: * | DO13: * | DP13: * | DQ13: * | DR13: * | DS13: * | DT13: =BB13 -> 9 | DU13: =BC10 -> شنبه | DV13: * | DW13: * | DX13: * | DY13: * | DZ13: * | EA13: * | EB13: * | EC13: * | ED13: * | EE13: * | EF13: * | EG13: * | EH13: * | EI13: * | EJ13: * | EK13: * | EL13: * | EM13: * | EN13: * | EO13: * | ET13: =BB13 -> 9 | EU13: =BC10 -> شنبه | EV13: =TEXT(BD13,"هاشمی-") -> * | EW13: =TEXT(BE13,"هاشمی-") -> * | EX13: =TEXT(BF13,"چراغی-") -> * | EY13: =TEXT(BG13,"چراغي-") -> * | EZ13: =TEXT(BH13,"ولدمحمدي-") -> * | FA13: =TEXT(BI13,"ولدمحمدي-") -> * | FB13: =TEXT(BJ13,"رضايي-") -> * | FC13: =TEXT(BK13,"رضايي-") -> * | FD13: =TEXT(BL13,"پاشا-") -> * | FE13: =TEXT(BM13,"پاشا-") -> * | FF13: =TEXT(BN13,"علوی-") -> * | FG13: =TEXT(BO13,"علوی-") -> * | FH13: =TEXT(BP13,"عبدالهی-") -> * | FI13: =TEXT(BQ13,"عبدالهی-") -> * | FJ13: =TEXT(BR13,"حسینخانی-") -> * | FK13: =TEXT(BS13,"حسین خانی-") -> * | FL13: =TEXT(BT13,"م ا له بخش-") -> * | FM13: =TEXT(BU13,"م اله بخش-") -> * | FN13: =TEXT(BV13,"کبريايي-") -> * | FO13: =TEXT(BW13,"کبريايي-") -> * | FP13: =TEXT(BX13,"ميرکريمي-") -> * | FQ13: =TEXT(BY13,"ميرکريمي-") -> * | FR13: =TEXT(BZ13,"امیدی-") -> * | FS13: =TEXT(CA13,"امیدي - ") -> * | FT13: =TEXT(CB13,"مجلسي-") -> * | FU13: =TEXT(CC13,"مجلسي-") -> * | FV13: =TEXT(CD13,"گرجی - ") -> * | FW13: =TEXT(CE13,"گرجي-") -> * | FX13: =TEXT(CF13,"رضاحسيني-") -> * | FY13: =TEXT(CG13,"رضاحسيني-") -> * | FZ13: =TEXT(CH13,"حاجعلیپور-") -> * | GA13: =TEXT(CI13," حاجعلیپور-") -> * | GB13: =TEXT(CJ13,"قویدل-") -> * | GC13: =TEXT(CK13," قویدل-") -> * | GD13: =TEXT(CL13,"محمدي-") -> * | GE13: =TEXT(CM13,"محمدي-") -> * | GF13: =TEXT(CN13,"داداشي-") -> * | GG13: =TEXT(CO13,"داداشي-") -> * | GH13: =TEXT(CP13,"کاظميني - ") -> * | GI13: =TEXT(CQ13,"کاظميني -") -> * | GJ13: =TEXT(CR13,"بازرگان-") -> * | GK13: =TEXT(CS13,"بازرگان-") -> * | GL13: =TEXT(CT13,"نويد-") -> * | GM13: =TEXT(CU13,"نويد-") -> * | GN13: =TEXT(CV13,"طالبي-") -> * | GO13: =TEXT(CW13,"طالبي-") -> * | GP13: =TEXT(CX13,"بهشتي-") -> * | GQ13: =TEXT(CY13,"بهشتي-") -> * | GR13: =TEXT(CZ13,"علوی-") -> * | GS13: =TEXT(DA13,"علوی-") -> * | GT13: =TEXT(DB13,"اميدي-") -> * | GU13: =TEXT(DC13,"اميدي-") -> * | GV13: =TEXT(DD13,"م اله بخش-") -> * | GW13: =TEXT(DE13,"م اله بخش-") -> * | GX13: =TEXT(DF13,"عبدالهي-") -> * | GY13: =TEXT(DG13,"عبدالهي-") -> * | GZ13: =TEXT(DH13,"تاجبخش-") -> * | HA13: =TEXT(DI13,"تاجبخش-") -> * | HB13: =BB13 -> 9 | HC13: =BC10 -> شنبه | HD13: =TEXT(DL13,"سلوکي - ") -> * | HE13: =TEXT(DM13,"سلوکي-") -> * | HF13: =TEXT(DN13,"برزنوني-") -> * | HG13: =TEXT(DO13," برزنونی-") -> * | HH13: =TEXT(DP13,"برزنونی-") -> * | HI13: =TEXT(DQ13,"برزنونی-") -> * | HJ13: =TEXT(DR13,"سالمی-") -> * | HK13: =TEXT(DS13,"سالمي-") -> * | HL13: =BB13 -> 9 | HM13: =BC10 -> شنبه | HN13: =TEXT(DV13,"سالمی-") -> * | HO13: =TEXT(DW13,"سالمی-") -> * | HP13: =TEXT(DX13,"عبدالهی-") -> * | HQ13: =TEXT(DY13,"عبدالهی-") -> * | HR13: =TEXT(DZ13,"میرکریمی-") -> * | HS13: =TEXT(EA13,"میرکریمی-") -> * | HT13: =TEXT(EB13,"علوی-") -> * | HU13: =TEXT(EC13,"علوی-") -> * | HV13: =TEXT(ED13,"سلوکی-") -> * | HW13: =TEXT(EE13,"سلوکي-") -> * | HX13: =TEXT(EF13,"حسين خاني-") -> * | HY13: =TEXT(EG13,"حسين خاني-") -> * | HZ13: =TEXT(EH13,"علوي-") -> * | IA13: =TEXT(EI13,"علوي-") -> * | IB13: =TEXT(EJ13,"زارع زاده-") -> * | IC13: =TEXT(EK13,"زارع زاده-") -> * | ID13: =TEXT(EL13,"هاشمي-") -> * | IE13: =TEXT(EM13,"هاشمي-") -> * | IF13: =TEXT(EN13,"سلوکي- ") -> * | IG13: =TEXT(EO13,"سلوکي - ") -> * | RD13: =BB13 -> 9 | RE13: =BC10 -> شنبه | RF13: صبح | RG13: =CONCATENATE(EV13,EX13,EZ13,FB13,FD13,FF13,FH13,FJ13,FL13,FN13,FP13,FR13,FT13,FV13,FX13,FZ13,GB13,GD13,GF13,GH13,GJ13,GL13,GN13,GP13,GR13,GT13,GV13,GX13,GZ13,HD13,HF13,HJ13) -> ******************************** | RI13: 9 | RJ13: =CONCATENATE(EW13,EY13,FA13,FC13,FE13,FG13,FI13,FK13,FM13,FO13,FQ13,FS13,FU13,FW13,FY13,GA13,GC13,GE13,GG13,GI13,GK13,GM13,GO13,GQ13,GS13,GU13,GW13,GY13,HA13,HE13,HG13,HK13) -> ******************************** | RL13: =BB13 -> 9 | RM13: =BC10 -> شنبه | RN13: شب | RO13: =CONCATENATE(HN13,HP13,HR13,HT13,HV13,HX13,HZ13,IB13,ID13,IF13,HH13) -> *********** | RQ13: بامداد | RR13: =CONCATENATE(HO13,HQ13,HS13,HU13,HW13,HY13,IA13,IC13,IE13,IG13,HI13) -> ***********
A14: سردبیر انگلیسی | B14: قربانی | F14: انگليسي | G14: عصر | H14: پایش مکتوب | K14: پایش تصویری | N14: تصویر حضور1 /2 | S14: تصویری دور | AC14: خام انگلیسی | AD14: =RJ42 -> ********************************************************* | BB14: 10 | BC14: چهارشنبه | BD14: * | BE14: * | BF14: * | BG14: * | BH14: * | BI14: * | BJ14: * | BK14: * | BL14: * | BM14: * | BN14: * | BO14: * | BP14: * | BQ14: * | BR14: * | BS14: * | BT14: * | BU14: * | BV14: * | BW14: * | BX14: * | BY14: * | BZ14: * | CA14: * | CB14: * | CC14: * | CD14: * | CE14: * | CF14: * | CG14: * | CH14: * | CI14: * | CJ14: * | CK14: * | CL14: * | CM14: * | CN14: * | CO14: * | CP14: * | CQ14: * | CR14: * | CS14: * | CT14: * | CU14: * | CV14: * | CW14: * | CX14: * | CY14: * | CZ14: * | DA14: * | DB14: * | DC14: * | DD14: * | DE14: * | DF14: * | DG14: * | DH14: * | DI14: * | DJ14: =BB14 -> 10 | DK14: =BC11 -> یکشنبه | DL14: * | DM14: * | DN14: * | DO14: * | DP14: * | DQ14: * | DR14: * | DS14: * | DT14: =BB14 -> 10 | DU14: =BC11 -> یکشنبه | DV14: * | DW14: * | DX14: * | DY14: * | DZ14: * | EA14: * | EB14: * | EC14: * | ED14: * | EE14: * | EF14: * | EG14: * | EH14: * | EI14: * | EJ14: * | EK14: * | EL14: * | EM14: * | EN14: * | EO14: * | ET14: =BB14 -> 10 | EU14: =BC11 -> یکشنبه | EV14: =TEXT(BD14,"هاشمی-") -> * | EW14: =TEXT(BE14,"هاشمی-") -> * | EX14: =TEXT(BF14,"چراغی-") -> * | EY14: =TEXT(BG14,"چراغي-") -> * | EZ14: =TEXT(BH14,"ولدمحمدي-") -> * | FA14: =TEXT(BI14,"ولدمحمدي-") -> * | FB14: =TEXT(BJ14,"رضايي-") -> * | FC14: =TEXT(BK14,"رضايي-") -> * | FD14: =TEXT(BL14,"پاشا-") -> * | FE14: =TEXT(BM14,"پاشا-") -> * | FF14: =TEXT(BN14,"علوی-") -> * | FG14: =TEXT(BO14,"علوی-") -> * | FH14: =TEXT(BP14,"عبدالهی-") -> * | FI14: =TEXT(BQ14,"عبدالهی-") -> * | FJ14: =TEXT(BR14,"حسینخانی-") -> * | FK14: =TEXT(BS14,"حسین خانی-") -> * | FL14: =TEXT(BT14,"م ا له بخش-") -> * | FM14: =TEXT(BU14,"م اله بخش-") -> * | FN14: =TEXT(BV14,"کبريايي-") -> * | FO14: =TEXT(BW14,"کبريايي-") -> * | FP14: =TEXT(BX14,"ميرکريمي-") -> * | FQ14: =TEXT(BY14,"ميرکريمي-") -> * | FR14: =TEXT(BZ14,"امیدی-") -> * | FS14: =TEXT(CA14,"امیدي - ") -> * | FT14: =TEXT(CB14,"مجلسي-") -> * | FU14: =TEXT(CC14,"مجلسي-") -> * | FV14: =TEXT(CD14,"گرجی - ") -> * | FW14: =TEXT(CE14,"گرجي-") -> * | FX14: =TEXT(CF14,"رضاحسيني-") -> * | FY14: =TEXT(CG14,"رضاحسيني-") -> * | FZ14: =TEXT(CH14,"حاجعلیپور-") -> * | GA14: =TEXT(CI14," حاجعلیپور-") -> * | GB14: =TEXT(CJ14,"قویدل-") -> * | GC14: =TEXT(CK14," قویدل-") -> * | GD14: =TEXT(CL14,"محمدي-") -> * | GE14: =TEXT(CM14,"محمدي-") -> * | GF14: =TEXT(CN14,"داداشي-") -> * | GG14: =TEXT(CO14,"داداشي-") -> * | GH14: =TEXT(CP14,"کاظميني - ") -> * | GI14: =TEXT(CQ14,"کاظميني -") -> * | GJ14: =TEXT(CR14,"بازرگان-") -> * | GK14: =TEXT(CS14,"بازرگان-") -> * | GL14: =TEXT(CT14,"نويد-") -> * | GM14: =TEXT(CU14,"نويد-") -> * | GN14: =TEXT(CV14,"طالبي-") -> * | GO14: =TEXT(CW14,"طالبي-") -> * | GP14: =TEXT(CX14,"بهشتي-") -> * | GQ14: =TEXT(CY14,"بهشتي-") -> * | GR14: =TEXT(CZ14,"علوی-") -> * | GS14: =TEXT(DA14,"علوی-") -> * | GT14: =TEXT(DB14,"اميدي-") -> * | GU14: =TEXT(DC14,"اميدي-") -> * | GV14: =TEXT(DD14,"م اله بخش-") -> * | GW14: =TEXT(DE14,"م اله بخش-") -> * | GX14: =TEXT(DF14,"عبدالهي-") -> * | GY14: =TEXT(DG14,"عبدالهي-") -> * | GZ14: =TEXT(DH14,"تاجبخش-") -> * | HA14: =TEXT(DI14,"تاجبخش-") -> * | HB14: =BB14 -> 10 | HC14: =BC11 -> یکشنبه | HD14: =TEXT(DL14,"سلوکي - ") -> * | HE14: =TEXT(DM14,"سلوکي-") -> * | HF14: =TEXT(DN14,"برزنوني-") -> * | HG14: =TEXT(DO14," برزنونی-") -> * | HH14: =TEXT(DP14,"برزنونی-") -> * | HI14: =TEXT(DQ14,"برزنونی-") -> * | HJ14: =TEXT(DR14,"سالمی-") -> * | HK14: =TEXT(DS14,"سالمي-") -> * | HL14: =BB14 -> 10 | HM14: =BC11 -> یکشنبه | HN14: =TEXT(DV14,"سالمی-") -> * | HO14: =TEXT(DW14,"سالمی-") -> * | HP14: =TEXT(DX14,"عبدالهی-") -> * | HQ14: =TEXT(DY14,"عبدالهی-") -> * | HR14: =TEXT(DZ14,"میرکریمی-") -> * | HS14: =TEXT(EA14,"میرکریمی-") -> * | HT14: =TEXT(EB14,"علوی-") -> * | HU14: =TEXT(EC14,"علوی-") -> * | HV14: =TEXT(ED14,"سلوکی-") -> * | HW14: =TEXT(EE14,"سلوکي-") -> * | HX14: =TEXT(EF14,"حسين خاني-") -> * | HY14: =TEXT(EG14,"حسين خاني-") -> * | HZ14: =TEXT(EH14,"علوي-") -> * | IA14: =TEXT(EI14,"علوي-") -> * | IB14: =TEXT(EJ14,"زارع زاده-") -> * | IC14: =TEXT(EK14,"زارع زاده-") -> * | ID14: =TEXT(EL14,"هاشمي-") -> * | IE14: =TEXT(EM14,"هاشمي-") -> * | IF14: =TEXT(EN14,"سلوکي- ") -> * | IG14: =TEXT(EO14,"سلوکي - ") -> * | RD14: =BB14 -> 10 | RE14: =BC11 -> یکشنبه | RF14: صبح | RG14: =CONCATENATE(EV14,EX14,EZ14,FB14,FD14,FF14,FH14,FJ14,FL14,FN14,FP14,FR14,FT14,FV14,FX14,FZ14,GB14,GD14,GF14,GH14,GJ14,GL14,GN14,GP14,GR14,GT14,GV14,GX14,GZ14,HD14,HF14,HJ14) -> ******************************** | RI14: 10 | RJ14: =CONCATENATE(EW14,EY14,FA14,FC14,FE14,FG14,FI14,FK14,FM14,FO14,FQ14,FS14,FU14,FW14,FY14,GA14,GC14,GE14,GG14,GI14,GK14,GM14,GO14,GQ14,GS14,GU14,GW14,GY14,HA14,HE14,HG14,HK14) -> ******************************** | RL14: =BB14 -> 10 | RM14: =BC11 -> یکشنبه | RN14: شب | RO14: =CONCATENATE(HN14,HP14,HR14,HT14,HV14,HX14,HZ14,IB14,ID14,IF14,HH14) -> *********** | RQ14: بامداد | RR14: =CONCATENATE(HO14,HQ14,HS14,HU14,HW14,HY14,IA14,IC14,IE14,IG14,HI14) -> ***********
A15: سردبیر عربی | B15: ولد محمدی | F15: عربي | G15: عصر | H15: پایش 1 / نشریات... | N15: تصویرحضور1/2/3/4 | S15: تصویری دور | AC15: خام عربی | AD15: =RJ6 -> ******************************** | BB15: 11 | BC15: پنجشنبه | BD15: * | BE15: * | BF15: * | BG15: * | BH15: * | BI15: * | BJ15: * | BK15: * | BL15: * | BM15: * | BN15: * | BO15: * | BP15: * | BQ15: * | BR15: * | BS15: * | BT15: * | BU15: * | BV15: * | BW15: * | BX15: * | BY15: * | BZ15: * | CA15: * | CB15: * | CC15: * | CD15: * | CE15: * | CF15: * | CG15: * | CH15: * | CI15: * | CJ15: * | CK15: * | CL15: * | CM15: * | CN15: * | CO15: * | CP15: * | CQ15: * | CR15: * | CS15: * | CT15: * | CU15: * | CV15: * | CW15: * | CX15: * | CY15: * | CZ15: * | DA15: * | DB15: * | DC15: * | DD15: * | DE15: * | DF15: * | DG15: * | DH15: * | DI15: * | DJ15: =BB15 -> 11 | DK15: =BC12 -> دوشنبه | DL15: * | DM15: * | DN15: * | DO15: * | DP15: * | DQ15: * | DR15: * | DS15: * | DT15: =BB15 -> 11 | DU15: =BC12 -> دوشنبه | DV15: * | DW15: * | DX15: * | DY15: * | DZ15: * | EA15: * | EB15: * | EC15: * | ED15: * | EE15: * | EF15: * | EG15: * | EH15: * | EI15: * | EJ15: * | EK15: * | EL15: * | EM15: * | EN15: * | EO15: * | ET15: =BB15 -> 11 | EU15: =BC12 -> دوشنبه | EV15: =TEXT(BD15,"هاشمی-") -> * | EW15: =TEXT(BE15,"هاشمی-") -> * | EX15: =TEXT(BF15,"چراغی-") -> * | EY15: =TEXT(BG15,"چراغي-") -> * | EZ15: =TEXT(BH15,"ولدمحمدي-") -> * | FA15: =TEXT(BI15,"ولدمحمدي-") -> * | FB15: =TEXT(BJ15,"رضايي-") -> * | FC15: =TEXT(BK15,"رضايي-") -> * | FD15: =TEXT(BL15,"پاشا-") -> * | FE15: =TEXT(BM15,"پاشا-") -> * | FF15: =TEXT(BN15,"علوی-") -> * | FG15: =TEXT(BO15,"علوی-") -> * | FH15: =TEXT(BP15,"عبدالهی-") -> * | FI15: =TEXT(BQ15,"عبدالهی-") -> * | FJ15: =TEXT(BR15,"حسینخانی-") -> * | FK15: =TEXT(BS15,"حسین خانی-") -> * | FL15: =TEXT(BT15,"م ا له بخش-") -> * | FM15: =TEXT(BU15,"م اله بخش-") -> * | FN15: =TEXT(BV15,"کبريايي-") -> * | FO15: =TEXT(BW15,"کبريايي-") -> * | FP15: =TEXT(BX15,"ميرکريمي-") -> * | FQ15: =TEXT(BY15,"ميرکريمي-") -> * | FR15: =TEXT(BZ15,"امیدی-") -> * | FS15: =TEXT(CA15,"امیدي - ") -> * | FT15: =TEXT(CB15,"مجلسي-") -> * | FU15: =TEXT(CC15,"مجلسي-") -> * | FV15: =TEXT(CD15,"گرجی - ") -> * | FW15: =TEXT(CE15,"گرجي-") -> * | FX15: =TEXT(CF15,"رضاحسيني-") -> * | FY15: =TEXT(CG15,"رضاحسيني-") -> * | FZ15: =TEXT(CH15,"حاجعلیپور-") -> * | GA15: =TEXT(CI15," حاجعلیپور-") -> * | GB15: =TEXT(CJ15,"قویدل-") -> * | GC15: =TEXT(CK15," قویدل-") -> * | GD15: =TEXT(CL15,"محمدي-") -> * | GE15: =TEXT(CM15,"محمدي-") -> * | GF15: =TEXT(CN15,"داداشي-") -> * | GG15: =TEXT(CO15,"داداشي-") -> * | GH15: =TEXT(CP15,"کاظميني - ") -> * | GI15: =TEXT(CQ15,"کاظميني -") -> * | GJ15: =TEXT(CR15,"بازرگان-") -> * | GK15: =TEXT(CS15,"بازرگان-") -> * | GL15: =TEXT(CT15,"نويد-") -> * | GM15: =TEXT(CU15,"نويد-") -> * | GN15: =TEXT(CV15,"طالبي-") -> * | GO15: =TEXT(CW15,"طالبي-") -> * | GP15: =TEXT(CX15,"بهشتي-") -> * | GQ15: =TEXT(CY15,"بهشتي-") -> * | GR15: =TEXT(CZ15,"علوی-") -> * | GS15: =TEXT(DA15,"علوی-") -> * | GT15: =TEXT(DB15,"اميدي-") -> * | GU15: =TEXT(DC15,"اميدي-") -> * | GV15: =TEXT(DD15,"م اله بخش-") -> * | GW15: =TEXT(DE15,"م اله بخش-") -> * | GX15: =TEXT(DF15,"عبدالهي-") -> * | GY15: =TEXT(DG15,"عبدالهي-") -> * | GZ15: =TEXT(DH15,"تاجبخش-") -> * | HA15: =TEXT(DI15,"تاجبخش-") -> * | HB15: =BB15 -> 11 | HC15: =BC12 -> دوشنبه | HD15: =TEXT(DL15,"سلوکي - ") -> * | HE15: =TEXT(DM15,"سلوکي-") -> * | HF15: =TEXT(DN15,"برزنوني-") -> * | HG15: =TEXT(DO15," برزنونی-") -> * | HH15: =TEXT(DP15,"برزنونی-") -> * | HI15: =TEXT(DQ15,"برزنونی-") -> * | HJ15: =TEXT(DR15,"سالمی-") -> * | HK15: =TEXT(DS15,"سالمي-") -> * | HL15: =BB15 -> 11 | HM15: =BC12 -> دوشنبه | HN15: =TEXT(DV15,"سالمی-") -> * | HO15: =TEXT(DW15,"سالمی-") -> * | HP15: =TEXT(DX15,"عبدالهی-") -> * | HQ15: =TEXT(DY15,"عبدالهی-") -> * | HR15: =TEXT(DZ15,"میرکریمی-") -> * | HS15: =TEXT(EA15,"میرکریمی-") -> * | HT15: =TEXT(EB15,"علوی-") -> * | HU15: =TEXT(EC15,"علوی-") -> * | HV15: =TEXT(ED15,"سلوکی-") -> * | HW15: =TEXT(EE15,"سلوکي-") -> * | HX15: =TEXT(EF15,"حسين خاني-") -> * | HY15: =TEXT(EG15,"حسين خاني-") -> * | HZ15: =TEXT(EH15,"علوي-") -> * | IA15: =TEXT(EI15,"علوي-") -> * | IB15: =TEXT(EJ15,"زارع زاده-") -> * | IC15: =TEXT(EK15,"زارع زاده-") -> * | ID15: =TEXT(EL15,"هاشمي-") -> * | IE15: =TEXT(EM15,"هاشمي-") -> * | IF15: =TEXT(EN15,"سلوکي- ") -> * | IG15: =TEXT(EO15,"سلوکي - ") -> * | RD15: =BB15 -> 11 | RE15: =BC12 -> دوشنبه | RF15: صبح | RG15: =CONCATENATE(EV15,EX15,EZ15,FB15,FD15,FF15,FH15,FJ15,FL15,FN15,FP15,FR15,FT15,FV15,FX15,FZ15,GB15,GD15,GF15,GH15,GJ15,GL15,GN15,GP15,GR15,GT15,GV15,GX15,GZ15,HD15,HF15,HJ15) -> ******************************** | RI15: 11 | RJ15: =CONCATENATE(EW15,EY15,FA15,FC15,FE15,FG15,FI15,FK15,FM15,FO15,FQ15,FS15,FU15,FW15,FY15,GA15,GC15,GE15,GG15,GI15,GK15,GM15,GO15,GQ15,GS15,GU15,GW15,GY15,HA15,HE15,HG15,HK15) -> ******************************** | RL15: =BB15 -> 11 | RM15: =BC12 -> دوشنبه | RN15: شب | RO15: =CONCATENATE(HN15,HP15,HR15,HT15,HV15,HX15,HZ15,IB15,ID15,IF15,HH15) -> *********** | RQ15: بامداد | RR15: =CONCATENATE(HO15,HQ15,HS15,HU15,HW15,HY15,IA15,IC15,IE15,IG15,HI15) -> ***********
A16: مترجم همزمان و سردبیر فرانسه | B16: قربانی | F16: فرانسه و.. | G16: عصر | H16: شبکه های تصویری و نشریات فرانسه | N16: تصویری حضوری | P16: تصویری دور | V16: زبانهای دیگر | Y16: تدوین و دبیران | Z16: پیرویسی | AC16: خام فرانسه | AD16: =RI78 -> **رفیعی-****ایمانی-********* | AM16: تدوین و دوبیران | AN16: =RI114 -> ******************* | BB16: 12 | BC16: جمعه | BD16: * | BE16: * | BF16: * | BG16: * | BH16: * | BI16: * | BJ16: * | BK16: * | BL16: * | BM16: * | BN16: * | BO16: * | BP16: * | BQ16: * | BR16: * | BS16: * | BT16: * | BU16: * | BV16: * | BW16: * | BX16: * | BY16: * | BZ16: * | CA16: * | CB16: * | CC16: * | CD16: * | CE16: * | CF16: * | CG16: * | CH16: * | CI16: * | CJ16: * | CK16: * | CL16: * | CM16: * | CN16: * | CO16: * | CP16: * | CQ16: * | CR16: * | CS16: * | CT16: * | CU16: * | CV16: * | CW16: * | CX16: * | CY16: * | CZ16: * | DA16: * | DB16: * | DC16: * | DD16: * | DE16: * | DF16: * | DG16: * | DH16: * | DI16: * | DJ16: =BB16 -> 12 | DK16: =BC13 -> سه شنبه | DL16: * | DM16: * | DN16: * | DO16: * | DP16: * | DQ16: * | DR16: * | DS16: * | DT16: =BB16 -> 12 | DU16: =BC13 -> سه شنبه | DV16: * | DW16: * | DX16: * | DY16: * | DZ16: * | EA16: * | EB16: * | EC16: * | ED16: * | EE16: * | EF16: * | EG16: * | EH16: * | EI16: * | EJ16: * | EK16: * | EL16: * | EM16: * | EN16: * | EO16: * | ET16: =BB16 -> 12 | EU16: =BC13 -> سه شنبه | EV16: =TEXT(BD16,"هاشمی-") -> * | EW16: =TEXT(BE16,"هاشمی-") -> * | EX16: =TEXT(BF16,"چراغی-") -> * | EY16: =TEXT(BG16,"چراغي-") -> * | EZ16: =TEXT(BH16,"ولدمحمدي-") -> * | FA16: =TEXT(BI16,"ولدمحمدي-") -> * | FB16: =TEXT(BJ16,"رضايي-") -> * | FC16: =TEXT(BK16,"رضايي-") -> * | FD16: =TEXT(BL16,"پاشا-") -> * | FE16: =TEXT(BM16,"پاشا-") -> * | FF16: =TEXT(BN16,"علوی-") -> * | FG16: =TEXT(BO16,"علوی-") -> * | FH16: =TEXT(BP16,"عبدالهی-") -> * | FI16: =TEXT(BQ16,"عبدالهی-") -> * | FJ16: =TEXT(BR16,"حسینخانی-") -> * | FK16: =TEXT(BS16,"حسین خانی-") -> * | FL16: =TEXT(BT16,"م ا له بخش-") -> * | FM16: =TEXT(BU16,"م اله بخش-") -> * | FN16: =TEXT(BV16,"کبريايي-") -> * | FO16: =TEXT(BW16,"کبريايي-") -> * | FP16: =TEXT(BX16,"ميرکريمي-") -> * | FQ16: =TEXT(BY16,"ميرکريمي-") -> * | FR16: =TEXT(BZ16,"امیدی-") -> * | FS16: =TEXT(CA16,"امیدي - ") -> * | FT16: =TEXT(CB16,"مجلسي-") -> * | FU16: =TEXT(CC16,"مجلسي-") -> * | FV16: =TEXT(CD16,"گرجی - ") -> * | FW16: =TEXT(CE16,"گرجي-") -> * | FX16: =TEXT(CF16,"رضاحسيني-") -> * | FY16: =TEXT(CG16,"رضاحسيني-") -> * | FZ16: =TEXT(CH16,"حاجعلیپور-") -> * | GA16: =TEXT(CI16," حاجعلیپور-") -> * | GB16: =TEXT(CJ16,"قویدل-") -> * | GC16: =TEXT(CK16," قویدل-") -> * | GD16: =TEXT(CL16,"محمدي-") -> * | GE16: =TEXT(CM16,"محمدي-") -> * | GF16: =TEXT(CN16,"داداشي-") -> * | GG16: =TEXT(CO16,"داداشي-") -> * | GH16: =TEXT(CP16,"کاظميني - ") -> * | GI16: =TEXT(CQ16,"کاظميني -") -> * | GJ16: =TEXT(CR16,"بازرگان-") -> * | GK16: =TEXT(CS16,"بازرگان-") -> * | GL16: =TEXT(CT16,"نويد-") -> * | GM16: =TEXT(CU16,"نويد-") -> * | GN16: =TEXT(CV16,"طالبي-") -> * | GO16: =TEXT(CW16,"طالبي-") -> * | GP16: =TEXT(CX16,"بهشتي-") -> * | GQ16: =TEXT(CY16,"بهشتي-") -> * | GR16: =TEXT(CZ16,"علوی-") -> * | GS16: =TEXT(DA16,"علوی-") -> * | GT16: =TEXT(DB16,"اميدي-") -> * | GU16: =TEXT(DC16,"اميدي-") -> * | GV16: =TEXT(DD16,"م اله بخش-") -> * | GW16: =TEXT(DE16,"م اله بخش-") -> * | GX16: =TEXT(DF16,"عبدالهي-") -> * | GY16: =TEXT(DG16,"عبدالهي-") -> * | GZ16: =TEXT(DH16,"تاجبخش-") -> * | HA16: =TEXT(DI16,"تاجبخش-") -> * | HB16: =BB16 -> 12 | HC16: =BC13 -> سه شنبه | HD16: =TEXT(DL16,"سلوکي - ") -> * | HE16: =TEXT(DM16,"سلوکي-") -> * | HF16: =TEXT(DN16,"برزنوني-") -> * | HG16: =TEXT(DO16," برزنونی-") -> * | HH16: =TEXT(DP16,"برزنونی-") -> * | HI16: =TEXT(DQ16,"برزنونی-") -> * | HJ16: =TEXT(DR16,"سالمی-") -> * | HK16: =TEXT(DS16,"سالمي-") -> * | HL16: =BB16 -> 12 | HM16: =BC13 -> سه شنبه | HN16: =TEXT(DV16,"سالمی-") -> * | HO16: =TEXT(DW16,"سالمی-") -> * | HP16: =TEXT(DX16,"عبدالهی-") -> * | HQ16: =TEXT(DY16,"عبدالهی-") -> * | HR16: =TEXT(DZ16,"میرکریمی-") -> * | HS16: =TEXT(EA16,"میرکریمی-") -> * | HT16: =TEXT(EB16,"علوی-") -> * | HU16: =TEXT(EC16,"علوی-") -> * | HV16: =TEXT(ED16,"سلوکی-") -> * | HW16: =TEXT(EE16,"سلوکي-") -> * | HX16: =TEXT(EF16,"حسين خاني-") -> * | HY16: =TEXT(EG16,"حسين خاني-") -> * | HZ16: =TEXT(EH16,"علوي-") -> * | IA16: =TEXT(EI16,"علوي-") -> * | IB16: =TEXT(EJ16,"زارع زاده-") -> * | IC16: =TEXT(EK16,"زارع زاده-") -> * | ID16: =TEXT(EL16,"هاشمي-") -> * | IE16: =TEXT(EM16,"هاشمي-") -> * | IF16: =TEXT(EN16,"سلوکي- ") -> * | IG16: =TEXT(EO16,"سلوکي - ") -> * | RD16: =BB16 -> 12 | RE16: =BC13 -> سه شنبه | RF16: صبح | RG16: =CONCATENATE(EV16,EX16,EZ16,FB16,FD16,FF16,FH16,FJ16,FL16,FN16,FP16,FR16,FT16,FV16,FX16,FZ16,GB16,GD16,GF16,GH16,GJ16,GL16,GN16,GP16,GR16,GT16,GV16,GX16,GZ16,HD16,HF16,HJ16) -> ******************************** | RI16: 12 | RJ16: =CONCATENATE(EW16,EY16,FA16,FC16,FE16,FG16,FI16,FK16,FM16,FO16,FQ16,FS16,FU16,FW16,FY16,GA16,GC16,GE16,GG16,GI16,GK16,GM16,GO16,GQ16,GS16,GU16,GW16,GY16,HA16,HE16,HG16,HK16) -> ******************************** | RL16: =BB16 -> 12 | RM16: =BC13 -> سه شنبه | RN16: شب | RO16: =CONCATENATE(HN16,HP16,HR16,HT16,HV16,HX16,HZ16,IB16,ID16,IF16,HH16) -> *********** | RQ16: بامداد | RR16: =CONCATENATE(HO16,HQ16,HS16,HU16,HW16,HY16,IA16,IC16,IE16,IG16,HI16) -> ***********
A17: سردبیر | E17: انگليسي و | F17: شب و | G17: پايشگر (نشریات/ فضای مجازی و ... | K17: شات بدون لوگو (رویترز،ای پی تی ان و ...) | N17: بی بی سی و الجزیره انگلیسی | Q17: سی ان ان / پرس / راشا انگلیسی | T17: خبرگزاري ها و شبکه های تصویری فرانسه | X17: عربي میادین/مسیره /قدس/منار/جزيره مباشر/ عالم / اخباريه/روسيااليوم /اسکاي /عربيه/حدث/ جزيره | AC17: =RO42 -> **********************************نجفی-** | BB17: 13 | BC17: شنبه | BD17: * | BE17: * | BF17: * | BG17: * | BH17: * | BI17: * | BJ17: * | BK17: * | BL17: * | BM17: * | BN17: * | BO17: * | BP17: * | BQ17: * | BR17: * | BS17: * | BT17: * | BU17: * | BV17: * | BW17: * | BX17: * | BY17: * | BZ17: * | CA17: * | CB17: * | CC17: * | CD17: * | CE17: * | CF17: * | CG17: * | CH17: * | CI17: * | CJ17: * | CK17: * | CL17: * | CM17: * | CN17: * | CO17: * | CP17: * | CQ17: * | CR17: * | CS17: * | CT17: * | CU17: * | CV17: * | CW17: * | CX17: * | CY17: * | CZ17: * | DA17: * | DB17: * | DC17: * | DD17: * | DE17: * | DF17: * | DG17: * | DH17: * | DI17: * | DJ17: =BB17 -> 13 | DK17: =BC14 -> چهارشنبه | DL17: * | DM17: * | DN17: * | DO17: * | DP17: * | DQ17: * | DR17: * | DS17: * | DT17: =BB17 -> 13 | DU17: =BC14 -> چهارشنبه | DV17: * | DW17: * | DX17: * | DY17: * | DZ17: * | EA17: * | EB17: * | EC17: * | ED17: * | EE17: * | EF17: * | EG17: * | EH17: * | EI17: * | EJ17: * | EK17: * | EL17: * | EM17: * | EN17: * | EO17: * | ET17: =BB17 -> 13 | EU17: =BC14 -> چهارشنبه | EV17: =TEXT(BD17,"هاشمی-") -> * | EW17: =TEXT(BE17,"هاشمی-") -> * | EX17: =TEXT(BF17,"چراغی-") -> * | EY17: =TEXT(BG17,"چراغي-") -> * | EZ17: =TEXT(BH17,"ولدمحمدي-") -> * | FA17: =TEXT(BI17,"ولدمحمدي-") -> * | FB17: =TEXT(BJ17,"رضايي-") -> * | FC17: =TEXT(BK17,"رضايي-") -> * | FD17: =TEXT(BL17,"پاشا-") -> * | FE17: =TEXT(BM17,"پاشا-") -> * | FF17: =TEXT(BN17,"علوی-") -> * | FG17: =TEXT(BO17,"علوی-") -> * | FH17: =TEXT(BP17,"عبدالهی-") -> * | FI17: =TEXT(BQ17,"عبدالهی-") -> * | FJ17: =TEXT(BR17,"حسینخانی-") -> * | FK17: =TEXT(BS17,"حسین خانی-") -> * | FL17: =TEXT(BT17,"م ا له بخش-") -> * | FM17: =TEXT(BU17,"م اله بخش-") -> * | FN17: =TEXT(BV17,"کبريايي-") -> * | FO17: =TEXT(BW17,"کبريايي-") -> * | FP17: =TEXT(BX17,"ميرکريمي-") -> * | FQ17: =TEXT(BY17,"ميرکريمي-") -> * | FR17: =TEXT(BZ17,"امیدی-") -> * | FS17: =TEXT(CA17,"امیدي - ") -> * | FT17: =TEXT(CB17,"مجلسي-") -> * | FU17: =TEXT(CC17,"مجلسي-") -> * | FV17: =TEXT(CD17,"گرجی - ") -> * | FW17: =TEXT(CE17,"گرجي-") -> * | FX17: =TEXT(CF17,"رضاحسيني-") -> * | FY17: =TEXT(CG17,"رضاحسيني-") -> * | FZ17: =TEXT(CH17,"حاجعلیپور-") -> * | GA17: =TEXT(CI17," حاجعلیپور-") -> * | GB17: =TEXT(CJ17,"قویدل-") -> * | GC17: =TEXT(CK17," قویدل-") -> * | GD17: =TEXT(CL17,"محمدي-") -> * | GE17: =TEXT(CM17,"محمدي-") -> * | GF17: =TEXT(CN17,"داداشي-") -> * | GG17: =TEXT(CO17,"داداشي-") -> * | GH17: =TEXT(CP17,"کاظميني - ") -> * | GI17: =TEXT(CQ17,"کاظميني -") -> * | GJ17: =TEXT(CR17,"بازرگان-") -> * | GK17: =TEXT(CS17,"بازرگان-") -> * | GL17: =TEXT(CT17,"نويد-") -> * | GM17: =TEXT(CU17,"نويد-") -> * | GN17: =TEXT(CV17,"طالبي-") -> * | GO17: =TEXT(CW17,"طالبي-") -> * | GP17: =TEXT(CX17,"بهشتي-") -> * | GQ17: =TEXT(CY17,"بهشتي-") -> * | GR17: =TEXT(CZ17,"علوی-") -> * | GS17: =TEXT(DA17,"علوی-") -> * | GT17: =TEXT(DB17,"اميدي-") -> * | GU17: =TEXT(DC17,"اميدي-") -> * | GV17: =TEXT(DD17,"م اله بخش-") -> * | GW17: =TEXT(DE17,"م اله بخش-") -> * | GX17: =TEXT(DF17,"عبدالهي-") -> * | GY17: =TEXT(DG17,"عبدالهي-") -> * | GZ17: =TEXT(DH17,"تاجبخش-") -> * | HA17: =TEXT(DI17,"تاجبخش-") -> * | HB17: =BB17 -> 13 | HC17: =BC14 -> چهارشنبه | HD17: =TEXT(DL17,"سلوکي - ") -> * | HE17: =TEXT(DM17,"سلوکي-") -> * | HF17: =TEXT(DN17,"برزنوني-") -> * | HG17: =TEXT(DO17," برزنونی-") -> * | HH17: =TEXT(DP17,"برزنونی-") -> * | HI17: =TEXT(DQ17,"برزنونی-") -> * | HJ17: =TEXT(DR17,"سالمی-") -> * | HK17: =TEXT(DS17,"سالمي-") -> * | HL17: =BB17 -> 13 | HM17: =BC14 -> چهارشنبه | HN17: =TEXT(DV17,"سالمی-") -> * | HO17: =TEXT(DW17,"سالمی-") -> * | HP17: =TEXT(DX17,"عبدالهی-") -> * | HQ17: =TEXT(DY17,"عبدالهی-") -> * | HR17: =TEXT(DZ17,"میرکریمی-") -> * | HS17: =TEXT(EA17,"میرکریمی-") -> * | HT17: =TEXT(EB17,"علوی-") -> * | HU17: =TEXT(EC17,"علوی-") -> * | HV17: =TEXT(ED17,"سلوکی-") -> * | HW17: =TEXT(EE17,"سلوکي-") -> * | HX17: =TEXT(EF17,"حسين خاني-") -> * | HY17: =TEXT(EG17,"حسين خاني-") -> * | HZ17: =TEXT(EH17,"علوي-") -> * | IA17: =TEXT(EI17,"علوي-") -> * | IB17: =TEXT(EJ17,"زارع زاده-") -> * | IC17: =TEXT(EK17,"زارع زاده-") -> * | ID17: =TEXT(EL17,"هاشمي-") -> * | IE17: =TEXT(EM17,"هاشمي-") -> * | IF17: =TEXT(EN17,"سلوکي- ") -> * | IG17: =TEXT(EO17,"سلوکي - ") -> * | RD17: =BB17 -> 13 | RE17: =BC14 -> چهارشنبه | RF17: صبح | RG17: =CONCATENATE(EV17,EX17,EZ17,FB17,FD17,FF17,FH17,FJ17,FL17,FN17,FP17,FR17,FT17,FV17,FX17,FZ17,GB17,GD17,GF17,GH17,GJ17,GL17,GN17,GP17,GR17,GT17,GV17,GX17,GZ17,HD17,HF17,HJ17) -> ******************************** | RI17: 13 | RJ17: =CONCATENATE(EW17,EY17,FA17,FC17,FE17,FG17,FI17,FK17,FM17,FO17,FQ17,FS17,FU17,FW17,FY17,GA17,GC17,GE17,GG17,GI17,GK17,GM17,GO17,GQ17,GS17,GU17,GW17,GY17,HA17,HE17,HG17,HK17) -> ******************************** | RL17: =BB17 -> 13 | RM17: =BC14 -> چهارشنبه | RN17: شب | RO17: =CONCATENATE(HN17,HP17,HR17,HT17,HV17,HX17,HZ17,IB17,ID17,IF17,HH17) -> *********** | RQ17: بامداد | RR17: =CONCATENATE(HO17,HQ17,HS17,HU17,HW17,HY17,IA17,IC17,IE17,IG17,HI17) -> ***********
A18: شب | E18: عربي فرانسه | F18: بامداد | AC18: =RO6 -> *********** | BB18: 14 | BC18: یکشنبه | BD18: * | BE18: * | BF18: * | BG18: * | BH18: * | BI18: * | BJ18: * | BK18: * | BL18: * | BM18: * | BN18: * | BO18: * | BP18: * | BQ18: * | BR18: * | BS18: * | BT18: * | BU18: * | BV18: * | BW18: * | BX18: * | BY18: * | BZ18: * | CA18: * | CB18: * | CC18: * | CD18: * | CE18: * | CF18: * | CG18: * | CH18: * | CI18: * | CJ18: * | CK18: * | CL18: * | CM18: * | CN18: * | CO18: * | CP18: * | CQ18: * | CR18: * | CS18: * | CT18: * | CU18: * | CV18: * | CW18: * | CX18: * | CY18: * | CZ18: * | DA18: * | DB18: * | DC18: * | DD18: * | DE18: * | DF18: * | DG18: * | DH18: * | DI18: * | DJ18: =BB18 -> 14 | DK18: =BC15 -> پنجشنبه | DL18: * | DM18: * | DN18: * | DO18: * | DP18: * | DQ18: * | DR18: * | DS18: * | DT18: =BB18 -> 14 | DU18: =BC15 -> پنجشنبه | DV18: * | DW18: * | DX18: * | DY18: * | DZ18: * | EA18: * | EB18: * | EC18: * | ED18: * | EE18: * | EF18: * | EG18: * | EH18: * | EI18: * | EJ18: * | EK18: * | EL18: * | EM18: * | EN18: * | EO18: * | ET18: =BB18 -> 14 | EU18: =BC15 -> پنجشنبه | EV18: =TEXT(BD18,"هاشمی-") -> * | EW18: =TEXT(BE18,"هاشمی-") -> * | EX18: =TEXT(BF18,"چراغی-") -> * | EY18: =TEXT(BG18,"چراغي-") -> * | EZ18: =TEXT(BH18,"ولدمحمدي-") -> * | FA18: =TEXT(BI18,"ولدمحمدي-") -> * | FB18: =TEXT(BJ18,"رضايي-") -> * | FC18: =TEXT(BK18,"رضايي-") -> * | FD18: =TEXT(BL18,"پاشا-") -> * | FE18: =TEXT(BM18,"پاشا-") -> * | FF18: =TEXT(BN18,"علوی-") -> * | FG18: =TEXT(BO18,"علوی-") -> * | FH18: =TEXT(BP18,"عبدالهی-") -> * | FI18: =TEXT(BQ18,"عبدالهی-") -> * | FJ18: =TEXT(BR18,"حسینخانی-") -> * | FK18: =TEXT(BS18,"حسین خانی-") -> * | FL18: =TEXT(BT18,"م ا له بخش-") -> * | FM18: =TEXT(BU18,"م اله بخش-") -> * | FN18: =TEXT(BV18,"کبريايي-") -> * | FO18: =TEXT(BW18,"کبريايي-") -> * | FP18: =TEXT(BX18,"ميرکريمي-") -> * | FQ18: =TEXT(BY18,"ميرکريمي-") -> * | FR18: =TEXT(BZ18,"امیدی-") -> * | FS18: =TEXT(CA18,"امیدي - ") -> * | FT18: =TEXT(CB18,"مجلسي-") -> * | FU18: =TEXT(CC18,"مجلسي-") -> * | FV18: =TEXT(CD18,"گرجی - ") -> * | FW18: =TEXT(CE18,"گرجي-") -> * | FX18: =TEXT(CF18,"رضاحسيني-") -> * | FY18: =TEXT(CG18,"رضاحسيني-") -> * | FZ18: =TEXT(CH18,"حاجعلیپور-") -> * | GA18: =TEXT(CI18," حاجعلیپور-") -> * | GB18: =TEXT(CJ18,"قویدل-") -> * | GC18: =TEXT(CK18," قویدل-") -> * | GD18: =TEXT(CL18,"محمدي-") -> * | GE18: =TEXT(CM18,"محمدي-") -> * | GF18: =TEXT(CN18,"داداشي-") -> * | GG18: =TEXT(CO18,"داداشي-") -> * | GH18: =TEXT(CP18,"کاظميني - ") -> * | GI18: =TEXT(CQ18,"کاظميني -") -> * | GJ18: =TEXT(CR18,"بازرگان-") -> * | GK18: =TEXT(CS18,"بازرگان-") -> * | GL18: =TEXT(CT18,"نويد-") -> * | GM18: =TEXT(CU18,"نويد-") -> * | GN18: =TEXT(CV18,"طالبي-") -> * | GO18: =TEXT(CW18,"طالبي-") -> * | GP18: =TEXT(CX18,"بهشتي-") -> * | GQ18: =TEXT(CY18,"بهشتي-") -> * | GR18: =TEXT(CZ18,"علوی-") -> * | GS18: =TEXT(DA18,"علوی-") -> * | GT18: =TEXT(DB18,"اميدي-") -> * | GU18: =TEXT(DC18,"اميدي-") -> * | GV18: =TEXT(DD18,"م اله بخش-") -> * | GW18: =TEXT(DE18,"م اله بخش-") -> * | GX18: =TEXT(DF18,"عبدالهي-") -> * | GY18: =TEXT(DG18,"عبدالهي-") -> * | GZ18: =TEXT(DH18,"تاجبخش-") -> * | HA18: =TEXT(DI18,"تاجبخش-") -> * | HB18: =BB18 -> 14 | HC18: =BC15 -> پنجشنبه | HD18: =TEXT(DL18,"سلوکي - ") -> * | HE18: =TEXT(DM18,"سلوکي-") -> * | HF18: =TEXT(DN18,"برزنوني-") -> * | HG18: =TEXT(DO18," برزنونی-") -> * | HH18: =TEXT(DP18,"برزنونی-") -> * | HI18: =TEXT(DQ18,"برزنونی-") -> * | HJ18: =TEXT(DR18,"سالمی-") -> * | HK18: =TEXT(DS18,"سالمي-") -> * | HL18: =BB18 -> 14 | HM18: =BC15 -> پنجشنبه | HN18: =TEXT(DV18,"سالمی-") -> * | HO18: =TEXT(DW18,"سالمی-") -> * | HP18: =TEXT(DX18,"عبدالهی-") -> * | HQ18: =TEXT(DY18,"عبدالهی-") -> * | HR18: =TEXT(DZ18,"میرکریمی-") -> * | HS18: =TEXT(EA18,"میرکریمی-") -> * | HT18: =TEXT(EB18,"علوی-") -> * | HU18: =TEXT(EC18,"علوی-") -> * | HV18: =TEXT(ED18,"سلوکی-") -> * | HW18: =TEXT(EE18,"سلوکي-") -> * | HX18: =TEXT(EF18,"حسين خاني-") -> * | HY18: =TEXT(EG18,"حسين خاني-") -> * | HZ18: =TEXT(EH18,"علوي-") -> * | IA18: =TEXT(EI18,"علوي-") -> * | IB18: =TEXT(EJ18,"زارع زاده-") -> * | IC18: =TEXT(EK18,"زارع زاده-") -> * | ID18: =TEXT(EL18,"هاشمي-") -> * | IE18: =TEXT(EM18,"هاشمي-") -> * | IF18: =TEXT(EN18,"سلوکي- ") -> * | IG18: =TEXT(EO18,"سلوکي - ") -> * | RD18: =BB18 -> 14 | RE18: =BC15 -> پنجشنبه | RF18: صبح | RG18: =CONCATENATE(EV18,EX18,EZ18,FB18,FD18,FF18,FH18,FJ18,FL18,FN18,FP18,FR18,FT18,FV18,FX18,FZ18,GB18,GD18,GF18,GH18,GJ18,GL18,GN18,GP18,GR18,GT18,GV18,GX18,GZ18,HD18,HF18,HJ18) -> ******************************** | RI18: 14 | RJ18: =CONCATENATE(EW18,EY18,FA18,FC18,FE18,FG18,FI18,FK18,FM18,FO18,FQ18,FS18,FU18,FW18,FY18,GA18,GC18,GE18,GG18,GI18,GK18,GM18,GO18,GQ18,GS18,GU18,GW18,GY18,HA18,HE18,HG18,HK18) -> ******************************** | RL18: =BB18 -> 14 | RM18: =BC15 -> پنجشنبه | RN18: شب | RO18: =CONCATENATE(HN18,HP18,HR18,HT18,HV18,HX18,HZ18,IB18,ID18,IF18,HH18) -> *********** | RQ18: بامداد | RR18: =CONCATENATE(HO18,HQ18,HS18,HU18,HW18,HY18,IA18,IC18,IE18,IG18,HI18) -> ***********
A19: جمعه | B19: بهمن3 | C19: سردبیران | D19: کمکی | E19: سردبیر دورکار | F19: تحریریه ها | H19: 1 | I19: 2 | J19: 3 | K19: 4 | L19: 5 | M19: 6 | N19: حضوری | O19: حضوری | P19: حضوری | Q19: حضوری | S19: انگليسي صبح | X19: انگليسي عصر | AC19: عربی صبح | AG19: عربي عصر | AK19: فرانسه صبح | AO19: فرانسه عصر | AS19: زبانهاي دیگر | AV19: شب و نيمه شب | BB19: 15 | BC19: دوشنبه | BD19: * | BE19: * | BF19: * | BG19: * | BH19: * | BI19: * | BJ19: * | BK19: * | BL19: * | BM19: * | BN19: * | BO19: * | BP19: * | BQ19: * | BR19: * | BS19: * | BT19: * | BU19: * | BV19: * | BW19: * | BX19: * | BY19: * | BZ19: * | CA19: * | CB19: * | CC19: * | CD19: * | CE19: * | CF19: * | CG19: * | CH19: * | CI19: * | CJ19: * | CK19: * | CL19: * | CM19: * | CN19: * | CO19: * | CP19: * | CQ19: * | CR19: * | CS19: * | CT19: * | CU19: * | CV19: * | CW19: * | CX19: * | CY19: * | CZ19: * | DA19: * | DB19: * | DC19: * | DD19: * | DE19: * | DF19: * | DG19: * | DH19: * | DI19: * | DJ19: =BB19 -> 15 | DK19: =BC16 -> جمعه | DL19: * | DM19: * | DN19: * | DO19: * | DP19: * | DQ19: * | DR19: * | DS19: * | DT19: =BB19 -> 15 | DU19: =BC16 -> جمعه | DV19: * | DW19: * | DX19: * | DY19: * | DZ19: * | EA19: * | EB19: * | EC19: * | ED19: * | EE19: * | EF19: * | EG19: * | EH19: * | EI19: * | EJ19: * | EK19: * | EL19: * | EM19: * | EN19: * | EO19: * | ET19: =BB19 -> 15 | EU19: =BC16 -> جمعه | EV19: =TEXT(BD19,"هاشمی-") -> * | EW19: =TEXT(BE19,"هاشمی-") -> * | EX19: =TEXT(BF19,"چراغی-") -> * | EY19: =TEXT(BG19,"چراغي-") -> * | EZ19: =TEXT(BH19,"ولدمحمدي-") -> * | FA19: =TEXT(BI19,"ولدمحمدي-") -> * | FB19: =TEXT(BJ19,"رضايي-") -> * | FC19: =TEXT(BK19,"رضايي-") -> * | FD19: =TEXT(BL19,"پاشا-") -> * | FE19: =TEXT(BM19,"پاشا-") -> * | FF19: =TEXT(BN19,"علوی-") -> * | FG19: =TEXT(BO19,"علوی-") -> * | FH19: =TEXT(BP19,"عبدالهی-") -> * | FI19: =TEXT(BQ19,"عبدالهی-") -> * | FJ19: =TEXT(BR19,"حسینخانی-") -> * | FK19: =TEXT(BS19,"حسین خانی-") -> * | FL19: =TEXT(BT19,"م ا له بخش-") -> * | FM19: =TEXT(BU19,"م اله بخش-") -> * | FN19: =TEXT(BV19,"کبريايي-") -> * | FO19: =TEXT(BW19,"کبريايي-") -> * | FP19: =TEXT(BX19,"ميرکريمي-") -> * | FQ19: =TEXT(BY19,"ميرکريمي-") -> * | FR19: =TEXT(BZ19,"امیدی-") -> * | FS19: =TEXT(CA19,"امیدي - ") -> * | FT19: =TEXT(CB19,"مجلسي-") -> * | FU19: =TEXT(CC19,"مجلسي-") -> * | FV19: =TEXT(CD19,"گرجی - ") -> * | FW19: =TEXT(CE19,"گرجي-") -> * | FX19: =TEXT(CF19,"رضاحسيني-") -> * | FY19: =TEXT(CG19,"رضاحسيني-") -> * | FZ19: =TEXT(CH19,"حاجعلیپور-") -> * | GA19: =TEXT(CI19," حاجعلیپور-") -> * | GB19: =TEXT(CJ19,"قویدل-") -> * | GC19: =TEXT(CK19," قویدل-") -> * | GD19: =TEXT(CL19,"محمدي-") -> * | GE19: =TEXT(CM19,"محمدي-") -> * | GF19: =TEXT(CN19,"داداشي-") -> * | GG19: =TEXT(CO19,"داداشي-") -> * | GH19: =TEXT(CP19,"کاظميني - ") -> * | GI19: =TEXT(CQ19,"کاظميني -") -> * | GJ19: =TEXT(CR19,"بازرگان-") -> * | GK19: =TEXT(CS19,"بازرگان-") -> * | GL19: =TEXT(CT19,"نويد-") -> * | GM19: =TEXT(CU19,"نويد-") -> * | GN19: =TEXT(CV19,"طالبي-") -> * | GO19: =TEXT(CW19,"طالبي-") -> * | GP19: =TEXT(CX19,"بهشتي-") -> * | GQ19: =TEXT(CY19,"بهشتي-") -> * | GR19: =TEXT(CZ19,"علوی-") -> * | GS19: =TEXT(DA19,"علوی-") -> * | GT19: =TEXT(DB19,"اميدي-") -> * | GU19: =TEXT(DC19,"اميدي-") -> * | GV19: =TEXT(DD19,"م اله بخش-") -> * | GW19: =TEXT(DE19,"م اله بخش-") -> * | GX19: =TEXT(DF19,"عبدالهي-") -> * | GY19: =TEXT(DG19,"عبدالهي-") -> * | GZ19: =TEXT(DH19,"تاجبخش-") -> * | HA19: =TEXT(DI19,"تاجبخش-") -> * | HB19: =BB19 -> 15 | HC19: =BC16 -> جمعه | HD19: =TEXT(DL19,"سلوکي - ") -> * | HE19: =TEXT(DM19,"سلوکي-") -> * | HF19: =TEXT(DN19,"برزنوني-") -> * | HG19: =TEXT(DO19," برزنونی-") -> * | HH19: =TEXT(DP19,"برزنونی-") -> * | HI19: =TEXT(DQ19,"برزنونی-") -> * | HJ19: =TEXT(DR19,"سالمی-") -> * | HK19: =TEXT(DS19,"سالمي-") -> * | HL19: =BB19 -> 15 | HM19: =BC16 -> جمعه | HN19: =TEXT(DV19,"سالمی-") -> * | HO19: =TEXT(DW19,"سالمی-") -> * | HP19: =TEXT(DX19,"عبدالهی-") -> * | HQ19: =TEXT(DY19,"عبدالهی-") -> * | HR19: =TEXT(DZ19,"میرکریمی-") -> * | HS19: =TEXT(EA19,"میرکریمی-") -> * | HT19: =TEXT(EB19,"علوی-") -> * | HU19: =TEXT(EC19,"علوی-") -> * | HV19: =TEXT(ED19,"سلوکی-") -> * | HW19: =TEXT(EE19,"سلوکي-") -> * | HX19: =TEXT(EF19,"حسين خاني-") -> * | HY19: =TEXT(EG19,"حسين خاني-") -> * | HZ19: =TEXT(EH19,"علوي-") -> * | IA19: =TEXT(EI19,"علوي-") -> * | IB19: =TEXT(EJ19,"زارع زاده-") -> * | IC19: =TEXT(EK19,"زارع زاده-") -> * | ID19: =TEXT(EL19,"هاشمي-") -> * | IE19: =TEXT(EM19,"هاشمي-") -> * | IF19: =TEXT(EN19,"سلوکي- ") -> * | IG19: =TEXT(EO19,"سلوکي - ") -> * | RD19: =BB19 -> 15 | RE19: =BC16 -> جمعه | RF19: صبح | RG19: =CONCATENATE(EV19,EX19,EZ19,FB19,FD19,FF19,FH19,FJ19,FL19,FN19,FP19,FR19,FT19,FV19,FX19,FZ19,GB19,GD19,GF19,GH19,GJ19,GL19,GN19,GP19,GR19,GT19,GV19,GX19,GZ19,HD19,HF19,HJ19) -> ******************************** | RI19: 15 | RJ19: =CONCATENATE(EW19,EY19,FA19,FC19,FE19,FG19,FI19,FK19,FM19,FO19,FQ19,FS19,FU19,FW19,FY19,GA19,GC19,GE19,GG19,GI19,GK19,GM19,GO19,GQ19,GS19,GU19,GW19,GY19,HA19,HE19,HG19,HK19) -> ******************************** | RL19: =BB19 -> 15 | RM19: =BC16 -> جمعه | RN19: شب | RO19: =CONCATENATE(HN19,HP19,HR19,HT19,HV19,HX19,HZ19,IB19,ID19,IF19,HH19) -> *********** | RQ19: بامداد | RR19: =CONCATENATE(HO19,HQ19,HS19,HU19,HW19,HY19,IA19,IC19,IE19,IG19,HI19) -> ***********
A20: سردبیر انگلیسی | B20: حاج محمدی | F20: انگليسي | G20: صبح | H20: پایش مکتوب | K20: پایش تصویری | N20: تصویر حضور1 /2 | S20: تصویری دور | AC20: خام انگلیسی | AD20: =RG43 -> *حا ج محمدی- ******************************************************* | AS20: مشاهده کارويژه هاي شيفت روز | BB20: 16 | BC20: سه شنبه | BD20: * | BE20: * | BF20: * | BG20: * | BH20: * | BI20: * | BJ20: * | BK20: * | BL20: * | BM20: * | BN20: * | BO20: * | BP20: * | BQ20: * | BR20: * | BS20: * | BT20: * | BU20: * | BV20: * | BW20: * | BX20: * | BY20: * | BZ20: * | CA20: * | CB20: * | CC20: * | CD20: * | CE20: * | CF20: * | CG20: * | CH20: * | CI20: * | CJ20: * | CK20: * | CL20: * | CM20: * | CN20: * | CO20: * | CP20: * | CQ20: * | CR20: * | CS20: * | CT20: * | CU20: * | CV20: * | CW20: * | CX20: * | CY20: * | CZ20: * | DA20: * | DB20: * | DC20: * | DD20: * | DE20: * | DF20: * | DG20: * | DH20: * | DI20: * | DJ20: =BB20 -> 16 | DK20: =BC17 -> شنبه | DL20: * | DM20: * | DN20: * | DO20: * | DP20: * | DQ20: * | DR20: * | DS20: * | DT20: =BB20 -> 16 | DU20: =BC17 -> شنبه | DV20: * | DW20: * | DX20: * | DY20: * | DZ20: * | EA20: * | EB20: * | EC20: * | ED20: * | EE20: * | EF20: * | EG20: * | EH20: * | EI20: * | EJ20: * | EK20: * | EL20: * | EM20: * | EN20: * | EO20: * | ET20: =BB20 -> 16 | EU20: =BC17 -> شنبه | EV20: =TEXT(BD20,"هاشمی-") -> * | EW20: =TEXT(BE20,"هاشمی-") -> * | EX20: =TEXT(BF20,"چراغی-") -> * | EY20: =TEXT(BG20,"چراغي-") -> * | EZ20: =TEXT(BH20,"ولدمحمدي-") -> * | FA20: =TEXT(BI20,"ولدمحمدي-") -> * | FB20: =TEXT(BJ20,"رضايي-") -> * | FC20: =TEXT(BK20,"رضايي-") -> * | FD20: =TEXT(BL20,"پاشا-") -> * | FE20: =TEXT(BM20,"پاشا-") -> * | FF20: =TEXT(BN20,"علوی-") -> * | FG20: =TEXT(BO20,"علوی-") -> * | FH20: =TEXT(BP20,"عبدالهی-") -> * | FI20: =TEXT(BQ20,"عبدالهی-") -> * | FJ20: =TEXT(BR20,"حسینخانی-") -> * | FK20: =TEXT(BS20,"حسین خانی-") -> * | FL20: =TEXT(BT20,"م ا له بخش-") -> * | FM20: =TEXT(BU20,"م اله بخش-") -> * | FN20: =TEXT(BV20,"کبريايي-") -> * | FO20: =TEXT(BW20,"کبريايي-") -> * | FP20: =TEXT(BX20,"ميرکريمي-") -> * | FQ20: =TEXT(BY20,"ميرکريمي-") -> * | FR20: =TEXT(BZ20,"امیدی-") -> * | FS20: =TEXT(CA20,"امیدي - ") -> * | FT20: =TEXT(CB20,"مجلسي-") -> * | FU20: =TEXT(CC20,"مجلسي-") -> * | FV20: =TEXT(CD20,"گرجی - ") -> * | FW20: =TEXT(CE20,"گرجي-") -> * | FX20: =TEXT(CF20,"رضاحسيني-") -> * | FY20: =TEXT(CG20,"رضاحسيني-") -> * | FZ20: =TEXT(CH20,"حاجعلیپور-") -> * | GA20: =TEXT(CI20," حاجعلیپور-") -> * | GB20: =TEXT(CJ20,"قویدل-") -> * | GC20: =TEXT(CK20," قویدل-") -> * | GD20: =TEXT(CL20,"محمدي-") -> * | GE20: =TEXT(CM20,"محمدي-") -> * | GF20: =TEXT(CN20,"داداشي-") -> * | GG20: =TEXT(CO20,"داداشي-") -> * | GH20: =TEXT(CP20,"کاظميني - ") -> * | GI20: =TEXT(CQ20,"کاظميني -") -> * | GJ20: =TEXT(CR20,"بازرگان-") -> * | GK20: =TEXT(CS20,"بازرگان-") -> * | GL20: =TEXT(CT20,"نويد-") -> * | GM20: =TEXT(CU20,"نويد-") -> * | GN20: =TEXT(CV20,"طالبي-") -> * | GO20: =TEXT(CW20,"طالبي-") -> * | GP20: =TEXT(CX20,"بهشتي-") -> * | GQ20: =TEXT(CY20,"بهشتي-") -> * | GR20: =TEXT(CZ20,"علوی-") -> * | GS20: =TEXT(DA20,"علوی-") -> * | GT20: =TEXT(DB20,"اميدي-") -> * | GU20: =TEXT(DC20,"اميدي-") -> * | GV20: =TEXT(DD20,"م اله بخش-") -> * | GW20: =TEXT(DE20,"م اله بخش-") -> * | GX20: =TEXT(DF20,"عبدالهي-") -> * | GY20: =TEXT(DG20,"عبدالهي-") -> * | GZ20: =TEXT(DH20,"تاجبخش-") -> * | HA20: =TEXT(DI20,"تاجبخش-") -> * | HB20: =BB20 -> 16 | HC20: =BC17 -> شنبه | HD20: =TEXT(DL20,"سلوکي - ") -> * | HE20: =TEXT(DM20,"سلوکي-") -> * | HF20: =TEXT(DN20,"برزنوني-") -> * | HG20: =TEXT(DO20," برزنونی-") -> * | HH20: =TEXT(DP20,"برزنونی-") -> * | HI20: =TEXT(DQ20,"برزنونی-") -> * | HJ20: =TEXT(DR20,"سالمی-") -> * | HK20: =TEXT(DS20,"سالمي-") -> * | HL20: =BB20 -> 16 | HM20: =BC17 -> شنبه | HN20: =TEXT(DV20,"سالمی-") -> * | HO20: =TEXT(DW20,"سالمی-") -> * | HP20: =TEXT(DX20,"عبدالهی-") -> * | HQ20: =TEXT(DY20,"عبدالهی-") -> * | HR20: =TEXT(DZ20,"میرکریمی-") -> * | HS20: =TEXT(EA20,"میرکریمی-") -> * | HT20: =TEXT(EB20,"علوی-") -> * | HU20: =TEXT(EC20,"علوی-") -> * | HV20: =TEXT(ED20,"سلوکی-") -> * | HW20: =TEXT(EE20,"سلوکي-") -> * | HX20: =TEXT(EF20,"حسين خاني-") -> * | HY20: =TEXT(EG20,"حسين خاني-") -> * | HZ20: =TEXT(EH20,"علوي-") -> * | IA20: =TEXT(EI20,"علوي-") -> * | IB20: =TEXT(EJ20,"زارع زاده-") -> * | IC20: =TEXT(EK20,"زارع زاده-") -> * | ID20: =TEXT(EL20,"هاشمي-") -> * | IE20: =TEXT(EM20,"هاشمي-") -> * | IF20: =TEXT(EN20,"سلوکي- ") -> * | IG20: =TEXT(EO20,"سلوکي - ") -> * | RD20: =BB20 -> 16 | RE20: =BC17 -> شنبه | RF20: صبح | RG20: =CONCATENATE(EV20,EX20,EZ20,FB20,FD20,FF20,FH20,FJ20,FL20,FN20,FP20,FR20,FT20,FV20,FX20,FZ20,GB20,GD20,GF20,GH20,GJ20,GL20,GN20,GP20,GR20,GT20,GV20,GX20,GZ20,HD20,HF20,HJ20) -> ******************************** | RI20: 16 | RJ20: =CONCATENATE(EW20,EY20,FA20,FC20,FE20,FG20,FI20,FK20,FM20,FO20,FQ20,FS20,FU20,FW20,FY20,GA20,GC20,GE20,GG20,GI20,GK20,GM20,GO20,GQ20,GS20,GU20,GW20,GY20,HA20,HE20,HG20,HK20) -> ******************************** | RL20: =BB20 -> 16 | RM20: =BC17 -> شنبه | RN20: شب | RO20: =CONCATENATE(HN20,HP20,HR20,HT20,HV20,HX20,HZ20,IB20,ID20,IF20,HH20) -> *********** | RQ20: بامداد | RR20: =CONCATENATE(HO20,HQ20,HS20,HU20,HW20,HY20,IA20,IC20,IE20,IG20,HI20) -> ***********
A21: سردبیر عربی | B21: پاشا | F21: عربي | G21: صبح | H21: پایش 1 / نشریات... | N21: تصویرحضور1/2/3/4 | S21: تصویری دور | AC21: خام عربی | AD21: =RG7 -> ******************************** | AS21: ککارویژه انگلیسی : تصویر انگلیسی1:BBC-FR24- FOX- PRESS تصویر انگليسي2: CNN-CCTV-NHK-الجزيره انگليسي تصویر انگليسي3: REUTERS-AP – راشا – بلومبرگ- يورو نيوز تصویر انگليسي4: شات شبکه هاي بدون لوگو پايش مکتوب 1: 1- انديشکده ها 2- خبرهاي ايران 3- سايت رسمي کشورها 4-توئیت شخصیتهای مهم جهان پایش مکتوب 2 :1- تصوير گوناگون از تويتر و يوتيوپ و .. 3- نشريات انگليسي و آمريکايي غير ايران پایش تصاویر : 1 میز آمریکا- 2میز اروپا –3 میز آسیا کارویژه های عربی : تصویر عربي1 : عالم-مسيره-اخباريه سوريه-لولو-منار-قدس تصویر عربي2: ميادين-عربيه-جزيره و جزيره مباشر- حدث تصویر عربي3: روسيااليوم- اخباريه سعودي- عراقيه- تصویر عربي4:اسکاي عربي-BBC-فلسطين اليوم کارويژه پايش یک عربي: 1- پایگاه ها 2-روزنامه ها 3- اندیشکده ها 4- خبرگزاریها کارویژه پایش دوعربی: منابع تصویری ( پایگاه شبکه ها و یوتیوپ ) فضای مجازی( توئیتر و فیس بوک و اینستا گرام و ... ) کارويژه هاي فرانسه الف - کارویژه یک -شبکه ها تصويري (فرانس 24 – تي وي پنج- ب اف ام تي وي ) -شبکه هاي راديويي ( راديو بين المللي فرانسه- يوروپ 1- ) انديشکده ها و تصويري توئيتر- ب- کارويژه دو: - خبرگزاريها - اينترنت - انديشکده ها - توئيت ها | BB21: 17 | BC21: چهارشنبه | BD21: * | BE21: * | BF21: * | BG21: * | BH21: * | BI21: * | BJ21: * | BK21: * | BL21: * | BM21: * | BN21: * | BO21: * | BP21: * | BQ21: * | BR21: * | BS21: * | BT21: * | BU21: * | BV21: * | BW21: * | BX21: * | BY21: * | BZ21: * | CA21: * | CB21: * | CC21: * | CD21: * | CE21: * | CF21: * | CG21: * | CH21: * | CI21: * | CJ21: * | CK21: * | CL21: * | CM21: * | CN21: * | CO21: * | CP21: * | CQ21: * | CR21: * | CS21: * | CT21: * | CU21: * | CV21: * | CW21: * | CX21: * | CY21: * | CZ21: * | DA21: * | DB21: * | DC21: * | DD21: * | DE21: * | DF21: * | DG21: * | DH21: * | DI21: * | DJ21: =BB21 -> 17 | DK21: =BC18 -> یکشنبه | DL21: * | DM21: * | DN21: * | DO21: * | DP21: * | DQ21: * | DR21: * | DS21: * | DT21: =BB21 -> 17 | DU21: =BC18 -> یکشنبه | DV21: * | DW21: * | DX21: * | DY21: * | DZ21: * | EA21: * | EB21: * | EC21: * | ED21: * | EE21: * | EF21: * | EG21: * | EH21: * | EI21: * | EJ21: * | EK21: * | EL21: * | EM21: * | EN21: * | EO21: * | ET21: =BB21 -> 17 | EU21: =BC18 -> یکشنبه | EV21: =TEXT(BD21,"هاشمی-") -> * | EW21: =TEXT(BE21,"هاشمی-") -> * | EX21: =TEXT(BF21,"چراغی-") -> * | EY21: =TEXT(BG21,"چراغي-") -> * | EZ21: =TEXT(BH21,"ولدمحمدي-") -> * | FA21: =TEXT(BI21,"ولدمحمدي-") -> * | FB21: =TEXT(BJ21,"رضايي-") -> * | FC21: =TEXT(BK21,"رضايي-") -> * | FD21: =TEXT(BL21,"پاشا-") -> * | FE21: =TEXT(BM21,"پاشا-") -> * | FF21: =TEXT(BN21,"علوی-") -> * | FG21: =TEXT(BO21,"علوی-") -> * | FH21: =TEXT(BP21,"عبدالهی-") -> * | FI21: =TEXT(BQ21,"عبدالهی-") -> * | FJ21: =TEXT(BR21,"حسینخانی-") -> * | FK21: =TEXT(BS21,"حسین خانی-") -> * | FL21: =TEXT(BT21,"م ا له بخش-") -> * | FM21: =TEXT(BU21,"م اله بخش-") -> * | FN21: =TEXT(BV21,"کبريايي-") -> * | FO21: =TEXT(BW21,"کبريايي-") -> * | FP21: =TEXT(BX21,"ميرکريمي-") -> * | FQ21: =TEXT(BY21,"ميرکريمي-") -> * | FR21: =TEXT(BZ21,"امیدی-") -> * | FS21: =TEXT(CA21,"امیدي - ") -> * | FT21: =TEXT(CB21,"مجلسي-") -> * | FU21: =TEXT(CC21,"مجلسي-") -> * | FV21: =TEXT(CD21,"گرجی - ") -> * | FW21: =TEXT(CE21,"گرجي-") -> * | FX21: =TEXT(CF21,"رضاحسيني-") -> * | FY21: =TEXT(CG21,"رضاحسيني-") -> * | FZ21: =TEXT(CH21,"حاجعلیپور-") -> * | GA21: =TEXT(CI21," حاجعلیپور-") -> * | GB21: =TEXT(CJ21,"قویدل-") -> * | GC21: =TEXT(CK21," قویدل-") -> * | GD21: =TEXT(CL21,"محمدي-") -> * | GE21: =TEXT(CM21,"محمدي-") -> * | GF21: =TEXT(CN21,"داداشي-") -> * | GG21: =TEXT(CO21,"داداشي-") -> * | GH21: =TEXT(CP21,"کاظميني - ") -> * | GI21: =TEXT(CQ21,"کاظميني -") -> * | GJ21: =TEXT(CR21,"بازرگان-") -> * | GK21: =TEXT(CS21,"بازرگان-") -> * | GL21: =TEXT(CT21,"نويد-") -> * | GM21: =TEXT(CU21,"نويد-") -> * | GN21: =TEXT(CV21,"طالبي-") -> * | GO21: =TEXT(CW21,"طالبي-") -> * | GP21: =TEXT(CX21,"بهشتي-") -> * | GQ21: =TEXT(CY21,"بهشتي-") -> * | GR21: =TEXT(CZ21,"علوی-") -> * | GS21: =TEXT(DA21,"علوی-") -> * | GT21: =TEXT(DB21,"اميدي-") -> * | GU21: =TEXT(DC21,"اميدي-") -> * | GV21: =TEXT(DD21,"م اله بخش-") -> * | GW21: =TEXT(DE21,"م اله بخش-") -> * | GX21: =TEXT(DF21,"عبدالهي-") -> * | GY21: =TEXT(DG21,"عبدالهي-") -> * | GZ21: =TEXT(DH21,"تاجبخش-") -> * | HA21: =TEXT(DI21,"تاجبخش-") -> * | HB21: =BB21 -> 17 | HC21: =BC18 -> یکشنبه | HD21: =TEXT(DL21,"سلوکي - ") -> * | HE21: =TEXT(DM21,"سلوکي-") -> * | HF21: =TEXT(DN21,"برزنوني-") -> * | HG21: =TEXT(DO21," برزنونی-") -> * | HH21: =TEXT(DP21,"برزنونی-") -> * | HI21: =TEXT(DQ21,"برزنونی-") -> * | HJ21: =TEXT(DR21,"سالمی-") -> * | HK21: =TEXT(DS21,"سالمي-") -> * | HL21: =BB21 -> 17 | HM21: =BC18 -> یکشنبه | HN21: =TEXT(DV21,"سالمی-") -> * | HO21: =TEXT(DW21,"سالمی-") -> * | HP21: =TEXT(DX21,"عبدالهی-") -> * | HQ21: =TEXT(DY21,"عبدالهی-") -> * | HR21: =TEXT(DZ21,"میرکریمی-") -> * | HS21: =TEXT(EA21,"میرکریمی-") -> * | HT21: =TEXT(EB21,"علوی-") -> * | HU21: =TEXT(EC21,"علوی-") -> * | HV21: =TEXT(ED21,"سلوکی-") -> * | HW21: =TEXT(EE21,"سلوکي-") -> * | HX21: =TEXT(EF21,"حسين خاني-") -> * | HY21: =TEXT(EG21,"حسين خاني-") -> * | HZ21: =TEXT(EH21,"علوي-") -> * | IA21: =TEXT(EI21,"علوي-") -> * | IB21: =TEXT(EJ21,"زارع زاده-") -> * | IC21: =TEXT(EK21,"زارع زاده-") -> * | ID21: =TEXT(EL21,"هاشمي-") -> * | IE21: =TEXT(EM21,"هاشمي-") -> * | IF21: =TEXT(EN21,"سلوکي- ") -> * | IG21: =TEXT(EO21,"سلوکي - ") -> * | RD21: =BB21 -> 17 | RE21: =BC18 -> یکشنبه | RF21: صبح | RG21: =CONCATENATE(EV21,EX21,EZ21,FB21,FD21,FF21,FH21,FJ21,FL21,FN21,FP21,FR21,FT21,FV21,FX21,FZ21,GB21,GD21,GF21,GH21,GJ21,GL21,GN21,GP21,GR21,GT21,GV21,GX21,GZ21,HD21,HF21,HJ21) -> ******************************** | RI21: 17 | RJ21: =CONCATENATE(EW21,EY21,FA21,FC21,FE21,FG21,FI21,FK21,FM21,FO21,FQ21,FS21,FU21,FW21,FY21,GA21,GC21,GE21,GG21,GI21,GK21,GM21,GO21,GQ21,GS21,GU21,GW21,GY21,HA21,HE21,HG21,HK21) -> ******************************** | RL21: =BB21 -> 17 | RM21: =BC18 -> یکشنبه | RN21: شب | RO21: =CONCATENATE(HN21,HP21,HR21,HT21,HV21,HX21,HZ21,IB21,ID21,IF21,HH21) -> *********** | RQ21: بامداد | RR21: =CONCATENATE(HO21,HQ21,HS21,HU21,HW21,HY21,IA21,IC21,IE21,IG21,HI21) -> ***********
A22: مترجم همزمان و سردبیر فرانسه | B22: حاج محمدی | F22: فرانسه و.. | G22: صبح | H22: شبکه های تصویری و نشریات فرانسه | N22: تصویری حضوری | P22: تصویری دور | V22: زبانهای دیگر | Y22: تدوین و دبیران | Z22: ابراهیمی | AC22: خام فرانسه | AD22: =RG79 -> ***************** | AM22: تدوین و دوبیران | AN22: =RG115 -> ******************* | BB22: 18 | BC22: پنجشنبه | BD22: * | BE22: * | BF22: * | BG22: * | BH22: * | BI22: * | BJ22: * | BK22: * | BL22: * | BM22: * | BN22: * | BO22: * | BP22: * | BQ22: * | BR22: * | BS22: * | BT22: * | BU22: * | BV22: * | BW22: * | BX22: * | BY22: * | BZ22: * | CA22: * | CB22: * | CC22: * | CD22: * | CE22: * | CF22: * | CG22: * | CH22: * | CI22: * | CJ22: * | CK22: * | CL22: * | CM22: * | CN22: * | CO22: * | CP22: * | CQ22: * | CR22: * | CS22: * | CT22: * | CU22: * | CV22: * | CW22: * | CX22: * | CY22: * | CZ22: * | DA22: * | DB22: * | DC22: * | DD22: * | DE22: * | DF22: * | DG22: * | DH22: * | DI22: * | DJ22: =BB22 -> 18 | DK22: =BC19 -> دوشنبه | DL22: * | DM22: * | DN22: * | DO22: * | DP22: * | DQ22: * | DR22: * | DS22: * | DT22: =BB22 -> 18 | DU22: =BC19 -> دوشنبه | DV22: * | DW22: * | DX22: * | DY22: * | DZ22: * | EA22: * | EB22: * | EC22: * | ED22: * | EE22: * | EF22: * | EG22: * | EH22: * | EI22: * | EJ22: * | EK22: * | EL22: * | EM22: * | EN22: * | EO22: * | ET22: =BB22 -> 18 | EU22: =BC19 -> دوشنبه | EV22: =TEXT(BD22,"هاشمی-") -> * | EW22: =TEXT(BE22,"هاشمی-") -> * | EX22: =TEXT(BF22,"چراغی-") -> * | EY22: =TEXT(BG22,"چراغي-") -> * | EZ22: =TEXT(BH22,"ولدمحمدي-") -> * | FA22: =TEXT(BI22,"ولدمحمدي-") -> * | FB22: =TEXT(BJ22,"رضايي-") -> * | FC22: =TEXT(BK22,"رضايي-") -> * | FD22: =TEXT(BL22,"پاشا-") -> * | FE22: =TEXT(BM22,"پاشا-") -> * | FF22: =TEXT(BN22,"علوی-") -> * | FG22: =TEXT(BO22,"علوی-") -> * | FH22: =TEXT(BP22,"عبدالهی-") -> * | FI22: =TEXT(BQ22,"عبدالهی-") -> * | FJ22: =TEXT(BR22,"حسینخانی-") -> * | FK22: =TEXT(BS22,"حسین خانی-") -> * | FL22: =TEXT(BT22,"م ا له بخش-") -> * | FM22: =TEXT(BU22,"م اله بخش-") -> * | FN22: =TEXT(BV22,"کبريايي-") -> * | FO22: =TEXT(BW22,"کبريايي-") -> * | FP22: =TEXT(BX22,"ميرکريمي-") -> * | FQ22: =TEXT(BY22,"ميرکريمي-") -> * | FR22: =TEXT(BZ22,"امیدی-") -> * | FS22: =TEXT(CA22,"امیدي - ") -> * | FT22: =TEXT(CB22,"مجلسي-") -> * | FU22: =TEXT(CC22,"مجلسي-") -> * | FV22: =TEXT(CD22,"گرجی - ") -> * | FW22: =TEXT(CE22,"گرجي-") -> * | FX22: =TEXT(CF22,"رضاحسيني-") -> * | FY22: =TEXT(CG22,"رضاحسيني-") -> * | FZ22: =TEXT(CH22,"حاجعلیپور-") -> * | GA22: =TEXT(CI22," حاجعلیپور-") -> * | GB22: =TEXT(CJ22,"قویدل-") -> * | GC22: =TEXT(CK22," قویدل-") -> * | GD22: =TEXT(CL22,"محمدي-") -> * | GE22: =TEXT(CM22,"محمدي-") -> * | GF22: =TEXT(CN22,"داداشي-") -> * | GG22: =TEXT(CO22,"داداشي-") -> * | GH22: =TEXT(CP22,"کاظميني - ") -> * | GI22: =TEXT(CQ22,"کاظميني -") -> * | GJ22: =TEXT(CR22,"بازرگان-") -> * | GK22: =TEXT(CS22,"بازرگان-") -> * | GL22: =TEXT(CT22,"نويد-") -> * | GM22: =TEXT(CU22,"نويد-") -> * | GN22: =TEXT(CV22,"طالبي-") -> * | GO22: =TEXT(CW22,"طالبي-") -> * | GP22: =TEXT(CX22,"بهشتي-") -> * | GQ22: =TEXT(CY22,"بهشتي-") -> * | GR22: =TEXT(CZ22,"علوی-") -> * | GS22: =TEXT(DA22,"علوی-") -> * | GT22: =TEXT(DB22,"اميدي-") -> * | GU22: =TEXT(DC22,"اميدي-") -> * | GV22: =TEXT(DD22,"م اله بخش-") -> * | GW22: =TEXT(DE22,"م اله بخش-") -> * | GX22: =TEXT(DF22,"عبدالهي-") -> * | GY22: =TEXT(DG22,"عبدالهي-") -> * | GZ22: =TEXT(DH22,"تاجبخش-") -> * | HA22: =TEXT(DI22,"تاجبخش-") -> * | HB22: =BB22 -> 18 | HC22: =BC19 -> دوشنبه | HD22: =TEXT(DL22,"سلوکي - ") -> * | HE22: =TEXT(DM22,"سلوکي-") -> * | HF22: =TEXT(DN22,"برزنوني-") -> * | HG22: =TEXT(DO22," برزنونی-") -> * | HH22: =TEXT(DP22,"برزنونی-") -> * | HI22: =TEXT(DQ22,"برزنونی-") -> * | HJ22: =TEXT(DR22,"سالمی-") -> * | HK22: =TEXT(DS22,"سالمي-") -> * | HL22: =BB22 -> 18 | HM22: =BC19 -> دوشنبه | HN22: =TEXT(DV22,"سالمی-") -> * | HO22: =TEXT(DW22,"سالمی-") -> * | HP22: =TEXT(DX22,"عبدالهی-") -> * | HQ22: =TEXT(DY22,"عبدالهی-") -> * | HR22: =TEXT(DZ22,"میرکریمی-") -> * | HS22: =TEXT(EA22,"میرکریمی-") -> * | HT22: =TEXT(EB22,"علوی-") -> * | HU22: =TEXT(EC22,"علوی-") -> * | HV22: =TEXT(ED22,"سلوکی-") -> * | HW22: =TEXT(EE22,"سلوکي-") -> * | HX22: =TEXT(EF22,"حسين خاني-") -> * | HY22: =TEXT(EG22,"حسين خاني-") -> * | HZ22: =TEXT(EH22,"علوي-") -> * | IA22: =TEXT(EI22,"علوي-") -> * | IB22: =TEXT(EJ22,"زارع زاده-") -> * | IC22: =TEXT(EK22,"زارع زاده-") -> * | ID22: =TEXT(EL22,"هاشمي-") -> * | IE22: =TEXT(EM22,"هاشمي-") -> * | IF22: =TEXT(EN22,"سلوکي- ") -> * | IG22: =TEXT(EO22,"سلوکي - ") -> * | RD22: =BB22 -> 18 | RE22: =BC19 -> دوشنبه | RF22: صبح | RG22: =CONCATENATE(EV22,EX22,EZ22,FB22,FD22,FF22,FH22,FJ22,FL22,FN22,FP22,FR22,FT22,FV22,FX22,FZ22,GB22,GD22,GF22,GH22,GJ22,GL22,GN22,GP22,GR22,GT22,GV22,GX22,GZ22,HD22,HF22,HJ22) -> ******************************** | RI22: 18 | RJ22: =CONCATENATE(EW22,EY22,FA22,FC22,FE22,FG22,FI22,FK22,FM22,FO22,FQ22,FS22,FU22,FW22,FY22,GA22,GC22,GE22,GG22,GI22,GK22,GM22,GO22,GQ22,GS22,GU22,GW22,GY22,HA22,HE22,HG22,HK22) -> ******************************** | RL22: =BB22 -> 18 | RM22: =BC19 -> دوشنبه | RN22: شب | RO22: =CONCATENATE(HN22,HP22,HR22,HT22,HV22,HX22,HZ22,IB22,ID22,IF22,HH22) -> *********** | RQ22: بامداد | RR22: =CONCATENATE(HO22,HQ22,HS22,HU22,HW22,HY22,IA22,IC22,IE22,IG22,HI22) -> ***********
A23: سردبیر انگلیسی | B23: علیمیرزایی | F23: انگليسي | G23: عصر | H23: پایش مکتوب انگلیسی | K23: پایش تصویری | N23: تصویر حضور1 /2 | S23: تصویری دور | AC23: خام انگلیسی | AD23: =RJ43 -> ********************************************************* | BB23: 19 | BC23: جمعه | BD23: * | BE23: * | BF23: * | BG23: * | BH23: * | BI23: * | BJ23: * | BK23: * | BL23: * | BM23: * | BN23: * | BO23: * | BP23: * | BQ23: * | BR23: * | BS23: * | BT23: * | BU23: * | BV23: * | BW23: * | BX23: * | BY23: * | BZ23: * | CA23: * | CB23: * | CC23: * | CD23: * | CE23: * | CF23: * | CG23: * | CH23: * | CI23: * | CJ23: * | CK23: * | CL23: * | CM23: * | CN23: * | CO23: * | CP23: * | CQ23: * | CR23: * | CS23: * | CT23: * | CU23: * | CV23: * | CW23: * | CX23: * | CY23: * | CZ23: * | DA23: * | DB23: * | DC23: * | DD23: * | DE23: * | DF23: * | DG23: * | DH23: * | DI23: * | DJ23: =BB23 -> 19 | DK23: =BC20 -> سه شنبه | DL23: * | DM23: * | DN23: * | DO23: * | DP23: * | DQ23: * | DR23: * | DS23: * | DT23: =BB23 -> 19 | DU23: =BC20 -> سه شنبه | DV23: * | DW23: * | DX23: * | DY23: * | DZ23: * | EA23: * | EB23: * | EC23: * | ED23: * | EE23: * | EF23: * | EG23: * | EH23: * | EI23: * | EJ23: * | EK23: * | EL23: * | EM23: * | EN23: * | EO23: * | ET23: =BB23 -> 19 | EU23: =BC20 -> سه شنبه | EV23: =TEXT(BD23,"هاشمی-") -> * | EW23: =TEXT(BE23,"هاشمی-") -> * | EX23: =TEXT(BF23,"چراغی-") -> * | EY23: =TEXT(BG23,"چراغي-") -> * | EZ23: =TEXT(BH23,"ولدمحمدي-") -> * | FA23: =TEXT(BI23,"ولدمحمدي-") -> * | FB23: =TEXT(BJ23,"رضايي-") -> * | FC23: =TEXT(BK23,"رضايي-") -> * | FD23: =TEXT(BL23,"پاشا-") -> * | FE23: =TEXT(BM23,"پاشا-") -> * | FF23: =TEXT(BN23,"علوی-") -> * | FG23: =TEXT(BO23,"علوی-") -> * | FH23: =TEXT(BP23,"عبدالهی-") -> * | FI23: =TEXT(BQ23,"عبدالهی-") -> * | FJ23: =TEXT(BR23,"حسینخانی-") -> * | FK23: =TEXT(BS23,"حسین خانی-") -> * | FL23: =TEXT(BT23,"م ا له بخش-") -> * | FM23: =TEXT(BU23,"م اله بخش-") -> * | FN23: =TEXT(BV23,"کبريايي-") -> * | FO23: =TEXT(BW23,"کبريايي-") -> * | FP23: =TEXT(BX23,"ميرکريمي-") -> * | FQ23: =TEXT(BY23,"ميرکريمي-") -> * | FR23: =TEXT(BZ23,"امیدی-") -> * | FS23: =TEXT(CA23,"امیدي - ") -> * | FT23: =TEXT(CB23,"مجلسي-") -> * | FU23: =TEXT(CC23,"مجلسي-") -> * | FV23: =TEXT(CD23,"گرجی - ") -> * | FW23: =TEXT(CE23,"گرجي-") -> * | FX23: =TEXT(CF23,"رضاحسيني-") -> * | FY23: =TEXT(CG23,"رضاحسيني-") -> * | FZ23: =TEXT(CH23,"حاجعلیپور-") -> * | GA23: =TEXT(CI23," حاجعلیپور-") -> * | GB23: =TEXT(CJ23,"قویدل-") -> * | GC23: =TEXT(CK23," قویدل-") -> * | GD23: =TEXT(CL23,"محمدي-") -> * | GE23: =TEXT(CM23,"محمدي-") -> * | GF23: =TEXT(CN23,"داداشي-") -> * | GG23: =TEXT(CO23,"داداشي-") -> * | GH23: =TEXT(CP23,"کاظميني - ") -> * | GI23: =TEXT(CQ23,"کاظميني -") -> * | GJ23: =TEXT(CR23,"بازرگان-") -> * | GK23: =TEXT(CS23,"بازرگان-") -> * | GL23: =TEXT(CT23,"نويد-") -> * | GM23: =TEXT(CU23,"نويد-") -> * | GN23: =TEXT(CV23,"طالبي-") -> * | GO23: =TEXT(CW23,"طالبي-") -> * | GP23: =TEXT(CX23,"بهشتي-") -> * | GQ23: =TEXT(CY23,"بهشتي-") -> * | GR23: =TEXT(CZ23,"علوی-") -> * | GS23: =TEXT(DA23,"علوی-") -> * | GT23: =TEXT(DB23,"اميدي-") -> * | GU23: =TEXT(DC23,"اميدي-") -> * | GV23: =TEXT(DD23,"م اله بخش-") -> * | GW23: =TEXT(DE23,"م اله بخش-") -> * | GX23: =TEXT(DF23,"عبدالهي-") -> * | GY23: =TEXT(DG23,"عبدالهي-") -> * | GZ23: =TEXT(DH23,"تاجبخش-") -> * | HA23: =TEXT(DI23,"تاجبخش-") -> * | HB23: =BB23 -> 19 | HC23: =BC20 -> سه شنبه | HD23: =TEXT(DL23,"سلوکي - ") -> * | HE23: =TEXT(DM23,"سلوکي-") -> * | HF23: =TEXT(DN23,"برزنوني-") -> * | HG23: =TEXT(DO23," برزنونی-") -> * | HH23: =TEXT(DP23,"برزنونی-") -> * | HI23: =TEXT(DQ23,"برزنونی-") -> * | HJ23: =TEXT(DR23,"سالمی-") -> * | HK23: =TEXT(DS23,"سالمي-") -> * | HL23: =BB23 -> 19 | HM23: =BC20 -> سه شنبه | HN23: =TEXT(DV23,"سالمی-") -> * | HO23: =TEXT(DW23,"سالمی-") -> * | HP23: =TEXT(DX23,"عبدالهی-") -> * | HQ23: =TEXT(DY23,"عبدالهی-") -> * | HR23: =TEXT(DZ23,"میرکریمی-") -> * | HS23: =TEXT(EA23,"میرکریمی-") -> * | HT23: =TEXT(EB23,"علوی-") -> * | HU23: =TEXT(EC23,"علوی-") -> * | HV23: =TEXT(ED23,"سلوکی-") -> * | HW23: =TEXT(EE23,"سلوکي-") -> * | HX23: =TEXT(EF23,"حسين خاني-") -> * | HY23: =TEXT(EG23,"حسين خاني-") -> * | HZ23: =TEXT(EH23,"علوي-") -> * | IA23: =TEXT(EI23,"علوي-") -> * | IB23: =TEXT(EJ23,"زارع زاده-") -> * | IC23: =TEXT(EK23,"زارع زاده-") -> * | ID23: =TEXT(EL23,"هاشمي-") -> * | IE23: =TEXT(EM23,"هاشمي-") -> * | IF23: =TEXT(EN23,"سلوکي- ") -> * | IG23: =TEXT(EO23,"سلوکي - ") -> * | RD23: =BB23 -> 19 | RE23: =BC20 -> سه شنبه | RF23: صبح | RG23: =CONCATENATE(EV23,EX23,EZ23,FB23,FD23,FF23,FH23,FJ23,FL23,FN23,FP23,FR23,FT23,FV23,FX23,FZ23,GB23,GD23,GF23,GH23,GJ23,GL23,GN23,GP23,GR23,GT23,GV23,GX23,GZ23,HD23,HF23,HJ23) -> ******************************** | RI23: 19 | RJ23: =CONCATENATE(EW23,EY23,FA23,FC23,FE23,FG23,FI23,FK23,FM23,FO23,FQ23,FS23,FU23,FW23,FY23,GA23,GC23,GE23,GG23,GI23,GK23,GM23,GO23,GQ23,GS23,GU23,GW23,GY23,HA23,HE23,HG23,HK23) -> ******************************** | RL23: =BB23 -> 19 | RM23: =BC20 -> سه شنبه | RN23: شب | RO23: =CONCATENATE(HN23,HP23,HR23,HT23,HV23,HX23,HZ23,IB23,ID23,IF23,HH23) -> *********** | RQ23: بامداد | RR23: =CONCATENATE(HO23,HQ23,HS23,HU23,HW23,HY23,IA23,IC23,IE23,IG23,HI23) -> ***********
A24: سردبیر عربی | B24: پاشا | F24: عربي | G24: عصر | H24: پایش 1 / نشریات... | N24: تصویرحضور1/2/3/4 | S24: تصویری دور | AC24: خام عربی | AD24: =RJ7 -> ******************************** | BB24: 20 | BC24: شنبه | BD24: * | BE24: * | BF24: * | BG24: * | BH24: * | BI24: * | BJ24: * | BK24: * | BL24: * | BM24: * | BN24: * | BO24: * | BP24: * | BQ24: * | BR24: * | BS24: * | BT24: * | BU24: * | BV24: * | BW24: * | BX24: * | BY24: * | BZ24: * | CA24: * | CB24: * | CC24: * | CD24: * | CE24: * | CF24: * | CG24: * | CH24: * | CI24: * | CJ24: * | CK24: * | CL24: * | CM24: * | CN24: * | CO24: * | CP24: * | CQ24: * | CR24: * | CS24: * | CT24: * | CU24: * | CV24: * | CW24: * | CX24: * | CY24: * | CZ24: * | DA24: * | DB24: * | DC24: * | DD24: * | DE24: * | DF24: * | DG24: * | DH24: * | DI24: * | DJ24: =BB24 -> 20 | DK24: =BC21 -> چهارشنبه | DL24: * | DM24: * | DN24: * | DO24: * | DP24: * | DQ24: * | DR24: * | DS24: * | DT24: =BB24 -> 20 | DU24: =BC21 -> چهارشنبه | DV24: * | DW24: * | DX24: * | DY24: * | DZ24: * | EA24: * | EB24: * | EC24: * | ED24: * | EE24: * | EF24: * | EG24: * | EH24: * | EI24: * | EJ24: * | EK24: * | EL24: * | EM24: * | EN24: * | EO24: * | ET24: =BB24 -> 20 | EU24: =BC21 -> چهارشنبه | EV24: =TEXT(BD24,"هاشمی-") -> * | EW24: =TEXT(BE24,"هاشمی-") -> * | EX24: =TEXT(BF24,"چراغی-") -> * | EY24: =TEXT(BG24,"چراغي-") -> * | EZ24: =TEXT(BH24,"ولدمحمدي-") -> * | FA24: =TEXT(BI24,"ولدمحمدي-") -> * | FB24: =TEXT(BJ24,"رضايي-") -> * | FC24: =TEXT(BK24,"رضايي-") -> * | FD24: =TEXT(BL24,"پاشا-") -> * | FE24: =TEXT(BM24,"پاشا-") -> * | FF24: =TEXT(BN24,"علوی-") -> * | FG24: =TEXT(BO24,"علوی-") -> * | FH24: =TEXT(BP24,"عبدالهی-") -> * | FI24: =TEXT(BQ24,"عبدالهی-") -> * | FJ24: =TEXT(BR24,"حسینخانی-") -> * | FK24: =TEXT(BS24,"حسین خانی-") -> * | FL24: =TEXT(BT24,"م ا له بخش-") -> * | FM24: =TEXT(BU24,"م اله بخش-") -> * | FN24: =TEXT(BV24,"کبريايي-") -> * | FO24: =TEXT(BW24,"کبريايي-") -> * | FP24: =TEXT(BX24,"ميرکريمي-") -> * | FQ24: =TEXT(BY24,"ميرکريمي-") -> * | FR24: =TEXT(BZ24,"امیدی-") -> * | FS24: =TEXT(CA24,"امیدي - ") -> * | FT24: =TEXT(CB24,"مجلسي-") -> * | FU24: =TEXT(CC24,"مجلسي-") -> * | FV24: =TEXT(CD24,"گرجی - ") -> * | FW24: =TEXT(CE24,"گرجي-") -> * | FX24: =TEXT(CF24,"رضاحسيني-") -> * | FY24: =TEXT(CG24,"رضاحسيني-") -> * | FZ24: =TEXT(CH24,"حاجعلیپور-") -> * | GA24: =TEXT(CI24," حاجعلیپور-") -> * | GB24: =TEXT(CJ24,"قویدل-") -> * | GC24: =TEXT(CK24," قویدل-") -> * | GD24: =TEXT(CL24,"محمدي-") -> * | GE24: =TEXT(CM24,"محمدي-") -> * | GF24: =TEXT(CN24,"داداشي-") -> * | GG24: =TEXT(CO24,"داداشي-") -> * | GH24: =TEXT(CP24,"کاظميني - ") -> * | GI24: =TEXT(CQ24,"کاظميني -") -> * | GJ24: =TEXT(CR24,"بازرگان-") -> * | GK24: =TEXT(CS24,"بازرگان-") -> * | GL24: =TEXT(CT24,"نويد-") -> * | GM24: =TEXT(CU24,"نويد-") -> * | GN24: =TEXT(CV24,"طالبي-") -> * | GO24: =TEXT(CW24,"طالبي-") -> * | GP24: =TEXT(CX24,"بهشتي-") -> * | GQ24: =TEXT(CY24,"بهشتي-") -> * | GR24: =TEXT(CZ24,"علوی-") -> * | GS24: =TEXT(DA24,"علوی-") -> * | GT24: =TEXT(DB24,"اميدي-") -> * | GU24: =TEXT(DC24,"اميدي-") -> * | GV24: =TEXT(DD24,"م اله بخش-") -> * | GW24: =TEXT(DE24,"م اله بخش-") -> * | GX24: =TEXT(DF24,"عبدالهي-") -> * | GY24: =TEXT(DG24,"عبدالهي-") -> * | GZ24: =TEXT(DH24,"تاجبخش-") -> * | HA24: =TEXT(DI24,"تاجبخش-") -> * | HB24: =BB24 -> 20 | HC24: =BC21 -> چهارشنبه | HD24: =TEXT(DL24,"سلوکي - ") -> * | HE24: =TEXT(DM24,"سلوکي-") -> * | HF24: =TEXT(DN24,"برزنوني-") -> * | HG24: =TEXT(DO24," برزنونی-") -> * | HH24: =TEXT(DP24,"برزنونی-") -> * | HI24: =TEXT(DQ24,"برزنونی-") -> * | HJ24: =TEXT(DR24,"سالمی-") -> * | HK24: =TEXT(DS24,"سالمي-") -> * | HL24: =BB24 -> 20 | HM24: =BC21 -> چهارشنبه | HN24: =TEXT(DV24,"سالمی-") -> * | HO24: =TEXT(DW24,"سالمی-") -> * | HP24: =TEXT(DX24,"عبدالهی-") -> * | HQ24: =TEXT(DY24,"عبدالهی-") -> * | HR24: =TEXT(DZ24,"میرکریمی-") -> * | HS24: =TEXT(EA24,"میرکریمی-") -> * | HT24: =TEXT(EB24,"علوی-") -> * | HU24: =TEXT(EC24,"علوی-") -> * | HV24: =TEXT(ED24,"سلوکی-") -> * | HW24: =TEXT(EE24,"سلوکي-") -> * | HX24: =TEXT(EF24,"حسين خاني-") -> * | HY24: =TEXT(EG24,"حسين خاني-") -> * | HZ24: =TEXT(EH24,"علوي-") -> * | IA24: =TEXT(EI24,"علوي-") -> * | IB24: =TEXT(EJ24,"زارع زاده-") -> * | IC24: =TEXT(EK24,"زارع زاده-") -> * | ID24: =TEXT(EL24,"هاشمي-") -> * | IE24: =TEXT(EM24,"هاشمي-") -> * | IF24: =TEXT(EN24,"سلوکي- ") -> * | IG24: =TEXT(EO24,"سلوکي - ") -> * | RD24: =BB24 -> 20 | RE24: =BC21 -> چهارشنبه | RF24: صبح | RG24: =CONCATENATE(EV24,EX24,EZ24,FB24,FD24,FF24,FH24,FJ24,FL24,FN24,FP24,FR24,FT24,FV24,FX24,FZ24,GB24,GD24,GF24,GH24,GJ24,GL24,GN24,GP24,GR24,GT24,GV24,GX24,GZ24,HD24,HF24,HJ24) -> ******************************** | RI24: 20 | RJ24: =CONCATENATE(EW24,EY24,FA24,FC24,FE24,FG24,FI24,FK24,FM24,FO24,FQ24,FS24,FU24,FW24,FY24,GA24,GC24,GE24,GG24,GI24,GK24,GM24,GO24,GQ24,GS24,GU24,GW24,GY24,HA24,HE24,HG24,HK24) -> ******************************** | RL24: =BB24 -> 20 | RM24: =BC21 -> چهارشنبه | RN24: شب | RO24: =CONCATENATE(HN24,HP24,HR24,HT24,HV24,HX24,HZ24,IB24,ID24,IF24,HH24) -> *********** | RQ24: بامداد | RR24: =CONCATENATE(HO24,HQ24,HS24,HU24,HW24,HY24,IA24,IC24,IE24,IG24,HI24) -> ***********
A25: مترجم همزمان و سردبیر فرانسه | B25: علیمیرزایی | F25: فرانسه و.. | G25: عصر | H25: شبکه های تصویری و نشریات فرانسه | N25: تصویری حضوری | P25: تصویری دور | V25: زبانهای دیگر | Y25: تدوین و دبیران | Z25: ابراهیمی | AC25: خام فرانسه | AD25: =RI79 -> *فخرآور-رفیعی-***آجعفری-ایمانی-********* | AM25: تدوین و دوبیران | AN25: =RI115 -> ******************* | BB25: 21 | BC25: یکشنبه | BD25: * | BE25: * | BF25: * | BG25: * | BH25: * | BI25: * | BJ25: * | BK25: * | BL25: * | BM25: * | BN25: * | BO25: * | BP25: * | BQ25: * | BR25: * | BS25: * | BT25: * | BU25: * | BV25: * | BW25: * | BX25: * | BY25: * | BZ25: * | CA25: * | CB25: * | CC25: * | CD25: * | CE25: * | CF25: * | CG25: * | CH25: * | CI25: * | CJ25: * | CK25: * | CL25: * | CM25: * | CN25: * | CO25: * | CP25: * | CQ25: * | CR25: * | CS25: * | CT25: * | CU25: * | CV25: * | CW25: * | CX25: * | CY25: * | CZ25: * | DA25: * | DB25: * | DC25: * | DD25: * | DE25: * | DF25: * | DG25: * | DH25: * | DI25: * | DJ25: =BB25 -> 21 | DK25: =BC22 -> پنجشنبه | DL25: * | DM25: * | DN25: * | DO25: * | DP25: * | DQ25: * | DR25: * | DS25: * | DT25: =BB25 -> 21 | DU25: =BC22 -> پنجشنبه | DV25: * | DW25: * | DX25: * | DY25: * | DZ25: * | EA25: * | EB25: * | EC25: * | ED25: * | EE25: * | EF25: * | EG25: * | EH25: * | EI25: * | EJ25: * | EK25: * | EL25: * | EM25: * | EN25: * | EO25: * | ET25: =BB25 -> 21 | EU25: =BC22 -> پنجشنبه | EV25: =TEXT(BD25,"هاشمی-") -> * | EW25: =TEXT(BE25,"هاشمی-") -> * | EX25: =TEXT(BF25,"چراغی-") -> * | EY25: =TEXT(BG25,"چراغي-") -> * | EZ25: =TEXT(BH25,"ولدمحمدي-") -> * | FA25: =TEXT(BI25,"ولدمحمدي-") -> * | FB25: =TEXT(BJ25,"رضايي-") -> * | FC25: =TEXT(BK25,"رضايي-") -> * | FD25: =TEXT(BL25,"پاشا-") -> * | FE25: =TEXT(BM25,"پاشا-") -> * | FF25: =TEXT(BN25,"علوی-") -> * | FG25: =TEXT(BO25,"علوی-") -> * | FH25: =TEXT(BP25,"عبدالهی-") -> * | FI25: =TEXT(BQ25,"عبدالهی-") -> * | FJ25: =TEXT(BR25,"حسینخانی-") -> * | FK25: =TEXT(BS25,"حسین خانی-") -> * | FL25: =TEXT(BT25,"م ا له بخش-") -> * | FM25: =TEXT(BU25,"م اله بخش-") -> * | FN25: =TEXT(BV25,"کبريايي-") -> * | FO25: =TEXT(BW25,"کبريايي-") -> * | FP25: =TEXT(BX25,"ميرکريمي-") -> * | FQ25: =TEXT(BY25,"ميرکريمي-") -> * | FR25: =TEXT(BZ25,"امیدی-") -> * | FS25: =TEXT(CA25,"امیدي - ") -> * | FT25: =TEXT(CB25,"مجلسي-") -> * | FU25: =TEXT(CC25,"مجلسي-") -> * | FV25: =TEXT(CD25,"گرجی - ") -> * | FW25: =TEXT(CE25,"گرجي-") -> * | FX25: =TEXT(CF25,"رضاحسيني-") -> * | FY25: =TEXT(CG25,"رضاحسيني-") -> * | FZ25: =TEXT(CH25,"حاجعلیپور-") -> * | GA25: =TEXT(CI25," حاجعلیپور-") -> * | GB25: =TEXT(CJ25,"قویدل-") -> * | GC25: =TEXT(CK25," قویدل-") -> * | GD25: =TEXT(CL25,"محمدي-") -> * | GE25: =TEXT(CM25,"محمدي-") -> * | GF25: =TEXT(CN25,"داداشي-") -> * | GG25: =TEXT(CO25,"داداشي-") -> * | GH25: =TEXT(CP25,"کاظميني - ") -> * | GI25: =TEXT(CQ25,"کاظميني -") -> * | GJ25: =TEXT(CR25,"بازرگان-") -> * | GK25: =TEXT(CS25,"بازرگان-") -> * | GL25: =TEXT(CT25,"نويد-") -> * | GM25: =TEXT(CU25,"نويد-") -> * | GN25: =TEXT(CV25,"طالبي-") -> * | GO25: =TEXT(CW25,"طالبي-") -> * | GP25: =TEXT(CX25,"بهشتي-") -> * | GQ25: =TEXT(CY25,"بهشتي-") -> * | GR25: =TEXT(CZ25,"علوی-") -> * | GS25: =TEXT(DA25,"علوی-") -> * | GT25: =TEXT(DB25,"اميدي-") -> * | GU25: =TEXT(DC25,"اميدي-") -> * | GV25: =TEXT(DD25,"م اله بخش-") -> * | GW25: =TEXT(DE25,"م اله بخش-") -> * | GX25: =TEXT(DF25,"عبدالهي-") -> * | GY25: =TEXT(DG25,"عبدالهي-") -> * | GZ25: =TEXT(DH25,"تاجبخش-") -> * | HA25: =TEXT(DI25,"تاجبخش-") -> * | HB25: =BB25 -> 21 | HC25: =BC22 -> پنجشنبه | HD25: =TEXT(DL25,"سلوکي - ") -> * | HE25: =TEXT(DM25,"سلوکي-") -> * | HF25: =TEXT(DN25,"برزنوني-") -> * | HG25: =TEXT(DO25," برزنونی-") -> * | HH25: =TEXT(DP25,"برزنونی-") -> * | HI25: =TEXT(DQ25,"برزنونی-") -> * | HJ25: =TEXT(DR25,"سالمی-") -> * | HK25: =TEXT(DS25,"سالمي-") -> * | HL25: =BB25 -> 21 | HM25: =BC22 -> پنجشنبه | HN25: =TEXT(DV25,"سالمی-") -> * | HO25: =TEXT(DW25,"سالمی-") -> * | HP25: =TEXT(DX25,"عبدالهی-") -> * | HQ25: =TEXT(DY25,"عبدالهی-") -> * | HR25: =TEXT(DZ25,"میرکریمی-") -> * | HS25: =TEXT(EA25,"میرکریمی-") -> * | HT25: =TEXT(EB25,"علوی-") -> * | HU25: =TEXT(EC25,"علوی-") -> * | HV25: =TEXT(ED25,"سلوکی-") -> * | HW25: =TEXT(EE25,"سلوکي-") -> * | HX25: =TEXT(EF25,"حسين خاني-") -> * | HY25: =TEXT(EG25,"حسين خاني-") -> * | HZ25: =TEXT(EH25,"علوي-") -> * | IA25: =TEXT(EI25,"علوي-") -> * | IB25: =TEXT(EJ25,"زارع زاده-") -> * | IC25: =TEXT(EK25,"زارع زاده-") -> * | ID25: =TEXT(EL25,"هاشمي-") -> * | IE25: =TEXT(EM25,"هاشمي-") -> * | IF25: =TEXT(EN25,"سلوکي- ") -> * | IG25: =TEXT(EO25,"سلوکي - ") -> * | RD25: =BB25 -> 21 | RE25: =BC22 -> پنجشنبه | RF25: صبح | RG25: =CONCATENATE(EV25,EX25,EZ25,FB25,FD25,FF25,FH25,FJ25,FL25,FN25,FP25,FR25,FT25,FV25,FX25,FZ25,GB25,GD25,GF25,GH25,GJ25,GL25,GN25,GP25,GR25,GT25,GV25,GX25,GZ25,HD25,HF25,HJ25) -> ******************************** | RI25: 21 | RJ25: =CONCATENATE(EW25,EY25,FA25,FC25,FE25,FG25,FI25,FK25,FM25,FO25,FQ25,FS25,FU25,FW25,FY25,GA25,GC25,GE25,GG25,GI25,GK25,GM25,GO25,GQ25,GS25,GU25,GW25,GY25,HA25,HE25,HG25,HK25) -> ******************************** | RL25: =BB25 -> 21 | RM25: =BC22 -> پنجشنبه | RN25: شب | RO25: =CONCATENATE(HN25,HP25,HR25,HT25,HV25,HX25,HZ25,IB25,ID25,IF25,HH25) -> *********** | RQ25: بامداد | RR25: =CONCATENATE(HO25,HQ25,HS25,HU25,HW25,HY25,IA25,IC25,IE25,IG25,HI25) -> ***********
A26: سردبیر | E26: انگليسي و | F26: شب و | G26: پايشگر (نشریات/ فضای مجازی و ... | K26: شات بدون لوگو (رویترز،ای پی تی ان و ...) | N26: بی بی سی و الجزیره انگلیسی | Q26: سی ان ان / پرس / راشا انگلیسی | T26: خبرگزاري ها و شبکه های تصویری فرانسه | X26: عربي میادین/مسیره /قدس/منار/جزيره مباشر/ عالم / اخباريه/روسيااليوم /اسکاي /عربيه/حدث/ جزيره | AC26: =RO43 -> ************************************* | BB26: 22 | BC26: دوشنبه | BD26: * | BE26: * | BF26: * | BG26: * | BH26: * | BI26: * | BJ26: * | BK26: * | BL26: * | BM26: * | BN26: * | BO26: * | BP26: * | BQ26: * | BR26: * | BS26: * | BT26: * | BU26: * | BV26: * | BW26: * | BX26: * | BY26: * | BZ26: * | CA26: * | CB26: * | CC26: * | CD26: * | CE26: * | CF26: * | CG26: * | CH26: * | CI26: * | CJ26: * | CK26: * | CL26: * | CM26: * | CN26: * | CO26: * | CP26: * | CQ26: * | CR26: * | CS26: * | CT26: * | CU26: * | CV26: * | CW26: * | CX26: * | CY26: * | CZ26: * | DA26: * | DB26: * | DC26: * | DD26: * | DE26: * | DF26: * | DG26: * | DH26: * | DI26: * | DJ26: =BB26 -> 22 | DK26: =BC23 -> جمعه | DL26: * | DM26: * | DN26: * | DO26: * | DP26: * | DQ26: * | DR26: * | DS26: * | DT26: =BB26 -> 22 | DU26: =BC23 -> جمعه | DV26: * | DW26: * | DX26: * | DY26: * | DZ26: * | EA26: * | EB26: * | EC26: * | ED26: * | EE26: * | EF26: * | EG26: * | EH26: * | EI26: * | EJ26: * | EK26: * | EL26: * | EM26: * | EN26: * | EO26: * | ET26: =BB26 -> 22 | EU26: =BC23 -> جمعه | EV26: =TEXT(BD26,"هاشمی-") -> * | EW26: =TEXT(BE26,"هاشمی-") -> * | EX26: =TEXT(BF26,"چراغی-") -> * | EY26: =TEXT(BG26,"چراغي-") -> * | EZ26: =TEXT(BH26,"ولدمحمدي-") -> * | FA26: =TEXT(BI26,"ولدمحمدي-") -> * | FB26: =TEXT(BJ26,"رضايي-") -> * | FC26: =TEXT(BK26,"رضايي-") -> * | FD26: =TEXT(BL26,"پاشا-") -> * | FE26: =TEXT(BM26,"پاشا-") -> * | FF26: =TEXT(BN26,"علوی-") -> * | FG26: =TEXT(BO26,"علوی-") -> * | FH26: =TEXT(BP26,"عبدالهی-") -> * | FI26: =TEXT(BQ26,"عبدالهی-") -> * | FJ26: =TEXT(BR26,"حسینخانی-") -> * | FK26: =TEXT(BS26,"حسین خانی-") -> * | FL26: =TEXT(BT26,"م ا له بخش-") -> * | FM26: =TEXT(BU26,"م اله بخش-") -> * | FN26: =TEXT(BV26,"کبريايي-") -> * | FO26: =TEXT(BW26,"کبريايي-") -> * | FP26: =TEXT(BX26,"ميرکريمي-") -> * | FQ26: =TEXT(BY26,"ميرکريمي-") -> * | FR26: =TEXT(BZ26,"امیدی-") -> * | FS26: =TEXT(CA26,"امیدي - ") -> * | FT26: =TEXT(CB26,"مجلسي-") -> * | FU26: =TEXT(CC26,"مجلسي-") -> * | FV26: =TEXT(CD26,"گرجی - ") -> * | FW26: =TEXT(CE26,"گرجي-") -> * | FX26: =TEXT(CF26,"رضاحسيني-") -> * | FY26: =TEXT(CG26,"رضاحسيني-") -> * | FZ26: =TEXT(CH26,"حاجعلیپور-") -> * | GA26: =TEXT(CI26," حاجعلیپور-") -> * | GB26: =TEXT(CJ26,"قویدل-") -> * | GC26: =TEXT(CK26," قویدل-") -> * | GD26: =TEXT(CL26,"محمدي-") -> * | GE26: =TEXT(CM26,"محمدي-") -> * | GF26: =TEXT(CN26,"داداشي-") -> * | GG26: =TEXT(CO26,"داداشي-") -> * | GH26: =TEXT(CP26,"کاظميني - ") -> * | GI26: =TEXT(CQ26,"کاظميني -") -> * | GJ26: =TEXT(CR26,"بازرگان-") -> * | GK26: =TEXT(CS26,"بازرگان-") -> * | GL26: =TEXT(CT26,"نويد-") -> * | GM26: =TEXT(CU26,"نويد-") -> * | GN26: =TEXT(CV26,"طالبي-") -> * | GO26: =TEXT(CW26,"طالبي-") -> * | GP26: =TEXT(CX26,"بهشتي-") -> * | GQ26: =TEXT(CY26,"بهشتي-") -> * | GR26: =TEXT(CZ26,"علوی-") -> * | GS26: =TEXT(DA26,"علوی-") -> * | GT26: =TEXT(DB26,"اميدي-") -> * | GU26: =TEXT(DC26,"اميدي-") -> * | GV26: =TEXT(DD26,"م اله بخش-") -> * | GW26: =TEXT(DE26,"م اله بخش-") -> * | GX26: =TEXT(DF26,"عبدالهي-") -> * | GY26: =TEXT(DG26,"عبدالهي-") -> * | GZ26: =TEXT(DH26,"تاجبخش-") -> * | HA26: =TEXT(DI26,"تاجبخش-") -> * | HB26: =BB26 -> 22 | HC26: =BC23 -> جمعه | HD26: =TEXT(DL26,"سلوکي - ") -> * | HE26: =TEXT(DM26,"سلوکي-") -> * | HF26: =TEXT(DN26,"برزنوني-") -> * | HG26: =TEXT(DO26," برزنونی-") -> * | HH26: =TEXT(DP26,"برزنونی-") -> * | HI26: =TEXT(DQ26,"برزنونی-") -> * | HJ26: =TEXT(DR26,"سالمی-") -> * | HK26: =TEXT(DS26,"سالمي-") -> * | HL26: =BB26 -> 22 | HM26: =BC23 -> جمعه | HN26: =TEXT(DV26,"سالمی-") -> * | HO26: =TEXT(DW26,"سالمی-") -> * | HP26: =TEXT(DX26,"عبدالهی-") -> * | HQ26: =TEXT(DY26,"عبدالهی-") -> * | HR26: =TEXT(DZ26,"میرکریمی-") -> * | HS26: =TEXT(EA26,"میرکریمی-") -> * | HT26: =TEXT(EB26,"علوی-") -> * | HU26: =TEXT(EC26,"علوی-") -> * | HV26: =TEXT(ED26,"سلوکی-") -> * | HW26: =TEXT(EE26,"سلوکي-") -> * | HX26: =TEXT(EF26,"حسين خاني-") -> * | HY26: =TEXT(EG26,"حسين خاني-") -> * | HZ26: =TEXT(EH26,"علوي-") -> * | IA26: =TEXT(EI26,"علوي-") -> * | IB26: =TEXT(EJ26,"زارع زاده-") -> * | IC26: =TEXT(EK26,"زارع زاده-") -> * | ID26: =TEXT(EL26,"هاشمي-") -> * | IE26: =TEXT(EM26,"هاشمي-") -> * | IF26: =TEXT(EN26,"سلوکي- ") -> * | IG26: =TEXT(EO26,"سلوکي - ") -> * | RD26: =BB26 -> 22 | RE26: =BC23 -> جمعه | RF26: صبح | RG26: =CONCATENATE(EV26,EX26,EZ26,FB26,FD26,FF26,FH26,FJ26,FL26,FN26,FP26,FR26,FT26,FV26,FX26,FZ26,GB26,GD26,GF26,GH26,GJ26,GL26,GN26,GP26,GR26,GT26,GV26,GX26,GZ26,HD26,HF26,HJ26) -> ******************************** | RI26: 22 | RJ26: =CONCATENATE(EW26,EY26,FA26,FC26,FE26,FG26,FI26,FK26,FM26,FO26,FQ26,FS26,FU26,FW26,FY26,GA26,GC26,GE26,GG26,GI26,GK26,GM26,GO26,GQ26,GS26,GU26,GW26,GY26,HA26,HE26,HG26,HK26) -> ******************************** | RL26: =BB26 -> 22 | RM26: =BC23 -> جمعه | RN26: شب | RO26: =CONCATENATE(HN26,HP26,HR26,HT26,HV26,HX26,HZ26,IB26,ID26,IF26,HH26) -> *********** | RQ26: بامداد | RR26: =CONCATENATE(HO26,HQ26,HS26,HU26,HW26,HY26,IA26,IC26,IE26,IG26,HI26) -> ***********
A27: شب | E27: عربي فرانسه | F27: بامداد | AC27: =RO7 -> *********** | BB27: 23 | BC27: سه شنبه | BD27: * | BE27: * | BF27: * | BG27: * | BH27: * | BI27: * | BJ27: * | BK27: * | BL27: * | BM27: * | BN27: * | BO27: * | BP27: * | BQ27: * | BR27: * | BS27: * | BT27: * | BU27: * | BV27: * | BW27: * | BX27: * | BY27: * | BZ27: * | CA27: * | CB27: * | CC27: * | CD27: * | CE27: * | CF27: * | CG27: * | CH27: * | CI27: * | CJ27: * | CK27: * | CL27: * | CM27: * | CN27: * | CO27: * | CP27: * | CQ27: * | CR27: * | CS27: * | CT27: * | CU27: * | CV27: * | CW27: * | CX27: * | CY27: * | CZ27: * | DA27: * | DB27: * | DC27: * | DD27: * | DE27: * | DF27: * | DG27: * | DH27: * | DI27: * | DJ27: =BB27 -> 23 | DK27: =BC24 -> شنبه | DL27: * | DM27: * | DN27: * | DO27: * | DP27: * | DQ27: * | DR27: * | DS27: * | DT27: =BB27 -> 23 | DU27: =BC24 -> شنبه | DV27: * | DW27: * | DX27: * | DY27: * | DZ27: * | EA27: * | EB27: * | EC27: * | ED27: * | EE27: * | EF27: * | EG27: * | EH27: * | EI27: * | EJ27: * | EK27: * | EL27: * | EM27: * | EN27: * | EO27: * | ET27: =BB27 -> 23 | EU27: =BC24 -> شنبه | EV27: =TEXT(BD27,"هاشمی-") -> * | EW27: =TEXT(BE27,"هاشمی-") -> * | EX27: =TEXT(BF27,"چراغی-") -> * | EY27: =TEXT(BG27,"چراغي-") -> * | EZ27: =TEXT(BH27,"ولدمحمدي-") -> * | FA27: =TEXT(BI27,"ولدمحمدي-") -> * | FB27: =TEXT(BJ27,"رضايي-") -> * | FC27: =TEXT(BK27,"رضايي-") -> * | FD27: =TEXT(BL27,"پاشا-") -> * | FE27: =TEXT(BM27,"پاشا-") -> * | FF27: =TEXT(BN27,"علوی-") -> * | FG27: =TEXT(BO27,"علوی-") -> * | FH27: =TEXT(BP27,"عبدالهی-") -> * | FI27: =TEXT(BQ27,"عبدالهی-") -> * | FJ27: =TEXT(BR27,"حسینخانی-") -> * | FK27: =TEXT(BS27,"حسین خانی-") -> * | FL27: =TEXT(BT27,"م ا له بخش-") -> * | FM27: =TEXT(BU27,"م اله بخش-") -> * | FN27: =TEXT(BV27,"کبريايي-") -> * | FO27: =TEXT(BW27,"کبريايي-") -> * | FP27: =TEXT(BX27,"ميرکريمي-") -> * | FQ27: =TEXT(BY27,"ميرکريمي-") -> * | FR27: =TEXT(BZ27,"امیدی-") -> * | FS27: =TEXT(CA27,"امیدي - ") -> * | FT27: =TEXT(CB27,"مجلسي-") -> * | FU27: =TEXT(CC27,"مجلسي-") -> * | FV27: =TEXT(CD27,"گرجی - ") -> * | FW27: =TEXT(CE27,"گرجي-") -> * | FX27: =TEXT(CF27,"رضاحسيني-") -> * | FY27: =TEXT(CG27,"رضاحسيني-") -> * | FZ27: =TEXT(CH27,"حاجعلیپور-") -> * | GA27: =TEXT(CI27," حاجعلیپور-") -> * | GB27: =TEXT(CJ27,"قویدل-") -> * | GC27: =TEXT(CK27," قویدل-") -> * | GD27: =TEXT(CL27,"محمدي-") -> * | GE27: =TEXT(CM27,"محمدي-") -> * | GF27: =TEXT(CN27,"داداشي-") -> * | GG27: =TEXT(CO27,"داداشي-") -> * | GH27: =TEXT(CP27,"کاظميني - ") -> * | GI27: =TEXT(CQ27,"کاظميني -") -> * | GJ27: =TEXT(CR27,"بازرگان-") -> * | GK27: =TEXT(CS27,"بازرگان-") -> * | GL27: =TEXT(CT27,"نويد-") -> * | GM27: =TEXT(CU27,"نويد-") -> * | GN27: =TEXT(CV27,"طالبي-") -> * | GO27: =TEXT(CW27,"طالبي-") -> * | GP27: =TEXT(CX27,"بهشتي-") -> * | GQ27: =TEXT(CY27,"بهشتي-") -> * | GR27: =TEXT(CZ27,"علوی-") -> * | GS27: =TEXT(DA27,"علوی-") -> * | GT27: =TEXT(DB27,"اميدي-") -> * | GU27: =TEXT(DC27,"اميدي-") -> * | GV27: =TEXT(DD27,"م اله بخش-") -> * | GW27: =TEXT(DE27,"م اله بخش-") -> * | GX27: =TEXT(DF27,"عبدالهي-") -> * | GY27: =TEXT(DG27,"عبدالهي-") -> * | GZ27: =TEXT(DH27,"تاجبخش-") -> * | HA27: =TEXT(DI27,"تاجبخش-") -> * | HB27: =BB27 -> 23 | HC27: =BC24 -> شنبه | HD27: =TEXT(DL27,"سلوکي - ") -> * | HE27: =TEXT(DM27,"سلوکي-") -> * | HF27: =TEXT(DN27,"برزنوني-") -> * | HG27: =TEXT(DO27," برزنونی-") -> * | HH27: =TEXT(DP27,"برزنونی-") -> * | HI27: =TEXT(DQ27,"برزنونی-") -> * | HJ27: =TEXT(DR27,"سالمی-") -> * | HK27: =TEXT(DS27,"سالمي-") -> * | HL27: =BB27 -> 23 | HM27: =BC24 -> شنبه | HN27: =TEXT(DV27,"سالمی-") -> * | HO27: =TEXT(DW27,"سالمی-") -> * | HP27: =TEXT(DX27,"عبدالهی-") -> * | HQ27: =TEXT(DY27,"عبدالهی-") -> * | HR27: =TEXT(DZ27,"میرکریمی-") -> * | HS27: =TEXT(EA27,"میرکریمی-") -> * | HT27: =TEXT(EB27,"علوی-") -> * | HU27: =TEXT(EC27,"علوی-") -> * | HV27: =TEXT(ED27,"سلوکی-") -> * | HW27: =TEXT(EE27,"سلوکي-") -> * | HX27: =TEXT(EF27,"حسين خاني-") -> * | HY27: =TEXT(EG27,"حسين خاني-") -> * | HZ27: =TEXT(EH27,"علوي-") -> * | IA27: =TEXT(EI27,"علوي-") -> * | IB27: =TEXT(EJ27,"زارع زاده-") -> * | IC27: =TEXT(EK27,"زارع زاده-") -> * | ID27: =TEXT(EL27,"هاشمي-") -> * | IE27: =TEXT(EM27,"هاشمي-") -> * | IF27: =TEXT(EN27,"سلوکي- ") -> * | IG27: =TEXT(EO27,"سلوکي - ") -> * | RD27: =BB27 -> 23 | RE27: =BC24 -> شنبه | RF27: صبح | RG27: =CONCATENATE(EV27,EX27,EZ27,FB27,FD27,FF27,FH27,FJ27,FL27,FN27,FP27,FR27,FT27,FV27,FX27,FZ27,GB27,GD27,GF27,GH27,GJ27,GL27,GN27,GP27,GR27,GT27,GV27,GX27,GZ27,HD27,HF27,HJ27) -> ******************************** | RI27: 23 | RJ27: =CONCATENATE(EW27,EY27,FA27,FC27,FE27,FG27,FI27,FK27,FM27,FO27,FQ27,FS27,FU27,FW27,FY27,GA27,GC27,GE27,GG27,GI27,GK27,GM27,GO27,GQ27,GS27,GU27,GW27,GY27,HA27,HE27,HG27,HK27) -> ******************************** | RL27: =BB27 -> 23 | RM27: =BC24 -> شنبه | RN27: شب | RO27: =CONCATENATE(HN27,HP27,HR27,HT27,HV27,HX27,HZ27,IB27,ID27,IF27,HH27) -> *********** | RQ27: بامداد | RR27: =CONCATENATE(HO27,HQ27,HS27,HU27,HW27,HY27,IA27,IC27,IE27,IG27,HI27) -> ***********
A28: شنبه | B28: بهمن4 | C28: سردبیران | D28: کمکی | E28: سردبیر دورکار | F28: تحریریه ها | H28: 1 | I28: 2 | J28: 3 | K28: 4 | L28: 5 | M28: 6 | N28: حضوری | O28: حضوری | P28: حضوری | Q28: حضوری | S28: انگليسي صبح | X28: انگليسي عصر | AC28: عربی صبح | AG28: عربي عصر | AK28: فرانسه صبح | AO28: فرانسه عصر | AS28: زبانهاي دیگر | AV28: شب و نيمه شب | BB28: 24 | BC28: چهارشنبه | BD28: * | BE28: * | BF28: * | BG28: * | BH28: * | BI28: * | BJ28: * | BK28: * | BL28: * | BM28: * | BN28: * | BO28: * | BP28: * | BQ28: * | BR28: * | BS28: * | BT28: * | BU28: * | BV28: * | BW28: * | BX28: * | BY28: * | BZ28: * | CA28: * | CB28: * | CC28: * | CD28: * | CE28: * | CF28: * | CG28: * | CH28: * | CI28: * | CJ28: * | CK28: * | CL28: * | CM28: * | CN28: * | CO28: * | CP28: * | CQ28: * | CR28: * | CS28: * | CT28: * | CU28: * | CV28: * | CW28: * | CX28: * | CY28: * | CZ28: * | DA28: * | DB28: * | DC28: * | DD28: * | DE28: * | DF28: * | DG28: * | DH28: * | DI28: * | DJ28: =BB28 -> 24 | DK28: =BC25 -> یکشنبه | DL28: * | DM28: * | DN28: * | DO28: * | DP28: * | DQ28: * | DR28: * | DS28: * | DT28: =BB28 -> 24 | DU28: =BC25 -> یکشنبه | DV28: * | DW28: * | DX28: * | DY28: * | DZ28: * | EA28: * | EB28: * | EC28: * | ED28: * | EE28: * | EF28: * | EG28: * | EH28: * | EI28: * | EJ28: * | EK28: * | EL28: * | EM28: * | EN28: * | EO28: * | ET28: =BB28 -> 24 | EU28: =BC25 -> یکشنبه | EV28: =TEXT(BD28,"هاشمی-") -> * | EW28: =TEXT(BE28,"هاشمی-") -> * | EX28: =TEXT(BF28,"چراغی-") -> * | EY28: =TEXT(BG28,"چراغي-") -> * | EZ28: =TEXT(BH28,"ولدمحمدي-") -> * | FA28: =TEXT(BI28,"ولدمحمدي-") -> * | FB28: =TEXT(BJ28,"رضايي-") -> * | FC28: =TEXT(BK28,"رضايي-") -> * | FD28: =TEXT(BL28,"پاشا-") -> * | FE28: =TEXT(BM28,"پاشا-") -> * | FF28: =TEXT(BN28,"علوی-") -> * | FG28: =TEXT(BO28,"علوی-") -> * | FH28: =TEXT(BP28,"عبدالهی-") -> * | FI28: =TEXT(BQ28,"عبدالهی-") -> * | FJ28: =TEXT(BR28,"حسینخانی-") -> * | FK28: =TEXT(BS28,"حسین خانی-") -> * | FL28: =TEXT(BT28,"م ا له بخش-") -> * | FM28: =TEXT(BU28,"م اله بخش-") -> * | FN28: =TEXT(BV28,"کبريايي-") -> * | FO28: =TEXT(BW28,"کبريايي-") -> * | FP28: =TEXT(BX28,"ميرکريمي-") -> * | FQ28: =TEXT(BY28,"ميرکريمي-") -> * | FR28: =TEXT(BZ28,"امیدی-") -> * | FS28: =TEXT(CA28,"امیدي - ") -> * | FT28: =TEXT(CB28,"مجلسي-") -> * | FU28: =TEXT(CC28,"مجلسي-") -> * | FV28: =TEXT(CD28,"گرجی - ") -> * | FW28: =TEXT(CE28,"گرجي-") -> * | FX28: =TEXT(CF28,"رضاحسيني-") -> * | FY28: =TEXT(CG28,"رضاحسيني-") -> * | FZ28: =TEXT(CH28,"حاجعلیپور-") -> * | GA28: =TEXT(CI28," حاجعلیپور-") -> * | GB28: =TEXT(CJ28,"قویدل-") -> * | GC28: =TEXT(CK28," قویدل-") -> * | GD28: =TEXT(CL28,"محمدي-") -> * | GE28: =TEXT(CM28,"محمدي-") -> * | GF28: =TEXT(CN28,"داداشي-") -> * | GG28: =TEXT(CO28,"داداشي-") -> * | GH28: =TEXT(CP28,"کاظميني - ") -> * | GI28: =TEXT(CQ28,"کاظميني -") -> * | GJ28: =TEXT(CR28,"بازرگان-") -> * | GK28: =TEXT(CS28,"بازرگان-") -> * | GL28: =TEXT(CT28,"نويد-") -> * | GM28: =TEXT(CU28,"نويد-") -> * | GN28: =TEXT(CV28,"طالبي-") -> * | GO28: =TEXT(CW28,"طالبي-") -> * | GP28: =TEXT(CX28,"بهشتي-") -> * | GQ28: =TEXT(CY28,"بهشتي-") -> * | GR28: =TEXT(CZ28,"علوی-") -> * | GS28: =TEXT(DA28,"علوی-") -> * | GT28: =TEXT(DB28,"اميدي-") -> * | GU28: =TEXT(DC28,"اميدي-") -> * | GV28: =TEXT(DD28,"م اله بخش-") -> * | GW28: =TEXT(DE28,"م اله بخش-") -> * | GX28: =TEXT(DF28,"عبدالهي-") -> * | GY28: =TEXT(DG28,"عبدالهي-") -> * | GZ28: =TEXT(DH28,"تاجبخش-") -> * | HA28: =TEXT(DI28,"تاجبخش-") -> * | HB28: =BB28 -> 24 | HC28: =BC25 -> یکشنبه | HD28: =TEXT(DL28,"سلوکي - ") -> * | HE28: =TEXT(DM28,"سلوکي-") -> * | HF28: =TEXT(DN28,"برزنوني-") -> * | HG28: =TEXT(DO28," برزنونی-") -> * | HH28: =TEXT(DP28,"برزنونی-") -> * | HI28: =TEXT(DQ28,"برزنونی-") -> * | HJ28: =TEXT(DR28,"سالمی-") -> * | HK28: =TEXT(DS28,"سالمي-") -> * | HL28: =BB28 -> 24 | HM28: =BC25 -> یکشنبه | HN28: =TEXT(DV28,"سالمی-") -> * | HO28: =TEXT(DW28,"سالمی-") -> * | HP28: =TEXT(DX28,"عبدالهی-") -> * | HQ28: =TEXT(DY28,"عبدالهی-") -> * | HR28: =TEXT(DZ28,"میرکریمی-") -> * | HS28: =TEXT(EA28,"میرکریمی-") -> * | HT28: =TEXT(EB28,"علوی-") -> * | HU28: =TEXT(EC28,"علوی-") -> * | HV28: =TEXT(ED28,"سلوکی-") -> * | HW28: =TEXT(EE28,"سلوکي-") -> * | HX28: =TEXT(EF28,"حسين خاني-") -> * | HY28: =TEXT(EG28,"حسين خاني-") -> * | HZ28: =TEXT(EH28,"علوي-") -> * | IA28: =TEXT(EI28,"علوي-") -> * | IB28: =TEXT(EJ28,"زارع زاده-") -> * | IC28: =TEXT(EK28,"زارع زاده-") -> * | ID28: =TEXT(EL28,"هاشمي-") -> * | IE28: =TEXT(EM28,"هاشمي-") -> * | IF28: =TEXT(EN28,"سلوکي- ") -> * | IG28: =TEXT(EO28,"سلوکي - ") -> * | RD28: =BB28 -> 24 | RE28: =BC25 -> یکشنبه | RF28: صبح | RG28: =CONCATENATE(EV28,EX28,EZ28,FB28,FD28,FF28,FH28,FJ28,FL28,FN28,FP28,FR28,FT28,FV28,FX28,FZ28,GB28,GD28,GF28,GH28,GJ28,GL28,GN28,GP28,GR28,GT28,GV28,GX28,GZ28,HD28,HF28,HJ28) -> ******************************** | RI28: 24 | RJ28: =CONCATENATE(EW28,EY28,FA28,FC28,FE28,FG28,FI28,FK28,FM28,FO28,FQ28,FS28,FU28,FW28,FY28,GA28,GC28,GE28,GG28,GI28,GK28,GM28,GO28,GQ28,GS28,GU28,GW28,GY28,HA28,HE28,HG28,HK28) -> ******************************** | RL28: =BB28 -> 24 | RM28: =BC25 -> یکشنبه | RN28: شب | RO28: =CONCATENATE(HN28,HP28,HR28,HT28,HV28,HX28,HZ28,IB28,ID28,IF28,HH28) -> *********** | RQ28: بامداد | RR28: =CONCATENATE(HO28,HQ28,HS28,HU28,HW28,HY28,IA28,IC28,IE28,IG28,HI28) -> ***********
A29: سردبیر انگلیسی | B29: حاج محمدی | F29: انگليسي | G29: صبح | H29: پایش مکتوب | K29: پایش تصویری | N29: تصویر حضور1 /2 | S29: تصویری دور | AC29: خام انگلیسی | AD29: =RG44 -> ********************************************************* | AS29: مشاهده کارويژه هاي شيفت روز | BB29: 25 | BC29: پنجشنبه | BD29: * | BE29: * | BF29: * | BG29: * | BH29: * | BI29: * | BJ29: * | BK29: * | BL29: * | BM29: * | BN29: * | BO29: * | BP29: * | BQ29: * | BR29: * | BS29: * | BT29: * | BU29: * | BV29: * | BW29: * | BX29: * | BY29: * | BZ29: * | CA29: * | CB29: * | CC29: * | CD29: * | CE29: * | CF29: * | CG29: * | CH29: * | CI29: * | CJ29: * | CK29: * | CL29: * | CM29: * | CN29: * | CO29: * | CP29: * | CQ29: * | CR29: * | CS29: * | CT29: * | CU29: * | CV29: * | CW29: * | CX29: * | CY29: * | CZ29: * | DA29: * | DB29: * | DC29: * | DD29: * | DE29: * | DF29: * | DG29: * | DH29: * | DI29: * | DJ29: =BB29 -> 25 | DK29: =BC26 -> دوشنبه | DL29: * | DM29: * | DN29: * | DO29: * | DP29: * | DQ29: * | DR29: * | DS29: * | DT29: =BB29 -> 25 | DU29: =BC26 -> دوشنبه | DV29: * | DW29: * | DX29: * | DY29: * | DZ29: * | EA29: * | EB29: * | EC29: * | ED29: * | EE29: * | EF29: * | EG29: * | EH29: * | EI29: * | EJ29: * | EK29: * | EL29: * | EM29: * | EN29: * | EO29: * | ET29: =BB29 -> 25 | EU29: =BC26 -> دوشنبه | EV29: =TEXT(BD29,"هاشمی-") -> * | EW29: =TEXT(BE29,"هاشمی-") -> * | EX29: =TEXT(BF29,"چراغی-") -> * | EY29: =TEXT(BG29,"چراغي-") -> * | EZ29: =TEXT(BH29,"ولدمحمدي-") -> * | FA29: =TEXT(BI29,"ولدمحمدي-") -> * | FB29: =TEXT(BJ29,"رضايي-") -> * | FC29: =TEXT(BK29,"رضايي-") -> * | FD29: =TEXT(BL29,"پاشا-") -> * | FE29: =TEXT(BM29,"پاشا-") -> * | FF29: =TEXT(BN29,"علوی-") -> * | FG29: =TEXT(BO29,"علوی-") -> * | FH29: =TEXT(BP29,"عبدالهی-") -> * | FI29: =TEXT(BQ29,"عبدالهی-") -> * | FJ29: =TEXT(BR29,"حسینخانی-") -> * | FK29: =TEXT(BS29,"حسین خانی-") -> * | FL29: =TEXT(BT29,"م ا له بخش-") -> * | FM29: =TEXT(BU29,"م اله بخش-") -> * | FN29: =TEXT(BV29,"کبريايي-") -> * | FO29: =TEXT(BW29,"کبريايي-") -> * | FP29: =TEXT(BX29,"ميرکريمي-") -> * | FQ29: =TEXT(BY29,"ميرکريمي-") -> * | FR29: =TEXT(BZ29,"امیدی-") -> * | FS29: =TEXT(CA29,"امیدي - ") -> * | FT29: =TEXT(CB29,"مجلسي-") -> * | FU29: =TEXT(CC29,"مجلسي-") -> * | FV29: =TEXT(CD29,"گرجی - ") -> * | FW29: =TEXT(CE29,"گرجي-") -> * | FX29: =TEXT(CF29,"رضاحسيني-") -> * | FY29: =TEXT(CG29,"رضاحسيني-") -> * | FZ29: =TEXT(CH29,"حاجعلیپور-") -> * | GA29: =TEXT(CI29," حاجعلیپور-") -> * | GB29: =TEXT(CJ29,"قویدل-") -> * | GC29: =TEXT(CK29," قویدل-") -> * | GD29: =TEXT(CL29,"محمدي-") -> * | GE29: =TEXT(CM29,"محمدي-") -> * | GF29: =TEXT(CN29,"داداشي-") -> * | GG29: =TEXT(CO29,"داداشي-") -> * | GH29: =TEXT(CP29,"کاظميني - ") -> * | GI29: =TEXT(CQ29,"کاظميني -") -> * | GJ29: =TEXT(CR29,"بازرگان-") -> * | GK29: =TEXT(CS29,"بازرگان-") -> * | GL29: =TEXT(CT29,"نويد-") -> * | GM29: =TEXT(CU29,"نويد-") -> * | GN29: =TEXT(CV29,"طالبي-") -> * | GO29: =TEXT(CW29,"طالبي-") -> * | GP29: =TEXT(CX29,"بهشتي-") -> * | GQ29: =TEXT(CY29,"بهشتي-") -> * | GR29: =TEXT(CZ29,"علوی-") -> * | GS29: =TEXT(DA29,"علوی-") -> * | GT29: =TEXT(DB29,"اميدي-") -> * | GU29: =TEXT(DC29,"اميدي-") -> * | GV29: =TEXT(DD29,"م اله بخش-") -> * | GW29: =TEXT(DE29,"م اله بخش-") -> * | GX29: =TEXT(DF29,"عبدالهي-") -> * | GY29: =TEXT(DG29,"عبدالهي-") -> * | GZ29: =TEXT(DH29,"تاجبخش-") -> * | HA29: =TEXT(DI29,"تاجبخش-") -> * | HB29: =BB29 -> 25 | HC29: =BC26 -> دوشنبه | HD29: =TEXT(DL29,"سلوکي - ") -> * | HE29: =TEXT(DM29,"سلوکي-") -> * | HF29: =TEXT(DN29,"برزنوني-") -> * | HG29: =TEXT(DO29," برزنونی-") -> * | HH29: =TEXT(DP29,"برزنونی-") -> * | HI29: =TEXT(DQ29,"برزنونی-") -> * | HJ29: =TEXT(DR29,"سالمی-") -> * | HK29: =TEXT(DS29,"سالمي-") -> * | HL29: =BB29 -> 25 | HM29: =BC26 -> دوشنبه | HN29: =TEXT(DV29,"سالمی-") -> * | HO29: =TEXT(DW29,"سالمی-") -> * | HP29: =TEXT(DX29,"عبدالهی-") -> * | HQ29: =TEXT(DY29,"عبدالهی-") -> * | HR29: =TEXT(DZ29,"میرکریمی-") -> * | HS29: =TEXT(EA29,"میرکریمی-") -> * | HT29: =TEXT(EB29,"علوی-") -> * | HU29: =TEXT(EC29,"علوی-") -> * | HV29: =TEXT(ED29,"سلوکی-") -> * | HW29: =TEXT(EE29,"سلوکي-") -> * | HX29: =TEXT(EF29,"حسين خاني-") -> * | HY29: =TEXT(EG29,"حسين خاني-") -> * | HZ29: =TEXT(EH29,"علوي-") -> * | IA29: =TEXT(EI29,"علوي-") -> * | IB29: =TEXT(EJ29,"زارع زاده-") -> * | IC29: =TEXT(EK29,"زارع زاده-") -> * | ID29: =TEXT(EL29,"هاشمي-") -> * | IE29: =TEXT(EM29,"هاشمي-") -> * | IF29: =TEXT(EN29,"سلوکي- ") -> * | IG29: =TEXT(EO29,"سلوکي - ") -> * | RD29: =BB29 -> 25 | RE29: =BC26 -> دوشنبه | RF29: صبح | RG29: =CONCATENATE(EV29,EX29,EZ29,FB29,FD29,FF29,FH29,FJ29,FL29,FN29,FP29,FR29,FT29,FV29,FX29,FZ29,GB29,GD29,GF29,GH29,GJ29,GL29,GN29,GP29,GR29,GT29,GV29,GX29,GZ29,HD29,HF29,HJ29) -> ******************************** | RI29: 25 | RJ29: =CONCATENATE(EW29,EY29,FA29,FC29,FE29,FG29,FI29,FK29,FM29,FO29,FQ29,FS29,FU29,FW29,FY29,GA29,GC29,GE29,GG29,GI29,GK29,GM29,GO29,GQ29,GS29,GU29,GW29,GY29,HA29,HE29,HG29,HK29) -> ******************************** | RL29: =BB29 -> 25 | RM29: =BC26 -> دوشنبه | RN29: شب | RO29: =CONCATENATE(HN29,HP29,HR29,HT29,HV29,HX29,HZ29,IB29,ID29,IF29,HH29) -> *********** | RQ29: بامداد | RR29: =CONCATENATE(HO29,HQ29,HS29,HU29,HW29,HY29,IA29,IC29,IE29,IG29,HI29) -> ***********
A30: سردبیر عربی | B30: ولد محمدی | F30: عربي | G30: صبح | H30: پایش 1 / نشریات... | N30: تصویرحضور1/2/3/4 | S30: تصویری دور | AC30: خام عربی | AD30: =RG8 -> ******************************** | AS30: ککارویژه انگلیسی : تصویر انگلیسی1:BBC-FR24- FOX- PRESS تصویر انگليسي2: CNN-CCTV-NHK-الجزيره انگليسي تصویر انگليسي3: REUTERS-AP – راشا – بلومبرگ- يورو نيوز تصویر انگليسي4: شات شبکه هاي بدون لوگو پايش مکتوب 1: 1- انديشکده ها 2- خبرهاي ايران 3- سايت رسمي کشورها 4-توئیت شخصیتهای مهم جهان پایش مکتوب 2 :1- تصوير گوناگون از تويتر و يوتيوپ و .. 3- نشريات انگليسي و آمريکايي غير ايران پایش تصاویر : 1 میز آمریکا- 2میز اروپا –3 میز آسیا کارویژه های عربی : تصویر عربي1 : عالم-مسيره-اخباريه سوريه-لولو-منار-قدس تصویر عربي2: ميادين-عربيه-جزيره و جزيره مباشر- حدث تصویر عربي3: روسيااليوم- اخباريه سعودي- عراقيه- تصویر عربي4:اسکاي عربي-BBC-فلسطين اليوم کارويژه پايش یک عربي: 1- پایگاه ها 2-روزنامه ها 3- اندیشکده ها 4- خبرگزاریها کارویژه پایش دوعربی: منابع تصویری ( پایگاه شبکه ها و یوتیوپ ) فضای مجازی( توئیتر و فیس بوک و اینستا گرام و ... ) کارويژه هاي فرانسه الف - کارویژه یک -شبکه ها تصويري (فرانس 24 – تي وي پنج- ب اف ام تي وي ) -شبکه هاي راديويي ( راديو بين المللي فرانسه- يوروپ 1- ) انديشکده ها و تصويري توئيتر- ب- کارويژه دو: - خبرگزاريها - اينترنت - انديشکده ها - توئيت ها | BB30: 26 | BC30: جمعه | BD30: * | BE30: * | BF30: * | BG30: * | BH30: * | BI30: * | BJ30: * | BK30: * | BL30: * | BM30: * | BN30: * | BO30: * | BP30: * | BQ30: * | BR30: * | BS30: * | BT30: * | BU30: * | BV30: * | BW30: * | BX30: * | BY30: * | BZ30: * | CA30: * | CB30: * | CC30: * | CD30: * | CE30: * | CF30: * | CG30: * | CH30: * | CI30: * | CJ30: * | CK30: * | CL30: * | CM30: * | CN30: * | CO30: * | CP30: * | CQ30: * | CR30: * | CS30: * | CT30: * | CU30: * | CV30: * | CW30: * | CX30: * | CY30: * | CZ30: * | DA30: * | DB30: * | DC30: * | DD30: * | DE30: * | DF30: * | DG30: * | DH30: * | DI30: * | DJ30: =BB30 -> 26 | DK30: =BC27 -> سه شنبه | DL30: * | DM30: * | DN30: * | DO30: * | DP30: * | DQ30: * | DR30: * | DS30: * | DT30: =BB30 -> 26 | DU30: =BC27 -> سه شنبه | DV30: * | DW30: * | DX30: * | DY30: * | DZ30: * | EA30: * | EB30: * | EC30: * | ED30: * | EE30: * | EF30: * | EG30: * | EH30: * | EI30: * | EJ30: * | EK30: * | EL30: * | EM30: * | EN30: * | EO30: * | ET30: =BB30 -> 26 | EU30: =BC27 -> سه شنبه | EV30: =TEXT(BD30,"هاشمی-") -> * | EW30: =TEXT(BE30,"هاشمی-") -> * | EX30: =TEXT(BF30,"چراغی-") -> * | EY30: =TEXT(BG30,"چراغي-") -> * | EZ30: =TEXT(BH30,"ولدمحمدي-") -> * | FA30: =TEXT(BI30,"ولدمحمدي-") -> * | FB30: =TEXT(BJ30,"رضايي-") -> * | FC30: =TEXT(BK30,"رضايي-") -> * | FD30: =TEXT(BL30,"پاشا-") -> * | FE30: =TEXT(BM30,"پاشا-") -> * | FF30: =TEXT(BN30,"علوی-") -> * | FG30: =TEXT(BO30,"علوی-") -> * | FH30: =TEXT(BP30,"عبدالهی-") -> * | FI30: =TEXT(BQ30,"عبدالهی-") -> * | FJ30: =TEXT(BR30,"حسینخانی-") -> * | FK30: =TEXT(BS30,"حسین خانی-") -> * | FL30: =TEXT(BT30,"م ا له بخش-") -> * | FM30: =TEXT(BU30,"م اله بخش-") -> * | FN30: =TEXT(BV30,"کبريايي-") -> * | FO30: =TEXT(BW30,"کبريايي-") -> * | FP30: =TEXT(BX30,"ميرکريمي-") -> * | FQ30: =TEXT(BY30,"ميرکريمي-") -> * | FR30: =TEXT(BZ30,"امیدی-") -> * | FS30: =TEXT(CA30,"امیدي - ") -> * | FT30: =TEXT(CB30,"مجلسي-") -> * | FU30: =TEXT(CC30,"مجلسي-") -> * | FV30: =TEXT(CD30,"گرجی - ") -> * | FW30: =TEXT(CE30,"گرجي-") -> * | FX30: =TEXT(CF30,"رضاحسيني-") -> * | FY30: =TEXT(CG30,"رضاحسيني-") -> * | FZ30: =TEXT(CH30,"حاجعلیپور-") -> * | GA30: =TEXT(CI30," حاجعلیپور-") -> * | GB30: =TEXT(CJ30,"قویدل-") -> * | GC30: =TEXT(CK30," قویدل-") -> * | GD30: =TEXT(CL30,"محمدي-") -> * | GE30: =TEXT(CM30,"محمدي-") -> * | GF30: =TEXT(CN30,"داداشي-") -> * | GG30: =TEXT(CO30,"داداشي-") -> * | GH30: =TEXT(CP30,"کاظميني - ") -> * | GI30: =TEXT(CQ30,"کاظميني -") -> * | GJ30: =TEXT(CR30,"بازرگان-") -> * | GK30: =TEXT(CS30,"بازرگان-") -> * | GL30: =TEXT(CT30,"نويد-") -> * | GM30: =TEXT(CU30,"نويد-") -> * | GN30: =TEXT(CV30,"طالبي-") -> * | GO30: =TEXT(CW30,"طالبي-") -> * | GP30: =TEXT(CX30,"بهشتي-") -> * | GQ30: =TEXT(CY30,"بهشتي-") -> * | GR30: =TEXT(CZ30,"علوی-") -> * | GS30: =TEXT(DA30,"علوی-") -> * | GT30: =TEXT(DB30,"اميدي-") -> * | GU30: =TEXT(DC30,"اميدي-") -> * | GV30: =TEXT(DD30,"م اله بخش-") -> * | GW30: =TEXT(DE30,"م اله بخش-") -> * | GX30: =TEXT(DF30,"عبدالهي-") -> * | GY30: =TEXT(DG30,"عبدالهي-") -> * | GZ30: =TEXT(DH30,"تاجبخش-") -> * | HA30: =TEXT(DI30,"تاجبخش-") -> * | HB30: =BB30 -> 26 | HC30: =BC27 -> سه شنبه | HD30: =TEXT(DL30,"سلوکي - ") -> * | HE30: =TEXT(DM30,"سلوکي-") -> * | HF30: =TEXT(DN30,"برزنوني-") -> * | HG30: =TEXT(DO30," برزنونی-") -> * | HH30: =TEXT(DP30,"برزنونی-") -> * | HI30: =TEXT(DQ30,"برزنونی-") -> * | HJ30: =TEXT(DR30,"سالمی-") -> * | HK30: =TEXT(DS30,"سالمي-") -> * | HL30: =BB30 -> 26 | HM30: =BC27 -> سه شنبه | HN30: =TEXT(DV30,"سالمی-") -> * | HO30: =TEXT(DW30,"سالمی-") -> * | HP30: =TEXT(DX30,"عبدالهی-") -> * | HQ30: =TEXT(DY30,"عبدالهی-") -> * | HR30: =TEXT(DZ30,"میرکریمی-") -> * | HS30: =TEXT(EA30,"میرکریمی-") -> * | HT30: =TEXT(EB30,"علوی-") -> * | HU30: =TEXT(EC30,"علوی-") -> * | HV30: =TEXT(ED30,"سلوکی-") -> * | HW30: =TEXT(EE30,"سلوکي-") -> * | HX30: =TEXT(EF30,"حسين خاني-") -> * | HY30: =TEXT(EG30,"حسين خاني-") -> * | HZ30: =TEXT(EH30,"علوي-") -> * | IA30: =TEXT(EI30,"علوي-") -> * | IB30: =TEXT(EJ30,"زارع زاده-") -> * | IC30: =TEXT(EK30,"زارع زاده-") -> * | ID30: =TEXT(EL30,"هاشمي-") -> * | IE30: =TEXT(EM30,"هاشمي-") -> * | IF30: =TEXT(EN30,"سلوکي- ") -> * | IG30: =TEXT(EO30,"سلوکي - ") -> * | RD30: =BB30 -> 26 | RE30: =BC27 -> سه شنبه | RF30: صبح | RG30: =CONCATENATE(EV30,EX30,EZ30,FB30,FD30,FF30,FH30,FJ30,FL30,FN30,FP30,FR30,FT30,FV30,FX30,FZ30,GB30,GD30,GF30,GH30,GJ30,GL30,GN30,GP30,GR30,GT30,GV30,GX30,GZ30,HD30,HF30,HJ30) -> ******************************** | RI30: 26 | RJ30: =CONCATENATE(EW30,EY30,FA30,FC30,FE30,FG30,FI30,FK30,FM30,FO30,FQ30,FS30,FU30,FW30,FY30,GA30,GC30,GE30,GG30,GI30,GK30,GM30,GO30,GQ30,GS30,GU30,GW30,GY30,HA30,HE30,HG30,HK30) -> ******************************** | RL30: =BB30 -> 26 | RM30: =BC27 -> سه شنبه | RN30: شب | RO30: =CONCATENATE(HN30,HP30,HR30,HT30,HV30,HX30,HZ30,IB30,ID30,IF30,HH30) -> *********** | RQ30: بامداد | RR30: =CONCATENATE(HO30,HQ30,HS30,HU30,HW30,HY30,IA30,IC30,IE30,IG30,HI30) -> ***********
A31: مترجم همزمان و سردبیر فرانسه | B31: فخرآور | F31: فرانسه و.. | G31: صبح | H31: شبکه های تصویری و نشریات فرانسه | N31: تصویری حضوری | P31: تصویری دور | V31: زبانهای دیگر | Y31: تدوین و دبیران | Z31: پیرویسی | AC31: خام فرانسه | AD31: =RG80 -> *فخرآور-*************** | AM31: تدوین و دوبیران | AN31: =RG116 -> ******************* | BB31: 27 | BC31: شنبه | BD31: * | BE31: * | BF31: * | BG31: * | BH31: * | BI31: * | BJ31: * | BK31: * | BL31: * | BM31: * | BN31: * | BO31: * | BP31: * | BQ31: * | BR31: * | BS31: * | BT31: * | BU31: * | BV31: * | BW31: * | BX31: * | BY31: * | BZ31: * | CA31: * | CB31: * | CC31: * | CD31: * | CE31: * | CF31: * | CG31: * | CH31: * | CI31: * | CJ31: * | CK31: * | CL31: * | CM31: * | CN31: * | CO31: * | CP31: * | CQ31: * | CR31: * | CS31: * | CT31: * | CU31: * | CV31: * | CW31: * | CX31: * | CY31: * | CZ31: * | DA31: * | DB31: * | DC31: * | DD31: * | DE31: * | DF31: * | DG31: * | DH31: * | DI31: * | DJ31: =BB31 -> 27 | DK31: =BC28 -> چهارشنبه | DL31: * | DM31: * | DN31: * | DO31: * | DP31: * | DQ31: * | DR31: * | DS31: * | DT31: =BB31 -> 27 | DU31: =BC28 -> چهارشنبه | DV31: * | DW31: * | DX31: * | DY31: * | DZ31: * | EA31: * | EB31: * | EC31: * | ED31: * | EE31: * | EF31: * | EG31: * | EH31: * | EI31: * | EJ31: * | EK31: * | EL31: * | EM31: * | EN31: * | EO31: * | ET31: =BB31 -> 27 | EU31: =BC28 -> چهارشنبه | EV31: =TEXT(BD31,"هاشمی-") -> * | EW31: =TEXT(BE31,"هاشمی-") -> * | EX31: =TEXT(BF31,"چراغی-") -> * | EY31: =TEXT(BG31,"چراغي-") -> * | EZ31: =TEXT(BH31,"ولدمحمدي-") -> * | FA31: =TEXT(BI31,"ولدمحمدي-") -> * | FB31: =TEXT(BJ31,"رضايي-") -> * | FC31: =TEXT(BK31,"رضايي-") -> * | FD31: =TEXT(BL31,"پاشا-") -> * | FE31: =TEXT(BM31,"پاشا-") -> * | FF31: =TEXT(BN31,"علوی-") -> * | FG31: =TEXT(BO31,"علوی-") -> * | FH31: =TEXT(BP31,"عبدالهی-") -> * | FI31: =TEXT(BQ31,"عبدالهی-") -> * | FJ31: =TEXT(BR31,"حسینخانی-") -> * | FK31: =TEXT(BS31,"حسین خانی-") -> * | FL31: =TEXT(BT31,"م ا له بخش-") -> * | FM31: =TEXT(BU31,"م اله بخش-") -> * | FN31: =TEXT(BV31,"کبريايي-") -> * | FO31: =TEXT(BW31,"کبريايي-") -> * | FP31: =TEXT(BX31,"ميرکريمي-") -> * | FQ31: =TEXT(BY31,"ميرکريمي-") -> * | FR31: =TEXT(BZ31,"امیدی-") -> * | FS31: =TEXT(CA31,"امیدي - ") -> * | FT31: =TEXT(CB31,"مجلسي-") -> * | FU31: =TEXT(CC31,"مجلسي-") -> * | FV31: =TEXT(CD31,"گرجی - ") -> * | FW31: =TEXT(CE31,"گرجي-") -> * | FX31: =TEXT(CF31,"رضاحسيني-") -> * | FY31: =TEXT(CG31,"رضاحسيني-") -> * | FZ31: =TEXT(CH31,"حاجعلیپور-") -> * | GA31: =TEXT(CI31," حاجعلیپور-") -> * | GB31: =TEXT(CJ31,"قویدل-") -> * | GC31: =TEXT(CK31," قویدل-") -> * | GD31: =TEXT(CL31,"محمدي-") -> * | GE31: =TEXT(CM31,"محمدي-") -> * | GF31: =TEXT(CN31,"داداشي-") -> * | GG31: =TEXT(CO31,"داداشي-") -> * | GH31: =TEXT(CP31,"کاظميني - ") -> * | GI31: =TEXT(CQ31,"کاظميني -") -> * | GJ31: =TEXT(CR31,"بازرگان-") -> * | GK31: =TEXT(CS31,"بازرگان-") -> * | GL31: =TEXT(CT31,"نويد-") -> * | GM31: =TEXT(CU31,"نويد-") -> * | GN31: =TEXT(CV31,"طالبي-") -> * | GO31: =TEXT(CW31,"طالبي-") -> * | GP31: =TEXT(CX31,"بهشتي-") -> * | GQ31: =TEXT(CY31,"بهشتي-") -> * | GR31: =TEXT(CZ31,"علوی-") -> * | GS31: =TEXT(DA31,"علوی-") -> * | GT31: =TEXT(DB31,"اميدي-") -> * | GU31: =TEXT(DC31,"اميدي-") -> * | GV31: =TEXT(DD31,"م اله بخش-") -> * | GW31: =TEXT(DE31,"م اله بخش-") -> * | GX31: =TEXT(DF31,"عبدالهي-") -> * | GY31: =TEXT(DG31,"عبدالهي-") -> * | GZ31: =TEXT(DH31,"تاجبخش-") -> * | HA31: =TEXT(DI31,"تاجبخش-") -> * | HB31: =BB31 -> 27 | HC31: =BC28 -> چهارشنبه | HD31: =TEXT(DL31,"سلوکي - ") -> * | HE31: =TEXT(DM31,"سلوکي-") -> * | HF31: =TEXT(DN31,"برزنوني-") -> * | HG31: =TEXT(DO31," برزنونی-") -> * | HH31: =TEXT(DP31,"برزنونی-") -> * | HI31: =TEXT(DQ31,"برزنونی-") -> * | HJ31: =TEXT(DR31,"سالمی-") -> * | HK31: =TEXT(DS31,"سالمي-") -> * | HL31: =BB31 -> 27 | HM31: =BC28 -> چهارشنبه | HN31: =TEXT(DV31,"سالمی-") -> * | HO31: =TEXT(DW31,"سالمی-") -> * | HP31: =TEXT(DX31,"عبدالهی-") -> * | HQ31: =TEXT(DY31,"عبدالهی-") -> * | HR31: =TEXT(DZ31,"میرکریمی-") -> * | HS31: =TEXT(EA31,"میرکریمی-") -> * | HT31: =TEXT(EB31,"علوی-") -> * | HU31: =TEXT(EC31,"علوی-") -> * | HV31: =TEXT(ED31,"سلوکی-") -> * | HW31: =TEXT(EE31,"سلوکي-") -> * | HX31: =TEXT(EF31,"حسين خاني-") -> * | HY31: =TEXT(EG31,"حسين خاني-") -> * | HZ31: =TEXT(EH31,"علوي-") -> * | IA31: =TEXT(EI31,"علوي-") -> * | IB31: =TEXT(EJ31,"زارع زاده-") -> * | IC31: =TEXT(EK31,"زارع زاده-") -> * | ID31: =TEXT(EL31,"هاشمي-") -> * | IE31: =TEXT(EM31,"هاشمي-") -> * | IF31: =TEXT(EN31,"سلوکي- ") -> * | IG31: =TEXT(EO31,"سلوکي - ") -> * | RD31: =BB31 -> 27 | RE31: =BC28 -> چهارشنبه | RF31: صبح | RG31: =CONCATENATE(EV31,EX31,EZ31,FB31,FD31,FF31,FH31,FJ31,FL31,FN31,FP31,FR31,FT31,FV31,FX31,FZ31,GB31,GD31,GF31,GH31,GJ31,GL31,GN31,GP31,GR31,GT31,GV31,GX31,GZ31,HD31,HF31,HJ31) -> ******************************** | RI31: 27 | RJ31: =CONCATENATE(EW31,EY31,FA31,FC31,FE31,FG31,FI31,FK31,FM31,FO31,FQ31,FS31,FU31,FW31,FY31,GA31,GC31,GE31,GG31,GI31,GK31,GM31,GO31,GQ31,GS31,GU31,GW31,GY31,HA31,HE31,HG31,HK31) -> ******************************** | RL31: =BB31 -> 27 | RM31: =BC28 -> چهارشنبه | RN31: شب | RO31: =CONCATENATE(HN31,HP31,HR31,HT31,HV31,HX31,HZ31,IB31,ID31,IF31,HH31) -> *********** | RQ31: بامداد | RR31: =CONCATENATE(HO31,HQ31,HS31,HU31,HW31,HY31,IA31,IC31,IE31,IG31,HI31) -> ***********
A32: سردبیر انگلیسی | B32: قربانی | F32: انگليسي | G32: عصر | H32: پایش مکتوب | K32: پایش تصویری | N32: تصویر حضور1 /2 | S32: تصویری دور | AC32: خام انگلیسی | AD32: =RJ44 -> ********************************************************* | BB32: 28 | BC32: یکشنبه | BD32: * | BE32: * | BF32: * | BG32: * | BH32: * | BI32: * | BJ32: * | BK32: * | BL32: * | BM32: * | BN32: * | BO32: * | BP32: * | BQ32: * | BR32: * | BS32: * | BT32: * | BU32: * | BV32: * | BW32: * | BX32: * | BY32: * | BZ32: * | CA32: * | CB32: * | CC32: * | CD32: * | CE32: * | CF32: * | CG32: * | CH32: * | CI32: * | CJ32: * | CK32: * | CL32: * | CM32: * | CN32: * | CO32: * | CP32: * | CQ32: * | CR32: * | CS32: * | CT32: * | CU32: * | CV32: * | CW32: * | CX32: * | CY32: * | CZ32: * | DA32: * | DB32: * | DC32: * | DD32: * | DE32: * | DF32: * | DG32: * | DH32: * | DI32: * | DJ32: =BB32 -> 28 | DK32: =BC29 -> پنجشنبه | DL32: * | DM32: * | DN32: * | DO32: * | DP32: * | DQ32: * | DR32: * | DS32: * | DT32: =BB32 -> 28 | DU32: =BC29 -> پنجشنبه | DV32: * | DW32: * | DX32: * | DY32: * | DZ32: * | EA32: * | EB32: * | EC32: * | ED32: * | EE32: * | EF32: * | EG32: * | EH32: * | EI32: * | EJ32: * | EK32: * | EL32: * | EM32: * | EN32: * | EO32: * | ET32: =BB32 -> 28 | EU32: =BC29 -> پنجشنبه | EV32: =TEXT(BD32,"هاشمی-") -> * | EW32: =TEXT(BE32,"هاشمی-") -> * | EX32: =TEXT(BF32,"چراغی-") -> * | EY32: =TEXT(BG32,"چراغي-") -> * | EZ32: =TEXT(BH32,"ولدمحمدي-") -> * | FA32: =TEXT(BI32,"ولدمحمدي-") -> * | FB32: =TEXT(BJ32,"رضايي-") -> * | FC32: =TEXT(BK32,"رضايي-") -> * | FD32: =TEXT(BL32,"پاشا-") -> * | FE32: =TEXT(BM32,"پاشا-") -> * | FF32: =TEXT(BN32,"علوی-") -> * | FG32: =TEXT(BO32,"علوی-") -> * | FH32: =TEXT(BP32,"عبدالهی-") -> * | FI32: =TEXT(BQ32,"عبدالهی-") -> * | FJ32: =TEXT(BR32,"حسینخانی-") -> * | FK32: =TEXT(BS32,"حسین خانی-") -> * | FL32: =TEXT(BT32,"م ا له بخش-") -> * | FM32: =TEXT(BU32,"م اله بخش-") -> * | FN32: =TEXT(BV32,"کبريايي-") -> * | FO32: =TEXT(BW32,"کبريايي-") -> * | FP32: =TEXT(BX32,"ميرکريمي-") -> * | FQ32: =TEXT(BY32,"ميرکريمي-") -> * | FR32: =TEXT(BZ32,"امیدی-") -> * | FS32: =TEXT(CA32,"امیدي - ") -> * | FT32: =TEXT(CB32,"مجلسي-") -> * | FU32: =TEXT(CC32,"مجلسي-") -> * | FV32: =TEXT(CD32,"گرجی - ") -> * | FW32: =TEXT(CE32,"گرجي-") -> * | FX32: =TEXT(CF32,"رضاحسيني-") -> * | FY32: =TEXT(CG32,"رضاحسيني-") -> * | FZ32: =TEXT(CH32,"حاجعلیپور-") -> * | GA32: =TEXT(CI32," حاجعلیپور-") -> * | GB32: =TEXT(CJ32,"قویدل-") -> * | GC32: =TEXT(CK32," قویدل-") -> * | GD32: =TEXT(CL32,"محمدي-") -> * | GE32: =TEXT(CM32,"محمدي-") -> * | GF32: =TEXT(CN32,"داداشي-") -> * | GG32: =TEXT(CO32,"داداشي-") -> * | GH32: =TEXT(CP32,"کاظميني - ") -> * | GI32: =TEXT(CQ32,"کاظميني -") -> * | GJ32: =TEXT(CR32,"بازرگان-") -> * | GK32: =TEXT(CS32,"بازرگان-") -> * | GL32: =TEXT(CT32,"نويد-") -> * | GM32: =TEXT(CU32,"نويد-") -> * | GN32: =TEXT(CV32,"طالبي-") -> * | GO32: =TEXT(CW32,"طالبي-") -> * | GP32: =TEXT(CX32,"بهشتي-") -> * | GQ32: =TEXT(CY32,"بهشتي-") -> * | GR32: =TEXT(CZ32,"علوی-") -> * | GS32: =TEXT(DA32,"علوی-") -> * | GT32: =TEXT(DB32,"اميدي-") -> * | GU32: =TEXT(DC32,"اميدي-") -> * | GV32: =TEXT(DD32,"م اله بخش-") -> * | GW32: =TEXT(DE32,"م اله بخش-") -> * | GX32: =TEXT(DF32,"عبدالهي-") -> * | GY32: =TEXT(DG32,"عبدالهي-") -> * | GZ32: =TEXT(DH32,"تاجبخش-") -> * | HA32: =TEXT(DI32,"تاجبخش-") -> * | HB32: =BB32 -> 28 | HC32: =BC29 -> پنجشنبه | HD32: =TEXT(DL32,"سلوکي - ") -> * | HE32: =TEXT(DM32,"سلوکي-") -> * | HF32: =TEXT(DN32,"برزنوني-") -> * | HG32: =TEXT(DO32," برزنونی-") -> * | HH32: =TEXT(DP32,"برزنونی-") -> * | HI32: =TEXT(DQ32,"برزنونی-") -> * | HJ32: =TEXT(DR32,"سالمی-") -> * | HK32: =TEXT(DS32,"سالمي-") -> * | HL32: =BB32 -> 28 | HM32: =BC29 -> پنجشنبه | HN32: =TEXT(DV32,"سالمی-") -> * | HO32: =TEXT(DW32,"سالمی-") -> * | HP32: =TEXT(DX32,"عبدالهی-") -> * | HQ32: =TEXT(DY32,"عبدالهی-") -> * | HR32: =TEXT(DZ32,"میرکریمی-") -> * | HS32: =TEXT(EA32,"میرکریمی-") -> * | HT32: =TEXT(EB32,"علوی-") -> * | HU32: =TEXT(EC32,"علوی-") -> * | HV32: =TEXT(ED32,"سلوکی-") -> * | HW32: =TEXT(EE32,"سلوکي-") -> * | HX32: =TEXT(EF32,"حسين خاني-") -> * | HY32: =TEXT(EG32,"حسين خاني-") -> * | HZ32: =TEXT(EH32,"علوي-") -> * | IA32: =TEXT(EI32,"علوي-") -> * | IB32: =TEXT(EJ32,"زارع زاده-") -> * | IC32: =TEXT(EK32,"زارع زاده-") -> * | ID32: =TEXT(EL32,"هاشمي-") -> * | IE32: =TEXT(EM32,"هاشمي-") -> * | IF32: =TEXT(EN32,"سلوکي- ") -> * | IG32: =TEXT(EO32,"سلوکي - ") -> * | RD32: =BB32 -> 28 | RE32: =BC29 -> پنجشنبه | RF32: صبح | RG32: =CONCATENATE(EV32,EX32,EZ32,FB32,FD32,FF32,FH32,FJ32,FL32,FN32,FP32,FR32,FT32,FV32,FX32,FZ32,GB32,GD32,GF32,GH32,GJ32,GL32,GN32,GP32,GR32,GT32,GV32,GX32,GZ32,HD32,HF32,HJ32) -> ******************************** | RI32: 28 | RJ32: =CONCATENATE(EW32,EY32,FA32,FC32,FE32,FG32,FI32,FK32,FM32,FO32,FQ32,FS32,FU32,FW32,FY32,GA32,GC32,GE32,GG32,GI32,GK32,GM32,GO32,GQ32,GS32,GU32,GW32,GY32,HA32,HE32,HG32,HK32) -> ******************************** | RL32: =BB32 -> 28 | RM32: =BC29 -> پنجشنبه | RN32: شب | RO32: =CONCATENATE(HN32,HP32,HR32,HT32,HV32,HX32,HZ32,IB32,ID32,IF32,HH32) -> *********** | RQ32: بامداد | RR32: =CONCATENATE(HO32,HQ32,HS32,HU32,HW32,HY32,IA32,IC32,IE32,IG32,HI32) -> ***********
A33: سردبیر عربی | B33: ولد محمدی | F33: عربي | G33: عصر | H33: پایش 1 / نشریات... | N33: تصویرحضور1/2/3/4 | S33: تصویری دور | AC33: خام عربی | AD33: =RJ8 -> ******************************** | BB33: 29 | BC33: دوشنبه | BD33: * | BE33: * | BF33: * | BG33: * | BH33: * | BI33: * | BJ33: * | BK33: * | BL33: * | BM33: * | BN33: * | BO33: * | BP33: * | BQ33: * | BR33: * | BS33: * | BT33: * | BU33: * | BV33: * | BW33: * | BX33: * | BY33: * | BZ33: * | CA33: * | CB33: * | CC33: * | CD33: * | CE33: * | CF33: * | CG33: * | CH33: * | CI33: * | CJ33: * | CK33: * | CL33: * | CM33: * | CN33: * | CO33: * | CP33: * | CQ33: * | CR33: * | CS33: * | CT33: * | CU33: * | CV33: * | CW33: * | CX33: * | CY33: * | CZ33: * | DA33: * | DB33: * | DC33: * | DD33: * | DE33: * | DF33: * | DG33: * | DH33: * | DI33: * | DJ33: =BB33 -> 29 | DK33: =BC30 -> جمعه | DL33: * | DM33: * | DN33: * | DO33: * | DP33: * | DQ33: * | DR33: * | DS33: * | DT33: =BB33 -> 29 | DU33: =BC30 -> جمعه | DV33: * | DW33: * | DX33: * | DY33: * | DZ33: * | EA33: * | EB33: * | EC33: * | ED33: * | EE33: * | EF33: * | EG33: * | EH33: * | EI33: * | EJ33: * | EK33: * | EL33: * | EM33: * | EN33: * | EO33: * | ET33: =BB33 -> 29 | EU33: =BC30 -> جمعه | EV33: =TEXT(BD33,"هاشمی-") -> * | EW33: =TEXT(BE33,"هاشمی-") -> * | EX33: =TEXT(BF33,"چراغی-") -> * | EY33: =TEXT(BG33,"چراغي-") -> * | EZ33: =TEXT(BH33,"ولدمحمدي-") -> * | FA33: =TEXT(BI33,"ولدمحمدي-") -> * | FB33: =TEXT(BJ33,"رضايي-") -> * | FC33: =TEXT(BK33,"رضايي-") -> * | FD33: =TEXT(BL33,"پاشا-") -> * | FE33: =TEXT(BM33,"پاشا-") -> * | FF33: =TEXT(BN33,"علوی-") -> * | FG33: =TEXT(BO33,"علوی-") -> * | FH33: =TEXT(BP33,"عبدالهی-") -> * | FI33: =TEXT(BQ33,"عبدالهی-") -> * | FJ33: =TEXT(BR33,"حسینخانی-") -> * | FK33: =TEXT(BS33,"حسین خانی-") -> * | FL33: =TEXT(BT33,"م ا له بخش-") -> * | FM33: =TEXT(BU33,"م اله بخش-") -> * | FN33: =TEXT(BV33,"کبريايي-") -> * | FO33: =TEXT(BW33,"کبريايي-") -> * | FP33: =TEXT(BX33,"ميرکريمي-") -> * | FQ33: =TEXT(BY33,"ميرکريمي-") -> * | FR33: =TEXT(BZ33,"امیدی-") -> * | FS33: =TEXT(CA33,"امیدي - ") -> * | FT33: =TEXT(CB33,"مجلسي-") -> * | FU33: =TEXT(CC33,"مجلسي-") -> * | FV33: =TEXT(CD33,"گرجی - ") -> * | FW33: =TEXT(CE33,"گرجي-") -> * | FX33: =TEXT(CF33,"رضاحسيني-") -> * | FY33: =TEXT(CG33,"رضاحسيني-") -> * | FZ33: =TEXT(CH33,"حاجعلیپور-") -> * | GA33: =TEXT(CI33," حاجعلیپور-") -> * | GB33: =TEXT(CJ33,"قویدل-") -> * | GC33: =TEXT(CK33," قویدل-") -> * | GD33: =TEXT(CL33,"محمدي-") -> * | GE33: =TEXT(CM33,"محمدي-") -> * | GF33: =TEXT(CN33,"داداشي-") -> * | GG33: =TEXT(CO33,"داداشي-") -> * | GH33: =TEXT(CP33,"کاظميني - ") -> * | GI33: =TEXT(CQ33,"کاظميني -") -> * | GJ33: =TEXT(CR33,"بازرگان-") -> * | GK33: =TEXT(CS33,"بازرگان-") -> * | GL33: =TEXT(CT33,"نويد-") -> * | GM33: =TEXT(CU33,"نويد-") -> * | GN33: =TEXT(CV33,"طالبي-") -> * | GO33: =TEXT(CW33,"طالبي-") -> * | GP33: =TEXT(CX33,"بهشتي-") -> * | GQ33: =TEXT(CY33,"بهشتي-") -> * | GR33: =TEXT(CZ33,"علوی-") -> * | GS33: =TEXT(DA33,"علوی-") -> * | GT33: =TEXT(DB33,"اميدي-") -> * | GU33: =TEXT(DC33,"اميدي-") -> * | GV33: =TEXT(DD33,"م اله بخش-") -> * | GW33: =TEXT(DE33,"م اله بخش-") -> * | GX33: =TEXT(DF33,"عبدالهي-") -> * | GY33: =TEXT(DG33,"عبدالهي-") -> * | GZ33: =TEXT(DH33,"تاجبخش-") -> * | HA33: =TEXT(DI33,"تاجبخش-") -> * | HB33: =BB33 -> 29 | HC33: =BC30 -> جمعه | HD33: =TEXT(DL33,"سلوکي - ") -> * | HE33: =TEXT(DM33,"سلوکي-") -> * | HF33: =TEXT(DN33,"برزنوني-") -> * | HG33: =TEXT(DO33," برزنونی-") -> * | HH33: =TEXT(DP33,"برزنونی-") -> * | HI33: =TEXT(DQ33,"برزنونی-") -> * | HJ33: =TEXT(DR33,"سالمی-") -> * | HK33: =TEXT(DS33,"سالمي-") -> * | HL33: =BB33 -> 29 | HM33: =BC30 -> جمعه | HN33: =TEXT(DV33,"سالمی-") -> * | HO33: =TEXT(DW33,"سالمی-") -> * | HP33: =TEXT(DX33,"عبدالهی-") -> * | HQ33: =TEXT(DY33,"عبدالهی-") -> * | HR33: =TEXT(DZ33,"میرکریمی-") -> * | HS33: =TEXT(EA33,"میرکریمی-") -> * | HT33: =TEXT(EB33,"علوی-") -> * | HU33: =TEXT(EC33,"علوی-") -> * | HV33: =TEXT(ED33,"سلوکی-") -> * | HW33: =TEXT(EE33,"سلوکي-") -> * | HX33: =TEXT(EF33,"حسين خاني-") -> * | HY33: =TEXT(EG33,"حسين خاني-") -> * | HZ33: =TEXT(EH33,"علوي-") -> * | IA33: =TEXT(EI33,"علوي-") -> * | IB33: =TEXT(EJ33,"زارع زاده-") -> * | IC33: =TEXT(EK33,"زارع زاده-") -> * | ID33: =TEXT(EL33,"هاشمي-") -> * | IE33: =TEXT(EM33,"هاشمي-") -> * | IF33: =TEXT(EN33,"سلوکي- ") -> * | IG33: =TEXT(EO33,"سلوکي - ") -> * | RD33: =BB33 -> 29 | RE33: =BC30 -> جمعه | RF33: صبح | RG33: =CONCATENATE(EV33,EX33,EZ33,FB33,FD33,FF33,FH33,FJ33,FL33,FN33,FP33,FR33,FT33,FV33,FX33,FZ33,GB33,GD33,GF33,GH33,GJ33,GL33,GN33,GP33,GR33,GT33,GV33,GX33,GZ33,HD33,HF33,HJ33) -> ******************************** | RI33: 29 | RJ33: =CONCATENATE(EW33,EY33,FA33,FC33,FE33,FG33,FI33,FK33,FM33,FO33,FQ33,FS33,FU33,FW33,FY33,GA33,GC33,GE33,GG33,GI33,GK33,GM33,GO33,GQ33,GS33,GU33,GW33,GY33,HA33,HE33,HG33,HK33) -> ******************************** | RL33: =BB33 -> 29 | RM33: =BC30 -> جمعه | RN33: شب | RO33: =CONCATENATE(HN33,HP33,HR33,HT33,HV33,HX33,HZ33,IB33,ID33,IF33,HH33) -> *********** | RQ33: بامداد | RR33: =CONCATENATE(HO33,HQ33,HS33,HU33,HW33,HY33,IA33,IC33,IE33,IG33,HI33) -> ***********
A34: مترجم همزمان و سردبیر فرانسه | B34: قربانی | F34: فرانسه و.. | G34: عصر | H34: شبکه های تصویری و نشریات فرانسه | N34: تصویری حضوری | P34: تصویری دور | V34: زبانهای دیگر | Y34: تدوین و دبیران | Z34: پیرویسی | AC34: خام فرانسه | AD34: =RI80 -> *فخرآور-*************** | AM34: تدوین و دوبیران | AN34: =RI116 -> ******************* | BB34: 30 | BC34: سه شنبه | BD34: * | BE34: * | BF34: * | BG34: * | BH34: * | BI34: * | BJ34: * | BK34: * | BL34: * | BM34: * | BN34: * | BO34: * | BP34: * | BQ34: * | BR34: * | BS34: * | BT34: * | BU34: * | BV34: * | BW34: * | BX34: * | BY34: * | BZ34: * | CA34: * | CB34: * | CC34: * | CD34: * | CE34: * | CF34: * | CG34: * | CH34: * | CI34: * | CJ34: * | CK34: * | CL34: * | CM34: * | CN34: * | CO34: * | CP34: * | CQ34: * | CR34: * | CS34: * | CT34: * | CU34: * | CV34: * | CW34: * | CX34: * | CY34: * | CZ34: * | DA34: * | DB34: * | DC34: * | DD34: * | DE34: * | DF34: * | DG34: * | DH34: * | DI34: * | DJ34: =BB34 -> 30 | DK34: =BC31 -> شنبه | DL34: * | DM34: * | DN34: * | DO34: * | DP34: * | DQ34: * | DR34: * | DS34: * | DT34: =BB34 -> 30 | DU34: =BC31 -> شنبه | DV34: * | DW34: * | DX34: * | DY34: * | DZ34: * | EA34: * | EB34: * | EC34: * | ED34: * | EE34: * | EF34: * | EG34: * | EH34: * | EI34: * | EJ34: * | EK34: * | EL34: * | EM34: * | EN34: * | EO34: * | ET34: =BB34 -> 30 | EU34: =BC31 -> شنبه | EV34: =TEXT(BD34,"هاشمی-") -> * | EW34: =TEXT(BE34,"هاشمی-") -> * | EX34: =TEXT(BF34,"چراغی-") -> * | EY34: =TEXT(BG34,"چراغي-") -> * | EZ34: =TEXT(BH34,"ولدمحمدي-") -> * | FA34: =TEXT(BI34,"ولدمحمدي-") -> * | FB34: =TEXT(BJ34,"رضايي-") -> * | FC34: =TEXT(BK34,"رضايي-") -> * | FD34: =TEXT(BL34,"پاشا-") -> * | FE34: =TEXT(BM34,"پاشا-") -> * | FF34: =TEXT(BN34,"علوی-") -> * | FG34: =TEXT(BO34,"علوی-") -> * | FH34: =TEXT(BP34,"عبدالهی-") -> * | FI34: =TEXT(BQ34,"عبدالهی-") -> * | FJ34: =TEXT(BR34,"حسینخانی-") -> * | FK34: =TEXT(BS34,"حسین خانی-") -> * | FL34: =TEXT(BT34,"م ا له بخش-") -> * | FM34: =TEXT(BU34,"م اله بخش-") -> * | FN34: =TEXT(BV34,"کبريايي-") -> * | FO34: =TEXT(BW34,"کبريايي-") -> * | FP34: =TEXT(BX34,"ميرکريمي-") -> * | FQ34: =TEXT(BY34,"ميرکريمي-") -> * | FR34: =TEXT(BZ34,"امیدی-") -> * | FS34: =TEXT(CA34,"امیدي - ") -> * | FT34: =TEXT(CB34,"مجلسي-") -> * | FU34: =TEXT(CC34,"مجلسي-") -> * | FV34: =TEXT(CD34,"گرجی - ") -> * | FW34: =TEXT(CE34,"گرجي-") -> * | FX34: =TEXT(CF34,"رضاحسيني-") -> * | FY34: =TEXT(CG34,"رضاحسيني-") -> * | FZ34: =TEXT(CH34,"حاجعلیپور-") -> * | GA34: =TEXT(CI34," حاجعلیپور-") -> * | GB34: =TEXT(CJ34,"قویدل-") -> * | GC34: =TEXT(CK34," قویدل-") -> * | GD34: =TEXT(CL34,"محمدي-") -> * | GE34: =TEXT(CM34,"محمدي-") -> * | GF34: =TEXT(CN34,"داداشي-") -> * | GG34: =TEXT(CO34,"داداشي-") -> * | GH34: =TEXT(CP34,"کاظميني - ") -> * | GI34: =TEXT(CQ34,"کاظميني -") -> * | GJ34: =TEXT(CR34,"بازرگان-") -> * | GK34: =TEXT(CS34,"بازرگان-") -> * | GL34: =TEXT(CT34,"نويد-") -> * | GM34: =TEXT(CU34,"نويد-") -> * | GN34: =TEXT(CV34,"طالبي-") -> * | GO34: =TEXT(CW34,"طالبي-") -> * | GP34: =TEXT(CX34,"بهشتي-") -> * | GQ34: =TEXT(CY34,"بهشتي-") -> * | GR34: =TEXT(CZ34,"علوی-") -> * | GS34: =TEXT(DA34,"علوی-") -> * | GT34: =TEXT(DB34,"اميدي-") -> * | GU34: =TEXT(DC34,"اميدي-") -> * | GV34: =TEXT(DD34,"م اله بخش-") -> * | GW34: =TEXT(DE34,"م اله بخش-") -> * | GX34: =TEXT(DF34,"عبدالهي-") -> * | GY34: =TEXT(DG34,"عبدالهي-") -> * | GZ34: =TEXT(DH34,"تاجبخش-") -> * | HA34: =TEXT(DI34,"تاجبخش-") -> * | HB34: =BB34 -> 30 | HC34: =BC31 -> شنبه | HD34: =TEXT(DL34,"سلوکي - ") -> * | HE34: =TEXT(DM34,"سلوکي-") -> * | HF34: =TEXT(DN34,"برزنوني-") -> * | HG34: =TEXT(DO34," برزنونی-") -> * | HH34: =TEXT(DP34,"برزنونی-") -> * | HI34: =TEXT(DQ34,"برزنونی-") -> * | HJ34: =TEXT(DR34,"سالمی-") -> * | HK34: =TEXT(DS34,"سالمي-") -> * | HL34: =BB34 -> 30 | HM34: =BC31 -> شنبه | HN34: =TEXT(DV34,"سالمی-") -> * | HO34: =TEXT(DW34,"سالمی-") -> * | HP34: =TEXT(DX34,"عبدالهی-") -> * | HQ34: =TEXT(DY34,"عبدالهی-") -> * | HR34: =TEXT(DZ34,"میرکریمی-") -> * | HS34: =TEXT(EA34,"میرکریمی-") -> * | HT34: =TEXT(EB34,"علوی-") -> * | HU34: =TEXT(EC34,"علوی-") -> * | HV34: =TEXT(ED34,"سلوکی-") -> * | HW34: =TEXT(EE34,"سلوکي-") -> * | HX34: =TEXT(EF34,"حسين خاني-") -> * | HY34: =TEXT(EG34,"حسين خاني-") -> * | HZ34: =TEXT(EH34,"علوي-") -> * | IA34: =TEXT(EI34,"علوي-") -> * | IB34: =TEXT(EJ34,"زارع زاده-") -> * | IC34: =TEXT(EK34,"زارع زاده-") -> * | ID34: =TEXT(EL34,"هاشمي-") -> * | IE34: =TEXT(EM34,"هاشمي-") -> * | IF34: =TEXT(EN34,"سلوکي- ") -> * | IG34: =TEXT(EO34,"سلوکي - ") -> * | RD34: =BB34 -> 30 | RE34: =BC31 -> شنبه | RF34: صبح | RG34: =CONCATENATE(EV34,EX34,EZ34,FB34,FD34,FF34,FH34,FJ34,FL34,FN34,FP34,FR34,FT34,FV34,FX34,FZ34,GB34,GD34,GF34,GH34,GJ34,GL34,GN34,GP34,GR34,GT34,GV34,GX34,GZ34,HD34,HF34,HJ34) -> ******************************** | RI34: 30 | RJ34: =CONCATENATE(EW34,EY34,FA34,FC34,FE34,FG34,FI34,FK34,FM34,FO34,FQ34,FS34,FU34,FW34,FY34,GA34,GC34,GE34,GG34,GI34,GK34,GM34,GO34,GQ34,GS34,GU34,GW34,GY34,HA34,HE34,HG34,HK34) -> ******************************** | RL34: =BB34 -> 30 | RM34: =BC31 -> شنبه | RN34: شب | RO34: =CONCATENATE(HN34,HP34,HR34,HT34,HV34,HX34,HZ34,IB34,ID34,IF34,HH34) -> *********** | RQ34: بامداد | RR34: =CONCATENATE(HO34,HQ34,HS34,HU34,HW34,HY34,IA34,IC34,IE34,IG34,HI34) -> ***********
A35: سردبیر | E35: انگليسي و | F35: شب و | G35: پايشگر (نشریات/ فضای مجازی و ... | K35: شات بدون لوگو (رویترز،ای پی تی ان و ...) | N35: بی بی سی و الجزیره انگلیسی | Q35: سی ان ان / پرس / راشا انگلیسی | T35: خبرگزاري ها و شبکه های تصویری فرانسه | X35: عربي میادین/مسیره /قدس/منار/جزيره مباشر/ عالم / اخباريه/روسيااليوم /اسکاي /عربيه/حدث/ جزيره | AC35: =RO44 -> ************************************جعفری- | BB35: 31 | BC35: چهارشنبه | BD35: * | BE35: * | BF35: * | BG35: * | BH35: * | BI35: * | BJ35: * | BK35: * | BL35: * | BM35: * | BN35: * | BO35: * | BP35: * | BQ35: * | BR35: * | BS35: * | BT35: * | BU35: * | BV35: * | BW35: * | BX35: * | BY35: * | BZ35: * | CA35: * | CB35: * | CC35: * | CD35: * | CE35: * | CF35: * | CG35: * | CH35: * | CI35: * | CJ35: * | CK35: * | CL35: * | CM35: * | CN35: * | CO35: * | CP35: * | CQ35: * | CR35: * | CS35: * | CT35: * | CU35: * | CV35: * | CW35: * | CX35: * | CY35: * | CZ35: * | DA35: * | DB35: * | DC35: * | DD35: * | DE35: * | DF35: * | DG35: * | DH35: * | DI35: * | DJ35: =BB35 -> 31 | DK35: =BC32 -> یکشنبه | DL35: * | DM35: * | DN35: * | DO35: * | DP35: * | DQ35: * | DR35: * | DS35: * | DT35: =BB35 -> 31 | DU35: =BC32 -> یکشنبه | DV35: * | DW35: * | DX35: * | DY35: * | DZ35: * | EA35: * | EB35: * | EC35: * | ED35: * | EE35: * | EF35: * | EG35: * | EH35: * | EI35: * | EJ35: * | EK35: * | EL35: * | EM35: * | EN35: * | EO35: * | ET35: =BB35 -> 31 | EU35: =BC32 -> یکشنبه | EV35: =TEXT(BD35,"هاشمی-") -> * | EW35: =TEXT(BE35,"هاشمی-") -> * | EX35: =TEXT(BF35,"چراغی-") -> * | EY35: =TEXT(BG35,"چراغي-") -> * | EZ35: =TEXT(BH35,"ولدمحمدي-") -> * | FA35: =TEXT(BI35,"ولدمحمدي-") -> * | FB35: =TEXT(BJ35,"رضايي-") -> * | FC35: =TEXT(BK35,"رضايي-") -> * | FD35: =TEXT(BL35,"پاشا-") -> * | FE35: =TEXT(BM35,"پاشا-") -> * | FF35: =TEXT(BN35,"علوی-") -> * | FG35: =TEXT(BO35,"علوی-") -> * | FH35: =TEXT(BP35,"عبدالهی-") -> * | FI35: =TEXT(BQ35,"عبدالهی-") -> * | FJ35: =TEXT(BR35,"حسینخانی-") -> * | FK35: =TEXT(BS35,"حسین خانی-") -> * | FL35: =TEXT(BT35,"م ا له بخش-") -> * | FM35: =TEXT(BU35,"م اله بخش-") -> * | FN35: =TEXT(BV35,"کبريايي-") -> * | FO35: =TEXT(BW35,"کبريايي-") -> * | FP35: =TEXT(BX35,"ميرکريمي-") -> * | FQ35: =TEXT(BY35,"ميرکريمي-") -> * | FR35: =TEXT(BZ35,"امیدی-") -> * | FS35: =TEXT(CA35,"امیدي - ") -> * | FT35: =TEXT(CB35,"مجلسي-") -> * | FU35: =TEXT(CC35,"مجلسي-") -> * | FV35: =TEXT(CD35,"گرجی - ") -> * | FW35: =TEXT(CE35,"گرجي-") -> * | FX35: =TEXT(CF35,"رضاحسيني-") -> * | FY35: =TEXT(CG35,"رضاحسيني-") -> * | FZ35: =TEXT(CH35,"حاجعلیپور-") -> * | GA35: =TEXT(CI35," حاجعلیپور-") -> * | GB35: =TEXT(CJ35,"قویدل-") -> * | GC35: =TEXT(CK35," قویدل-") -> * | GD35: =TEXT(CL35,"محمدي-") -> * | GE35: =TEXT(CM35,"محمدي-") -> * | GF35: =TEXT(CN35,"داداشي-") -> * | GG35: =TEXT(CO35,"داداشي-") -> * | GH35: =TEXT(CP35,"کاظميني - ") -> * | GI35: =TEXT(CQ35,"کاظميني -") -> * | GJ35: =TEXT(CR35,"بازرگان-") -> * | GK35: =TEXT(CS35,"بازرگان-") -> * | GL35: =TEXT(CT35,"نويد-") -> * | GM35: =TEXT(CU35,"نويد-") -> * | GN35: =TEXT(CV35,"طالبي-") -> * | GO35: =TEXT(CW35,"طالبي-") -> * | GP35: =TEXT(CX35,"بهشتي-") -> * | GQ35: =TEXT(CY35,"بهشتي-") -> * | GR35: =TEXT(CZ35,"علوی-") -> * | GS35: =TEXT(DA35,"علوی-") -> * | GT35: =TEXT(DB35,"اميدي-") -> * | GU35: =TEXT(DC35,"اميدي-") -> * | GV35: =TEXT(DD35,"م اله بخش-") -> * | GW35: =TEXT(DE35,"م اله بخش-") -> * | GX35: =TEXT(DF35,"عبدالهي-") -> * | GY35: =TEXT(DG35,"عبدالهي-") -> * | GZ35: =TEXT(DH35,"تاجبخش-") -> * | HA35: =TEXT(DI35,"تاجبخش-") -> * | HB35: =BB35 -> 31 | HC35: =BC32 -> یکشنبه | HD35: =TEXT(DL35,"سلوکي - ") -> * | HE35: =TEXT(DM35,"سلوکي-") -> * | HF35: =TEXT(DN35,"برزنوني-") -> * | HG35: =TEXT(DO35," برزنونی-") -> * | HH35: =TEXT(DP35,"برزنونی-") -> * | HI35: =TEXT(DQ35,"برزنونی-") -> * | HJ35: =TEXT(DR35,"سالمی-") -> * | HK35: =TEXT(DS35,"سالمي-") -> * | HL35: =BB35 -> 31 | HM35: =BC32 -> یکشنبه | HN35: =TEXT(DV35,"سالمی-") -> * | HO35: =TEXT(DW35,"سالمی-") -> * | HP35: =TEXT(DX35,"عبدالهی-") -> * | HQ35: =TEXT(DY35,"عبدالهی-") -> * | HR35: =TEXT(DZ35,"میرکریمی-") -> * | HS35: =TEXT(EA35,"میرکریمی-") -> * | HT35: =TEXT(EB35,"علوی-") -> * | HU35: =TEXT(EC35,"علوی-") -> * | HV35: =TEXT(ED35,"سلوکی-") -> * | HW35: =TEXT(EE35,"سلوکي-") -> * | HX35: =TEXT(EF35,"حسين خاني-") -> * | HY35: =TEXT(EG35,"حسين خاني-") -> * | HZ35: =TEXT(EH35,"علوي-") -> * | IA35: =TEXT(EI35,"علوي-") -> * | IB35: =TEXT(EJ35,"زارع زاده-") -> * | IC35: =TEXT(EK35,"زارع زاده-") -> * | ID35: =TEXT(EL35,"هاشمي-") -> * | IE35: =TEXT(EM35,"هاشمي-") -> * | IF35: =TEXT(EN35,"سلوکي- ") -> * | IG35: =TEXT(EO35,"سلوکي - ") -> * | RD35: =BB35 -> 31 | RE35: =BC32 -> یکشنبه | RF35: صبح | RG35: =CONCATENATE(EV35,EX35,EZ35,FB35,FD35,FF35,FH35,FJ35,FL35,FN35,FP35,FR35,FT35,FV35,FX35,FZ35,GB35,GD35,GF35,GH35,GJ35,GL35,GN35,GP35,GR35,GT35,GV35,GX35,GZ35,HD35,HF35,HJ35) -> ******************************** | RI35: 31 | RJ35: =CONCATENATE(EW35,EY35,FA35,FC35,FE35,FG35,FI35,FK35,FM35,FO35,FQ35,FS35,FU35,FW35,FY35,GA35,GC35,GE35,GG35,GI35,GK35,GM35,GO35,GQ35,GS35,GU35,GW35,GY35,HA35,HE35,HG35,HK35) -> ******************************** | RL35: =BB35 -> 31 | RM35: =BC32 -> یکشنبه | RN35: شب | RO35: =CONCATENATE(HN35,HP35,HR35,HT35,HV35,HX35,HZ35,IB35,ID35,IF35,HH35) -> *********** | RQ35: بامداد | RR35: =CONCATENATE(HO35,HQ35,HS35,HU35,HW35,HY35,IA35,IC35,IE35,IG35,HI35) -> ***********
A36: شب | E36: عربي فرانسه | F36: بامداد | AC36: =RO8 -> *********** | BB36: جمع | BC36: شيفت | BD36: =SUM(BD5:BD35) -> 0 | BE36: =SUM(BE5:BE35) -> 0 | BF36: =SUM(BF5:BF35) -> 0 | BG36: =SUM(BG5:BG35) -> 0 | BH36: =SUM(BH5:BH35) -> 0 | BI36: =SUM(BI5:BI35) -> 0 | BJ36: =SUM(BJ5:BJ35) -> 0 | BK36: =SUM(BK5:BK35) -> 0 | ... DI36: =SUM(DI5:DI35) -> 0 | DJ36: جمع | DK36: شيفت | DL36: =SUM(DL5:DL35) -> 0 | DM36: =SUM(DM5:DM35) -> 0 | DN36: =SUM(DN5:DN35) -> 0 | DO36: =SUM(DO5:DO35) -> 0 | DP36: =SUM(DP5:DP35) -> 0 | DQ36: =SUM(DQ5:DQ35) -> 0 | DR36: =SUM(DR5:DR35) -> 0 | DS36: =SUM(DS5:DS35) -> 0 | DT36: جمع | DU36: شيفت | DV36: =SUM(DV5:DV35) -> 0 | DW36: =SUM(DW5:DW35) -> 0 | DX36: =SUM(DX5:DX35) -> 0 | DY36: =SUM(DY5:DY35) -> 0 | DZ36: =SUM(DZ5:DZ35) -> 0 | EA36: =SUM(EA5:EA35) -> 0 | EB36: =SUM(EB5:EB35) -> 0 | EC36: =SUM(EC5:EC35) -> 0 | ... EO36: =SUM(EO5:EO35) -> 0 | ET36: جمع | EU36: شيفت | HB36: جمع | HC36: شيفت | HL36: جمع | HM36: شيفت | RD36: جمع | RE36: شيفت | RL36: جمع | RM36: شيفت
A37: یکشنبه | B37: بهمن 5 | C37: سردبیران | D37: کمکی | E37: سردبیر دورکار | F37: تحریریه ها | H37: 1 | I37: 2 | J37: 3 | K37: 4 | L37: 5 | M37: 6 | N37: حضوری | O37: حضوری | P37: حضوری | Q37: حضوری | S37: انگليسي صبح | X37: انگليسي عصر | AC37: عربی صبح | AG37: عربي عصر | AK37: فرانسه صبح | AO37: فرانسه عصر | AS37: زبانهاي دیگر | AV37: شب و نيمه شب
A38: سردبیر انگلیسی | B38: علیمردانی | F38: انگليسي | G38: صبح | H38: پایش مکتوب | K38: پایش تصویری | N38: تصویر حضور1 /2 | S38: تصویری دور | AC38: خام انگلیسی | AD38: =RG45 -> ********************************************************* | AS38: مشاهده کارويژه هاي شيفت روز | BB38: شيفت روز انگليسي شيفت روز انگليسي شيفت روز انگليسي شيفت روز انگليسي شيفت روز انگليسي شيفت روز انگليسي | GP38: شيفت شب انگليسي شيفت شب انگليسي شيفت شب انگليسي
A39: سردبیر عربی | B39: پاشا | F39: عربي | G39: صبح | H39: پایش 1 / نشریات... | N39: تصویرحضور1/2/3/4 | S39: تصویری دور | AC39: خام عربی | AD39: =RG9 -> ******************************** | AS39: ککارویژه انگلیسی : تصویر انگلیسی1:BBC-FR24- FOX- PRESS تصویر انگليسي2: CNN-CCTV-NHK-الجزيره انگليسي تصویر انگليسي3: REUTERS-AP – راشا – بلومبرگ- يورو نيوز تصویر انگليسي4: شات شبکه هاي بدون لوگو پايش مکتوب 1: 1- انديشکده ها 2- خبرهاي ايران 3- سايت رسمي کشورها 4-توئیت شخصیتهای مهم جهان پایش مکتوب 2 :1- تصوير گوناگون از تويتر و يوتيوپ و .. 3- نشريات انگليسي و آمريکايي غير ايران پایش تصاویر : 1 میز آمریکا- 2میز اروپا –3 میز آسیا کارویژه های عربی : تصویر عربي1 : عالم-مسيره-اخباريه سوريه-لولو-منار-قدس تصویر عربي2: ميادين-عربيه-جزيره و جزيره مباشر- حدث تصویر عربي3: روسيااليوم- اخباريه سعودي- عراقيه- تصویر عربي4:اسکاي عربي-BBC-فلسطين اليوم کارويژه پايش یک عربي: 1- پایگاه ها 2-روزنامه ها 3- اندیشکده ها 4- خبرگزاریها کارویژه پایش دوعربی: منابع تصویری ( پایگاه شبکه ها و یوتیوپ ) فضای مجازی( توئیتر و فیس بوک و اینستا گرام و ... ) کارويژه هاي فرانسه الف - کارویژه یک -شبکه ها تصويري (فرانس 24 – تي وي پنج- ب اف ام تي وي ) -شبکه هاي راديويي ( راديو بين المللي فرانسه- يوروپ 1- ) انديشکده ها و تصويري توئيتر- ب- کارويژه دو: - خبرگزاريها - اينترنت - انديشکده ها - توئيت ها | BB39: اسامي | BD39: نظرپور | BF39: حاج محمدی | BH39: شیرزاد | BJ39: ميرشاه ولد | BL39: جبرائیلی | BN39: تاریوردی | BP39: عجباری | BR39: فکور | BT39: خوشروزاده | BV39: جليلي | BX39: قاسم زاده | BZ39: علیمیرزایی | CB39: شهبازی | CD39: س حسيني | CF39: طلايي | CH39: احمدي | CJ39: حبيبي | CL39: مطير | CN39: کراري | CP39: هوشنگي | CR39: حسيني | CT39: رهبر | CV39: رهبر | CX39: متشکري | CZ39: اجوادی | DB39: اجوادی | DD39: معصوم زاده | DF39: معصوم زاده | DH39: سالکي | DJ39: سالکی | DL39: محمودي | DN39: محمودي | DP39: جلالي فر | DR39: جلالي فر | DT39: اسامي | DV39: خ جوادي | DZ39: خداپرست | EB39: زارع | ED39: زماني | EF39: حضرتي | EH39: عزيزپور | EJ39: یامی | EL39: یامی | EN39: جباری | EP39: بیدگلیان | ER39: حياتي | ET39: محمدپور | EV39: محمدپور | EX39: منفرد | EZ39: منفرد | FB39: جعفریا | FD39: جعفریا | FF39: قربانی | FH39: قربانی | FJ39: کرمی | FL39: کرمی | FN39: ناظریان | FP39: ناظریان | FR39: شریعت | FT39: شریعت | FV39: علیمردانی | FX39: علیمردانی | FZ39: محبوبی | GB39: محبوبی | GD39: زمانیا | GF39: زمانیا | GH39: عابدینی | GJ39: عابدینی | GP39: اسامي | GR39: شاهدپور | GT39: شاهدپور | GV39: حیدری | GX39: حیدری | HF39: زارع | HH39: لطفي | HJ39: لطفي | HL39: روزدار | HN39: روزدار | HP39: شايان | HR39: شايان | HT39: ميرزابيگي | ID39: علیمردان | IF39: علیمردان | IH39: اسامي | IJ39: نجفی | IL39: رفیعی | IN39: جعفری | JF39: اسامي | JH39: نظرپور | JJ39: حاج محمدی | JL39: شیرزاد | JN39: ميرشاه ولد | JP39: جبرائیلی | JR39: تاریوردی | JT39: عجباری | JV39: فکور | JX39: خوشروزاده | JZ39: جليلي | KB39: قاسم زاده | KD39: علیمیرزایی | KF39: شهبازی | KH39: س حسيني | KJ39: طلايي | KL39: احمدي | KN39: حبيبي | KP39: مطير | KR39: کراري | KT39: هوشنگي | KV39: حسيني | KX39: رهبر | KZ39: رهبر | LB39: متشکري | LD39: اجوادی | LF39: اجوادی | LH39: معصوم زاده | LJ39: معصوم زاده | LL39: سالکي | LN39: سالکی | LP39: محمودي | LR39: محمودي | LT39: جلالي فر | LV39: جلالي فر | LX39: خ جوادي | MB39: خداپرست | MD39: زارع | MF39: زماني | MH39: حضرتي | MJ39: عزيزپور | ML39: یامی | MN39: یامی | MP39: جباری | MR39: بیدگلیان | MT39: حياتي | MV39: محمدپور | MX39: محمدپور | MZ39: منفرد | NB39: منفرد | ND39: جعفریا | NF39: جعفریا | NH39: قربانی | NJ39: قربانی | NL39: کرمی | NN39: کرمی | NP39: ناظریان | NR39: ناظریان | NT39: شریعت | NV39: شریعت | NX39: علیمردانی | NZ39: علیمردانی | OB39: محبوبی | OD39: محبوبی | OF39: زمانیا | OH39: زمانیا | OJ39: عابدینی | OL39: عابدینی | OT39: شاهدپور | OV39: شاهدپور | OX39: حیدری | OZ39: حیدری | PJ39: زارع | PL39: لطفي | PN39: لطفي | PP39: روزدار | PR39: روزدار | PT39: شايان | PV39: شايان | PX39: ميرزابيگي | QH39: علیمردان | QJ39: علیمردان | QL39: اسامي | QN39: نجفی | QP39: رفیعی | QR39: جعفری
A40: مترجم همزمان و سردبیر فرانسه | B40: فخرآور | F40: فرانسه و.. | G40: صبح | H40: شبکه های تصویری و نشریات فرانسه | N40: تصویری حضوری | P40: تصویری دور | V40: زبانهای دیگر | Y40: تدوین و دبیران | Z40: ابراهیمی | AC40: خام فرانسه | AD40: =RG81 -> ***************** | AM40: تدوین و دوبیران | AN40: =RG117 -> ******************* | BB40: تاريخ | BC40: روز | BD40: صبح | BE40: عصر | BF40: صبح | BG40: عصر | BH40: صبح | BI40: عصر | BJ40: صبح | BK40: عصر | BL40: صبح | BM40: عصر | BN40: صبح | BO40: عصر | BP40: صبح | BQ40: عصر | BR40: صبح | BS40: عصر | BT40: صبح | BU40: عصر | BV40: صبح | BW40: عصر | BX40: صبح | BY40: عصر | BZ40: صبح | CA40: عصر | CB40: صبح | CC40: عصر | CD40: صبح | CE40: عصر | CF40: صبح | CG40: عصر | CH40: صبح | CI40: عصر | CJ40: صبح | CK40: عصر | CL40: صبح | CM40: عصر | CN40: صبح | CO40: عصر | CP40: صبح | CQ40: عصر | CR40: صبح | CS40: عصر | CT40: صبح | CU40: عصر | CV40: صبح | CW40: عصر | CX40: صبح | CY40: عصر | CZ40: صبح | DA40: عصر | DB40: شب | DC40: نیمه شب | DD40: صبح | DE40: عصر | DF40: شب | DG40: نیمه شب | DH40: صبح | DI40: عصر | DJ40: شب | DK40: نیمه شب | DL40: صبح | DM40: عصر | DN40: شب | DO40: نیمه شب | DP40: صبح | DQ40: عصر | DR40: شب | DS40: نیمه شب | DT40: تاريخ | DU40: روز | DV40: صبح | DW40: عصر | DX40: صبح | DY40: عصر | DZ40: صبح | EA40: عصر | EB40: صبح | EC40: عصر | ED40: صبح | EE40: عصر | EF40: صبح | EG40: عصر | EH40: صبح | EI40: عصر | EJ40: صبح | EK40: عصر | EL40: شب | EM40: بامداد | EN40: صبح | EO40: عصر | EP40: صبح | EQ40: عصر | ER40: صبح | ES40: عصر | ET40: صبح | EU40: عصر | EV40: شب | EW40: بامداد | EX40: صبح | EY40: عصر | EZ40: شب | FA40: بامداد | FB40: صبح | FC40: عصر | FD40: شب | FE40: بامداد | FF40: صبح | FG40: عصر | FH40: شب | FI40: بامداد | FJ40: صبح | FK40: عصر | FL40: شب | FM40: بامداد | FN40: صبح | FO40: عصر | FP40: شب | FQ40: بامداد | FR40: صبح | FS40: عصر | FT40: شب | FU40: بامداد | FV40: صبح | FW40: عصر | FX40: شب | FY40: بامداد | FZ40: صبح | GA40: عصر | GB40: شب | GC40: بامداد | GD40: صبح | GE40: عصر | GF40: شب | GG40: بامداد | GH40: صبح | GI40: عصر | GJ40: شب | GK40: بامداد | GL40: صبح | GM40: عصر | GN40: شب | GO40: بامداد | GP40: تاريخ | GQ40: روز | GR40: صبح | GS40: عصر | GT40: شب | GU40: نیمه شب | GV40: شب | GW40: نيمه شب | GX40: صبح | GY40: عصر | GZ40: شب | HA40: نیمه شب | HB40: شب | HC40: نيمه شب | HD40: شب | HE40: نيمه شب | HF40: شب | HG40: نيمه شب | HH40: صبح | HI40: عصر | HJ40: شب | HK40: نيمه شب | HL40: صبح | HM40: عصر | HN40: شب | HO40: نيمه شب | HP40: صبح | HQ40: عصر | HR40: شب | HS40: نيمه شب | HT40: شب | HU40: نيمه شب | HV40: شب | HW40: نيمه شب | HX40: شب | HY40: نيمه شب | HZ40: شب | IA40: نيمه شب | IB40: شب | IC40: نيمه شب | ID40: صبح | IE40: عصر | IF40: شب | IG40: نيمه شب | IH40: تاريخ | II40: روز | IJ40: شب | IK40: نيمه شب | IL40: شب | IM40: نيمه شب | IN40: شب | IO40: نيمه شب | IP40: شب | IQ40: نيمه شب | IR40: شب | IS40: نيمه شب | IT40: شب | IU40: نيمه شب | IV40: شب | IW40: نيمه شب | IX40: شب | IY40: نيمه شب | IZ40: شب | JA40: بامداد | JB40: شب | JC40: بامداد | JF40: تاريخ | JG40: روز | JH40: صبح | JI40: عصر | JJ40: صبح | JK40: عصر | JL40: صبح | JM40: عصر | JN40: صبح | JO40: عصر | JP40: صبح | JQ40: عصر | JR40: صبح | JS40: عصر | JT40: صبح | JU40: عصر | JV40: صبح | JW40: عصر | JX40: صبح | JY40: عصر | JZ40: صبح | KA40: عصر | KB40: صبح | KC40: عصر | KD40: صبح | KE40: عصر | KF40: صبح | KG40: عصر | KH40: صبح | KI40: عصر | KJ40: صبح | KK40: عصر | KL40: صبح | KM40: عصر | KN40: صبح | KO40: عصر | KP40: صبح | KQ40: عصر | KR40: صبح | KS40: عصر | KT40: صبح | KU40: عصر | KV40: صبح | KW40: عصر | KX40: صبح | KY40: عصر | KZ40: صبح | LA40: عصر | LB40: صبح | LC40: عصر | LD40: صبح | LE40: عصر | LF40: شب | LG40: نیمه شب | LH40: صبح | LI40: عصر | LJ40: صبح | LK40: عصر | LL40: صبح | LM40: عصر | LN40: شب | LO40: نیمه شب | LP40: صبح | LQ40: عصر | LR40: صبح | LS40: عصر | LT40: صبح | LU40: عصر | LV40: صبح | LW40: عصر | LX40: صبح | LY40: عصر | LZ40: صبح | MA40: عصر | MB40: صبح | MC40: عصر | MD40: صبح | ME40: عصر | MF40: صبح | MG40: عصر | MH40: صبح | MI40: عصر | MJ40: صبح | MK40: عصر | ML40: صبح | MM40: عصر | MN40: شب | MO40: بامداد | MP40: صبح | MQ40: عصر | MR40: صبح | MS40: عصر | MT40: صبح | MU40: عصر | MV40: صبح | MW40: عصر | MX40: شب | MY40: بامداد | MZ40: صبح | NA40: عصر | NB40: شب | NC40: بامداد | ND40: صبح | NE40: عصر | NF40: شب | NG40: بامداد | NH40: صبح | NI40: عصر | NJ40: شب | NK40: بامداد | NL40: صبح | NM40: عصر | NN40: شب | NO40: بامداد | NP40: صبح | NQ40: عصر | NR40: شب | NS40: بامداد | NT40: صبح | NU40: عصر | NV40: شب | NW40: بامداد | NX40: صبح | NY40: عصر | NZ40: شب | OA40: بامداد | OB40: صبح | OC40: عصر | OD40: شب | OE40: بامداد | OF40: صبح | OG40: عصر | OH40: شب | OI40: بامداد | OJ40: صبح | OK40: عصر | OL40: شب | OM40: بامداد | ON40: صبح | OO40: عصر | OP40: شب | OQ40: بامداد | OR40: تاريخ | OS40: روز | OT40: صبح | OU40: عصر | OV40: شب | OW40: بامداد | OX40: شب | OY40: بامداد | OZ40: صبح | PA40: عصر | PB40: شب | PC40: بامداد | PD40: شب | PE40: بامداد | PF40: شب | PG40: بامداد | PH40: شب | PI40: بامداد | PJ40: صبح | PK40: عصر | PL40: شب | PM40: بامداد | PN40: صبح | PO40: عصر | PP40: شب | PQ40: بامداد | PR40: صبح | PS40: عصر | PT40: شب | PU40: بامداد | PV40: شب | PW40: بامداد | PX40: شب | PY40: بامداد | PZ40: شب | QA40: بامداد | QB40: شب | QC40: بامداد | QD40: شب | QE40: بامداد | QF40: شب | QG40: بامداد | QH40: شب | QI40: بامداد | QJ40: شب | QK40: بامداد | QL40: شب | QM40: بامداد | QN40: شب | QO40: بامداد | QP40: شب | QQ40: بامداد | QR40: شب | QS40: بامداد | QT40: شب | QU40: بامداد | QV40: شب | QW40: بامداد | QX40: شب | QY40: بامداد | QZ40: شب | RA40: بامداد | RB40: بامداد | RD40: تاريخ | RE40: روز | RF40: مکتوب | RG40: مکتوب | RL40: تاريخ | RM40: روز
A41: سردبیر انگلیسی | B41: علیمیرزایی | F41: انگليسي | G41: عصر | H41: پایش مکتوب | K41: پایش تصویری | N41: تصویر حضور1 /2 | S41: تصویری دور | AC41: خام انگلیسی | AD41: =RJ45 -> ********************************************************* | BB41: 1 | BC41: =#REF! -> #REF! | BD41: * | BE41: * | BF41: 1 | BG41: * | BH41: * | BI41: * | BJ41: * | BK41: * | BL41: * | BM41: * | BN41: * | BO41: * | BP41: * | BQ41: * | BR41: * | BS41: * | BT41: * | BU41: * | BV41: * | BW41: * | BX41: * | BY41: * | BZ41: * | CA41: * | CB41: * | CC41: * | CD41: * | CE41: * | CF41: * | CG41: * | CH41: * | CI41: * | CJ41: * | CK41: * | CL41: * | CM41: * | CN41: * | CO41: * | CP41: * | CQ41: * | CR41: * | CS41: * | CT41: * | CU41: * | CV41: * | CW41: * | CX41: * | CY41: * | CZ41: * | DA41: * | DB41: * | DC41: * | DD41: * | DE41: * | DF41: * | DG41: * | DH41: * | DI41: * | DJ41: * | DK41: * | DL41: * | DM41: * | DN41: * | DO41: * | DP41: * | DQ41: * | DR41: * | DS41: * | DT41: * | DU41: * | DV41: * | DW41: * | DX41: * | DY41: * | DZ41: * | EA41: * | EB41: * | EC41: * | ED41: * | EE41: * | EF41: * | EG41: * | EH41: * | EI41: * | EJ41: * | EK41: * | EL41: * | EM41: * | EN41: * | EO41: * | EP41: * | EQ41: * | ER41: * | ES41: * | ET41: * | EU41: * | EV41: * | EW41: * | EX41: * | EY41: * | EZ41: * | FA41: * | FB41: * | FC41: * | FD41: * | FE41: * | FF41: * | FG41: * | FH41: * | FI41: * | FJ41: * | FK41: * | FL41: * | FM41: * | FN41: * | FO41: * | FP41: * | FQ41: * | FR41: * | FS41: * | FT41: * | FU41: * | FV41: * | FW41: * | FX41: * | FY41: * | FZ41: * | GA41: * | GB41: * | GC41: * | GD41: * | GE41: * | GF41: * | GG41: * | GH41: * | GI41: * | GJ41: * | GK41: * | GL41: * | GM41: * | GN41: * | GO41: * | GP41: * | GQ41: * | GR41: * | GS41: * | GT41: * | GU41: * | GV41: * | GW41: * | GX41: 1 | GY41: * | GZ41: * | HA41: * | HB41: * | HC41: * | HD41: * | HE41: * | HF41: * | HG41: * | HH41: * | HI41: * | HJ41: * | HK41: * | HL41: * | HM41: * | HN41: * | HO41: * | HP41: * | HQ41: * | HR41: * | HS41: * | HT41: * | HU41: * | HV41: * | HW41: * | HX41: * | HY41: * | HZ41: * | IA41: * | IB41: * | IC41: * | ID41: * | IE41: * | IF41: * | IG41: * | IH41: * | II41: * | IJ41: * | IK41: * | IL41: * | IM41: * | IN41: 1 | IO41: * | IP41: * | IQ41: * | IR41: * | IS41: * | IT41: * | IU41: * | IV41: * | IW41: * | IX41: * | IY41: * | IZ41: * | JA41: * | JF41: =BB5 -> 1 | JG41: =#REF! -> #REF! | JH41: =TEXT(BD41,"نظرپور - ") -> * | JI41: =TEXT(BE41,"نظرپور - ") -> * | JJ41: =TEXT(BF41,"حا ج محمدی- ") -> حا ج محمدی- | JK41: =TEXT(BG41,"حاج محمدی- ") -> * | JL41: =TEXT(BH41,"شیرزاد- ") -> * | JM41: =TEXT(BI41,"شیرزاد - ") -> * | JN41: =TEXT(BJ41,"ميرشاه ولد- ") -> * | JO41: =TEXT(BK41,"ميرشاه ولد- ") -> * | JP41: =TEXT(BL41,"جبرائیلی - ") -> * | JQ41: =TEXT(BM41,"جبرائیلی - ") -> * | JR41: =TEXT(BN41,"تاریوردی-") -> * | JS41: =TEXT(BO41,"تاریوردی-") -> * | JT41: =TEXT(BP41,"عجباری- ") -> * | JU41: =TEXT(BQ41,"عجباری-") -> * | JV41: =TEXT(BR41,"فکور- ") -> * | JW41: =TEXT(BS41,"فکور- ") -> * | JX41: =TEXT(BT41,"خوشروزاده- ") -> * | JY41: =TEXT(BU41,"خوشروزاده-") -> * | JZ41: =TEXT(BV41,"جليلي- ") -> * | KA41: =TEXT(BW41,"جليلي-") -> * | KB41: =TEXT(BX41,"قاسم زاده-") -> * | KC41: =TEXT(BY41,"قاسم زاده-") -> * | KD41: =TEXT(BZ41,"علیمیرزایی-") -> * | KE41: =TEXT(CA41,"علیمیرزایی-") -> * | KF41: =TEXT(CB41,"شهبازی-") -> * | KG41: =TEXT(CC41,"شهبازی -") -> * | KH41: =TEXT(CD41,"س حسینی - ") -> * | KI41: =TEXT(CE41,"س حسینی - ") -> * | KJ41: =TEXT(CF41,"طلایی- ") -> * | KK41: =TEXT(CG41,"طلایی- ") -> * | KL41: =TEXT(CH41,"احمدی-") -> * | KM41: =TEXT(CI41,"احمدی-") -> * | KN41: =TEXT(CJ41,"حبیبی - ") -> * | KO41: =TEXT(CK41,"حبیبی -") -> * | KP41: =TEXT(CL41,"مطیر- ") -> * | KQ41: =TEXT(CM41,"مطیر- ") -> * | KR41: =TEXT(CN41,"کراری - ") -> * | KS41: =TEXT(CO41,"کراری - ") -> * | KT41: =TEXT(CP41,"هوشنگی-") -> * | KU41: =TEXT(CQ41,"هوشنگی -") -> * | KV41: =TEXT(CR41,"حسینی-") -> * | KW41: =TEXT(CS41,"حسینی-") -> * | KX41: =TEXT(CT41,"رهبر-") -> * | KY41: =TEXT(CU41,"رهبر-") -> * | KZ41: =TEXT(CV41,"رهبر-") -> * | LA41: =TEXT(CW41,"رهبر-") -> * | LB41: =TEXT(CX41,"متنشکری-") -> * | LC41: =TEXT(CY41,"متنشکری-") -> * | LD41: =TEXT(CZ41,"آجوادی-") -> * | LE41: =TEXT(DA41,"آجوادی- ") -> * | LF41: =TEXT(DB41,"آجوادی-") -> * | LG41: =TEXT(DC41,"آجوادی-") -> * | LH41: =TEXT(DD41,"معصوم زاده -") -> * | LI41: =TEXT(DE41,"معصوم زاده -") -> * | LJ41: =TEXT(DF41,"معصوم زاده- ") -> * | LK41: =TEXT(DG41,"معصوم زاده-") -> * | LL41: =TEXT(DH41,"سالکی- ") -> * | LM41: =TEXT(DI41,"سالکی-") -> * | LN41: =TEXT(DJ41,"سالکی- ") -> * | LO41: =TEXT(DK41,"سالکی-") -> * | LP41: =TEXT(DL41,"محمودی-") -> * | LQ41: =TEXT(DM41,"محمودی-") -> * | LR41: =TEXT(DN41,"محمودی-") -> * | LS41: =TEXT(DO41,"محمودی-") -> * | LT41: =TEXT(DP41,"جلالیفر - ") -> * | LU41: =TEXT(DQ41,"جلالیفر - ") -> * | LV41: =TEXT(DR41,"جلالیفر - ") -> * | LW41: =TEXT(DS41,"جلالیفر - ") -> * | LX41: =TEXT(DV41,"خ جوادی -") -> * | LY41: =TEXT(DW41,"خ جوادی -") -> * | LZ41: =TEXT(DX41,"دشتی-") -> * | MA41: =TEXT(DY41,"دشتی- ") -> * | MB41: =TEXT(DZ41,"خداپرست-") -> * | MC41: =TEXT(EA41,"خداپرست - ") -> * | MD41: =TEXT(EB41,"زارع - ") -> * | ME41: =TEXT(EC41,"زارع- ") -> * | MF41: =TEXT(ED41,"مزماني- ") -> * | MG41: =TEXT(EE41,"مزماني- ") -> * | MH41: =TEXT(EF41,"حضرتي-") -> * | MI41: =TEXT(EG41,"حضرتي-") -> * | MJ41: =TEXT(EH41,"عزيزپور-") -> * | MK41: =TEXT(EI41,"عزيزپور-") -> * | ML41: =TEXT(EJ41,"یامی- ") -> * | MM41: =TEXT(EK41,"یامي-") -> * | MN41: =TEXT(EL41,"یامی-") -> * | MO41: =TEXT(EM41,"یامی-") -> * | MP41: =TEXT(EN41,"جباری-") -> * | MQ41: =TEXT(EO41,"جباری-") -> * | MR41: =TEXT(EP41,"بیدگلیان -") -> * | MS41: =TEXT(EQ41,"بیدگلیان- ") -> * | MT41: =TEXT(ER41,"حياتي-") -> * | MU41: =TEXT(ES41,"حياتي-") -> * | MV41: =TEXT(ET41,"محمدپور-") -> * | MW41: =TEXT(EU41,"محمدپور-") -> * | MX41: =TEXT(EV41,"محمدپور-") -> * | MY41: =TEXT(EW41,"محمدپور-") -> * | MZ41: =TEXT(EX41,"منفرد-") -> * | NA41: =TEXT(EY41,"منفرد-") -> * | NB41: =TEXT(EZ41,"منفرد-") -> * | NC41: =TEXT(FA41,"منفرد-") -> * | ND41: =TEXT(FB41,"جعفریا-") -> * | NE41: =TEXT(FC41,"جعفریا-") -> * | NF41: =TEXT(FD41,"جعفریا-") -> * | NG41: =TEXT(FE41,"جعفریا-") -> * | NH41: =TEXT(FF41,"قربانی-") -> * | NI41: =TEXT(FG41,"قربانی-") -> * | NJ41: =TEXT(FH41,"قربانی-") -> * | NK41: =TEXT(FI41,"قربانی-") -> * | NL41: =TEXT(FJ41,"کرمی-") -> * | NM41: =TEXT(FK41,"کرمی-") -> * | NN41: =TEXT(FL41,"کرمی-") -> * | NO41: =TEXT(FM41,"کرمی-") -> * | NP41: =TEXT(FN41,"ناظریان-") -> * | NQ41: =TEXT(FO41,"ناظریان-") -> * | NR41: =TEXT(FP41,"ناظریان-") -> * | NS41: =TEXT(FQ41,"ناظریان-") -> * | NT41: =TEXT(FR41,"شریعت-") -> * | NU41: =TEXT(FS41,"شریعت-") -> * | NV41: =TEXT(FT41,"شریعت-") -> * | NW41: =TEXT(FU41,"شریعت-") -> * | NX41: =TEXT(FV41,"علیمردانی-") -> * | NY41: =TEXT(FW41,"علیمردانی-") -> * | NZ41: =TEXT(FX41,"علیمردانی-") -> * | OA41: =TEXT(FY41,"علیمردانی-") -> * | OB41: =TEXT(FZ41,"محبوبی-") -> * | OC41: =TEXT(GA41,"محبوبی-") -> * | OD41: =TEXT(GB41,"محبوبی-") -> * | OE41: =TEXT(GC41,"محبوبی-") -> * | OF41: =TEXT(GD41,"زمانیا-") -> * | OG41: =TEXT(GE41,"زمانیا-") -> * | OH41: =TEXT(GF41,"زمانیا-") -> * | OI41: =TEXT(GG41,"زمانیا-") -> * | OJ41: =TEXT(GH41,"عابدینی-") -> * | OK41: =TEXT(GI41,"عابدینی-") -> * | OL41: =TEXT(GJ41,"عابدینی-") -> * | OM41: =TEXT(GK41,"عابدینی-") -> * | ON41: =TEXT(GL41,"عابدینی-") -> * | OO41: =TEXT(GM41,"عابدینی-") -> * | OP41: =TEXT(GN41,"عابدینی-") -> * | OQ41: =TEXT(GO41,"عابدینی-") -> * | OR41: =BB5 -> 1 | OS41: =#REF! -> #REF! | OT41: =TEXT(GR41,"شاهدپور- ") -> * | OU41: =TEXT(GS41,"شاهدپور- ") -> * | OV41: =TEXT(GT41,"شاهدپور- ") -> * | OW41: =TEXT(GU41,"شاهدپور- ") -> * | OX41: =TEXT(GV41,"حیدری-") -> * | OY41: =TEXT(GW41,"حیدری-") -> * | OZ41: =TEXT(GX41,"حیدری-") -> حیدری- | PA41: =TEXT(GY41,"حیدری-") -> * | PB41: =TEXT(GZ41,"جلالي فر-") -> * | PC41: =TEXT(HA41,"جلالي فر-") -> * | PD41: =TEXT(HB41,"زرگران-") -> * | PE41: =TEXT(HC41,"زرگران- ") -> * | PF41: =TEXT(HD41,"جوادي- ") -> * | PG41: =TEXT(HE41,"جوادي-") -> * | PH41: =TEXT(HF41,"زارع-") -> * | PI41: =TEXT(HG41,"زارع- ") -> * | PJ41: =TEXT(HH41,"لطفي-") -> * | PK41: =TEXT(HI41,"لطفي-") -> * | PL41: =TEXT(HJ41,"لطفي-") -> * | PM41: =TEXT(HK41,"لطفي-") -> * | PN41: =TEXT(HL41,"روزدار-") -> * | PO41: =TEXT(HM41,"روزدار-") -> * | PP41: =TEXT(HN41,"روزدار-") -> * | PQ41: =TEXT(HO41,"روزدار- ") -> * | PR41: =TEXT(HP41,"شایان- ") -> * | PS41: =TEXT(HQ41,"شایان-") -> * | PT41: =TEXT(HR41,"شايان-") -> * | PU41: =TEXT(HS41,"شايان-") -> * | PV41: =TEXT(HT41,"میرزابیگی-") -> * | PW41: =TEXT(HU41,"میرزابیگی-") -> * | PX41: =TEXT(HV41,"زمانیا-") -> * | PY41: =TEXT(HW41,"زمانیا-") -> * | PZ41: =TEXT(HX41,"سالکی-") -> * | QA41: =TEXT(HY41,"سالکی-") -> * | QB41: =TEXT(HZ41,"معصوم زاده-") -> * | QC41: =TEXT(IA41,"معصوم زاده-") -> * | QD41: =TEXT(IB41,"خوشروزاده-") -> * | QE41: =TEXT(IC41,"خوشروزاده-") -> * | QF41: =TEXT(ID41,"علیمردان-") -> * | QG41: =TEXT(IE41,"علیمردان-") -> * | QH41: =TEXT(IF41,"عليمردان-") -> * | QI41: =TEXT(IG41,"عليمردان-") -> * | QJ41: =TEXT(IJ41,"نجفی-") -> * | QK41: =TEXT(IK41,"نجفی-") -> * | QL41: =TEXT(IL41,"رفیعی -") -> * | QM41: =TEXT(IM41,"رفیعی-") -> * | QN41: =TEXT(IN41,"جعفری-") -> جعفری- | QO41: =TEXT(IO41,"جعفری-") -> * | QP41: =TEXT(IP41,"دشتي-") -> * | QQ41: =TEXT(IQ41,"دشتي-") -> * | QR41: =TEXT(IR41,"قاسملو-") -> * | QS41: =TEXT(IS41,"قاسملو-") -> * | QT41: =TEXT(IT41,"امیری-") -> * | QU41: =TEXT(IU41,"امیری-") -> * | QV41: =TEXT(IV41,"س حسینی-") -> * | QW41: =TEXT(IW41,"س حسینی-") -> * | QX41: =TEXT(IX41,"حسینی - ") -> * | QY41: =TEXT(IY41,"حسینی - ") -> * | QZ41: =TEXT(IZ41,"حياتي - ") -> * | RA41: =TEXT(JA41,"حياتي - ") -> * | RD41: =BB5 -> 1 | RE41: =#REF! -> #REF! | RF41: صبح | RG41: =CONCATENATE(JH41,JJ41,JL41,JN41,JP41,JR41,JT41,JV41,JX41,JZ41,KB41,KD41,KF41,KH41,KJ41,KL41,KN41,KP41,KR41,KT41,KV41,KX41,LB41,LD41,LH41,LL41,LP41,LT41,LX41,LZ41,MB41,MD41,MF41,MH41,MJ41,ML41,MP41,MR41,MT41,MV41,MZ41,ND41,NH41,NL41,NP41,NT41,NX41,OB41,OF41,OJ41,ON41,OT41,OZ41,PJ41,PN41,PR41,QF41) -> *حا ج محمدی- **************************************************حیدری-**** | RI41: 1 | RJ41: =CONCATENATE(JI41,JK41,JM41,JO41,JQ41,JS41,JU41,JW41,JY41,KA41,KC41,KE41,KG41,KI41,KK41,KM41,KO41,KQ41,KS41,KU41,KY41,LC41,LE41,LI41,LM41,LQ41,LU41,LY41,MA41,MC41,ME41,MG41,MI41,MK41,MM41,MO41,MQ41,MS41,MU41,MW41,NA41,NE41,NI41,NM41,NQ41,NU41,NY41,OC41,OG41,OK41,OO41,OU41,PA41,PK41,PO41,PS41,QG41) -> ********************************************************* | RL41: 1 | RM41: =BB5 -> 1 | RN41: =#REF! -> #REF! | RO41: =CONCATENATE(KZ41,LF41,LJ41,LN41,LR41,LV41,MN41,MX41,NB41,NF41,NJ41,NN41,NR41,NV41,NZ41,OD41,OH41,OL41,OP41,OV41,OX41,PB41,PD41,PF41,PH41,PL41,PP41,PT41,PV41,PX41,PZ41,QB41,QD41,QH41,QJ41,QL41,QN41) -> ************************************جعفری- | RQ41: بامداد | RR41: =CONCATENATE(LK41,OW41,OY41,PC41,PE41,PG41,PI41,PM41,PQ41,PU41,PW41,PY41,QA41,QC41,QE41,QI41,QK41,QM41,QO41,QQ41,QS41,QU41,QW41,QY41,RA41,MO41,MY41,NC41,NG41,NK41,NO41,NS41,NW41,OA41,OE41,OI41,OM41,OQ41) -> ************************************** | RV41: =RM41 -> 1 | RW41: =RN41 -> #REF! | RX41: =CONCATENATE(MX41,NB41,NF41,NN41,NR41,NV41,NZ41,OD41,OL41,OP41,OT41,OV41,OX41,OZ41,PB41,PD41,PF41,PH41,PL41,PN41,PP41,PR41,PT41,PV41,PX41,PZ41,QB41,QD41,QF41,QH41,QJ41,QL41,QN41,QP41,QR41,QT41,QV41,QX41,QZ41) -> *************حیدری-******************جعفری-****** | SA41: =CONCATENATE(OU41,OW41,OY41,PA41,PC41,PE41,PG41,PI41,PM41,PO41,PS41,PU41,PW41,PY41,QA41,QC41,QE41,QG41,QI41,QK41,QM41,QO41,QQ41,QS41,QU41,QW41,QY41,RA41,IE5,IA5,FM77,FO77,FY77,GA77,GC77) -> ***********************************
